Workbook
Name aaz: 'Manufacturer data'!$ZZ$1
Name Print_Area: Cover!$A$1:$E$52
Name Print_Area: Description1!$A$1:$BL$40
Name Print_Area: Description2!$A$1:$BL$41
Name Print_Area: General!$A$1:$BL$67
Name Print_Area: 'Manufacturer data'!$A$1:$BL$56
Name Print_Area: 'Measurements protection&test'!$A$1:$BL$36
Name Print_Area: 'Power Connection'!$A$1:$BL$35
Name Transformer: 'Power Connection'!$BN$21:$BN$22
Name zza: 'Manufacturer data'!$ZZ$1

Sheet Cover
A7: Exploration & Production
A20: DATA SHEET
A23: ELECTRICAL
A26: DS EP ELE 141
B30: POWER TRANSFORMER
B47: 5 | C47: 01/2012 | E47: General review
B48: Revision | C48: Date | E48: Notes
A51: Owner: EP/DEV/TEC | D51: Managing entity: EP/DEV/TEC/ELE

Sheet General
A1: Exploration & Production | K1: COMPANY
K2: PROJECT NAME | BN2: Outdoor
K3: DATA SHEET | BN3: Indoor
K4: =+Cover!B30 -> POWER TRANSFORMER
BA5: DSEPELE141-rev5 | BN5: C5-M
A6: Project Doc. number: | AF6: Contractor Doc N°: | BG6: Page | BH6: 1 | BJ6: / | BK6: 6 | BN6: C5-I
A7: Valid for : | AU7: Revision | BC7: Date | BN7: C4-I
A8: Revision | E8: Reason for issue | AF8: Date | AM8: By: | AU8: Checked by: | BC8: Approved by: | BN8: C3
BN9: C2
BN10: C1
BN12: No
BN13: Solar
A14: 1 | C14: rev | E14: GENERAL DATA | BN14: Flare
A16: 2 | E16: Tag number | AI16: Quantity: | BN16: Zone 2
BN17: Safe Area
A18: 3 | E18: Site | AI18: Location
BN19: On-shore
A20: 4 | E20: Material Requisition No: | AI20: Project Specifications: | BN20: Off-shore
A22: 5 | E22: Supplier Refn° : | AI22: Manufacturer Ref n°: | BN22: IIA
BN23: IIB
A24: 6 | E24: ENVIRONMENTAL CONDITIONS
BN25: T1
A26: 7 | E26: Installation : | AI26: Environment class of corrosion | BN26: T2
BN27: T3
A28: 8 | E28: Altitude (if>1000m) | AF28: m | AI28: Hazardous area classification: | BN28: T4
BN29: T5
A30: 9 | E30: Min. Ambient temperature: | AF30: °C | AI30: Explosion group | BA30: Temperature Class | BN30: T6
A32: 10 | E32: Max. Ambient temperature: | AF32: °C | AI32: Relative Humidity @Max operating temperature: | BJ32: % | BN32: 1
BN33: 2
A34: 11 | E34: Yearly average ambient temperature | AF34: °C | AI34: Relative Humidity @Min operating temperature: | BJ34: % | BN34: 3
BN35: 4
A36: 12 | E36: Monthlly average ambient temperature | AF36: °C | AI36: Exposed to Radiations: | BJ36: W/m²
BN37: Step-up
A38: 13 | E38: POWER SUPPLY SYSTEM | BN38: Step-down
A40: 14 | E40: Network rated Voltage : | AA40: kV | AI40: Network rated Frequency | BE40: Hz | BN40: Oil immersed- breathing
BN41: Oil immersed- Hermeticalyy sealed- Fully filled
A42: 15 | E42: Network Neutral system | AI42: Earth fault current limitation: | BF42: A | BK42: s
BN43: Dry type
A44: 16 | E44: Network 3 Phases Max. Fault Level: | AF44: kA | AI44: DC available Auxiliary Voltages: | BE44: V ± | BK44: %
BE45: V ± | BK45: %
A46: 17 | E46: AC available Auxiliary Voltages: | AA46: V ± | AG46: % | BN46: Vegetal oil
AA47: V ± | AG47: % | BN47: synthetic ester
A48: 18 | E48: PARTICULAR OPERATING CONDITIONS
BN49: Fresh water
A50: 19 | E50: Parallel operation | AI50: Rated power of largest DOL starting motor | BA50: kW | BE50: SC/FLD | BN50: Sea water
A52: 20 | E52: Total Harmonic distorsion THD | AF52: % | AI52: Ih | AK52: H5 | AP52: % | AR52: H7 | AW52: % | AY52: H11 | BD52: % | BF52: H13 | BK52: % | BN52: ITSN
BN53: ITAN
A54: 21 | E54: Cooling water network (for _FWF transformers) | AI54: Max water inlet temperature | AU54: °C | AX54: Operating pressure | BJ54: b | BN54: TT
BN55: TNS
A56: 22 | BN56: TNC
A58: 23 | BN58: Yes
BN59: No
A60: 24
A62: 25
A64: 26
A66: 27

Sheet Description1
A1: Exploration & Production | K1: =General!K1 -> COMPANY
K2: =General!K2 -> PROJECT NAME | BO2: Outdoor | BQ2: ONAN | BS2: +/- 2,5% ; +/- 5%
K3: =General!K3 -> DATA SHEET | BO3: Indoor | BQ3: ONAF
K4: =General!K4 -> POWER TRANSFORMER | BQ4: ONAN/ONAF
BA5: DSEPELE141-rev5 | BO5: C5-M | BQ5: KNAN | BS5: Primary side
A6: Project Doc. number: | AF6: Contractor Doc N°: | BG6: Page | BH6: =General!BH6+1 -> 2 | BJ6: / | BK6: 6 | BO6: C5-I | BQ6: KNAF | BS6: Pecondary side
A7: Valid for : | AU7: Revision | BC7: Date | BO7: C4-I | BQ7: KNAN/KNAF
A8: Supplier | AG8: Manufacturer: | BB8: Ref: | BO8: C3 | BQ8: OFAF | BS8: Off load manual
A9: 1 | C9: rev | E9: Item | T9: Required | AI9: Proposal | AX9: Comment | BO9: C2 | BQ9: OFWF | BS9: On Load (OLTC)
A10: 2 | E10: TECHNICAL CHARACTERISTICS | BO10: C1 | BQ10: KFWF
A11: 3 | E11: Rated Power | AE11: kVA | AU11: kVA | BQ11: ODAF | BS11: Dy 11
A12: 4 | E12: Rated Power secondary windings (if >2windings) | AE12: kVA | AU12: kVA | BO12: Solar | BQ12: KDAF | BS12: Yd 11
A13: 5 | E13: Vector Group | BO13: Flare | BQ13: AF | BS13: Yz 11
A14: 6 | E14: Voltage Impedance | AF14: % | AU14: % | BQ14: AN | BS14: Dd0
A15: 7 | E15: Transformer type | BO15: Zone 2 | BS15: Yy0
A16: 8 | E16: Dielectric fluid | BO16: Safe Area | BQ16: YES | BS16: Dz0
A17: 9 | E17: Cooling | BQ17: NO | BS17: Dy 1
A18: 10 | E18: Electrostatic screen | BO18: On-shore | BS18: Yd 1
A19: 11 | E19: Dry type insulation | T19: Primary | AI19: Primary | BO19: Off-shore | BQ19: Encapsulated | BS19: Yz1
A20: 12 | T20: Secondary | AI20: Secondary | BQ20: Impregnated | BS20: Dd 6
A21: 13 | E21: Windings | AI21: Primary | BO21: I | BS21: Yy 6
A22: 14 | AI22: Secondary | BO22: IIA | BQ22: Copper | BS22: Dz 6
A23: 15 | E23: PRIMARY SIDE CHARACTERISTICS | BO23: IIB | BQ23: Aluminium | BS23: Dd 10
A24: 16 | E24: Rated Voltage | AF24: kV | AU24: kV | BS24: Yy 10
A25: 17 | E25: Neutral point brought out | BO25: T1 | BQ25: Porcelain bushing | BS25: Dz 10
A26: 18 | E26: Power connection type | BO26: T2 | BQ26: Plug-in Connector | BS26: By manufacturer
A27: 19 | E27: Surge arresters on Primary side terminals | BO27: T3 | BQ27: Throughway bushing inside IP55 box
A28: 20 | E28: SECONDARY SIDE CHARACTERISTICS | BO28: T4 | BS28: Oil immersed- breathing
A29: 21 | E29: Rated Voltage | AF29: kV | AU29: kV | BO29: T5 | BS29: Oil immersed- Hermetically sealed- Fully filled
A30: 22 | E30: Neutral earthing system | BO30: T6 | BQ30: ITSN | BS30: Dry type
A31: 23 | E31: Fault current limitation | Y31: A / | AF31: s | BQ31: ITAN
A32: 24 | E32: Neutral point brought out | BO32: 1 | BQ32: TT
A33: 25 | E33: Surge arresters on secondary side neutral in terminal box | BO33: 2 | BQ33: TNS | BS33: Included
A34: 26 | E34: TAP CHANGER | BO34: 3 | BQ34: TNC | BS34: Not included
A35: 27 | E35: Tap changer type | BO35: 4
A36: 28 | E36: Tapped winding | BQ36: Mineral oil
A37: 29 | E37: Number of Taps/Tapping range | BO37: Step-up | BQ37: Vegetal oil
A38: 30 | E38: OLTC model | AX38: documentation to be provided | BO38: Step-down | BQ38: synthetic ester
A39: 31 | E39: OLTC Control relay | AX39: documentation to be provided
A40: 32 | E40: OLTC protective relay | AX40: documentation to be provided

Sheet Description2
A1: Exploration & Production | K1: =General!K1 -> COMPANY
K2: =General!K2 -> PROJECT NAME | BO2: +/- 2,5% ; +/- 5% | BQ2: N.A
K3: =General!K3 -> DATA SHEET | BQ3: YES
K4: =General!K4 -> POWER TRANSFORMER | BQ4: NO
BA5: DSEPELE141-rev5 | BO5: Primary side
A6: Project Doc. number: | AF6: Contractor Doc N°: | BG6: Page | BH6: =Description1!BH6+1 -> 3 | BJ6: / | BK6: 6 | BO6: Pecondary side | BQ6: N.A
A7: Valid for : | AU7: Revision | BC7: Date | BQ7: Included
A8: Supplier | AG8: Manufacturer: | BB8: Ref: | BO8: Off-load tap changer | BQ8: Not Included
A9: 1 | C9: rev | E9: Item | T9: Required | AI9: Proposal | AX9: Comment | BO9: On load tap changer
A10: 2 | E10: TANK - RADIATORS - CONSERVATOR | BQ10: N.A
A11: 3 | E11: Tank type | BO11: Primary | BQ11: YES, With rubberbag
A12: 4 | E12: Tank external coating | BO12: Secondary | BQ12: NO
A13: 5 | E13: Tank internal coating
A14: 6 | E14: Radiators coating | BO14: +/- 2,5% ; +/- 5% | BQ14: N.A
A15: 7 | E15: Radiators isolated by valves | BQ15: Hot dip galvanised
A16: 8 | E16: Drain and sampling valve with connector | BQ16: Zinc-silicate coating
A17: 9 | E17: Conservator | BO17: Corrugated tank without radiators | BQ17: 316L Stainless steel + paint
A18: 10 | E18: Dielectric level detector | BO18: Corrugated tank with radiators
A19: 11 | E19: Air dryer | BO19: Smooth tank with radiators | BQ19: Plate exchanger
A20: 12 | E20: Gaz detector isolating valves | BQ20: Tube
A21: 13 | E21: Filling valve
A22: 14 | E22: Pressure relief valve | BO22: None | BQ22: SS316L
A23: 15 | E23: Sealing of tank cover EEx"o" | BO23: plain | BQ23: Titanium
A24: 16 | E24: Tank isolated from earth | BO24: Plain, removable and adjustable
A25: 17 | E25: HEAT EXCHANGERS | BO25: flanged
A26: 18 | E26: Construction type | BO26: flanged - Removable
A27: 19 | E27: Material
A28: 20
A29: 21 | E29: ACCESSORIES
A30: 22 | E30: Earthing terminals | T30: YES | X30: Quantity: | AD30: 2
A31: 23 | E31: Key locking of tap changer and plug-in terminals
A32: 24 | E32: Rating plate SS316L
A33: 25 | E33: Lifting eye bolts
A34: 26 | E34: Lifting Jack pads
A35: 27 | E35: Travelling wheels
A36: 28 | E36: Provision for Fan mounting
A37: 29 | E37: Other
A38: 30
A39: 31
A40: 32
A41: 33

Sheet Measurements protection&test
A1: Exploration & Production | K1: =General!K1 -> COMPANY
K2: =General!K2 -> PROJECT NAME | BN2: On Load | BO2: NA
K3: =General!K3 -> DATA SHEET | BN3: Off load manual | BO3: YES
K4: =General!K4 -> POWER TRANSFORMER | BO4: YES, With rubberbag
BA5: DSEPELE141-rev5 | BN5: Primary | BO5: NO
A6: Project Doc. number: | AF6: Contractor Doc N°: | BG6: Page | BH6: =Description2!BH6+1 -> 4 | BJ6: / | BK6: 6 | BN6: Secondary
A7: Valid for : | AU7: Revision | BC7: Date | BO7: palin travelling wheels
A8: Supplier | AG8: Manufacturer: | BB8: Ref: | BN8: +/- 2,5% ; +/- 5% | BO8: Removable and adjustable plain wheels
A9: 1 | C9: rev | E9: Item | T9: Required | AI9: Proposal | AX9: Comment | BO9: flanged wheels
A10: 2 | E10: MEASUREMENTS AND PROTECTION | BO10: Removable flanged travelling wheels
A11: 3 | E11: Dial thermometer | X11: Quantity: | BN11: Corrugated tank without radiators
A12: 4 | E12: Pressure gauge | X12: Quantity: | BN12: Corrugated tank with radiators | BO12: As per IEC 60076
A13: 5 | E13: Buccholz 2 thresholds | BN13: Smooth tank with radiators
A14: 6 | E14: Thermostat 2 thresholds - with contacts NO/NC
A15: 7 | E15: Pressure switch 2 thresholds - with contacts NO/NC | BO15: Yes, on one transformer
A16: 8 | E16: Multifunction relay | BN16: N.A | BO16: Yes, on all transformers
A17: 9 | E17: Temperature probes RTD's | X17: Quantity: | BN17: Hot dip galvanised | BO17: No
A18: 10 | E18: Spare thermowell | X18: Quantity: | BN18: Zinc-silicate coating
A19: 11 | E19: OLTC relay | BN19: 316L Stainless steel + paint
A20: 12 | E20: Core balance CT
A21: 13 | E21: Supply of Intrisic Safety barriers | BN21: N.A
A22: 14 | BN22: YES
A23: 15 | BN23: NO
A24: 16 | E24: TESTS
A25: 17 | E25: FAT | BN25: N.A
A26: 18 | E26: SAT | BN26: Included
A27: 19 | E27: Routine tests | T27: As per IEC 60076 | BN27: Not Included
A28: 20 | E28: Temperature Riste test
A29: 21 | E29: Pressure/vacuum test certificate of the tank
A30: 22 | E30: Noise level measurement
A31: 23 | E31: Other tests
A32: 24
A33: 25
A34: 26
A35: 27
A36: 28

Sheet Power Connection
A1: Exploration & Production | K1: =General!K1 -> COMPANY
K2: =General!K2 -> PROJECT NAME
K3: =General!K3 -> DATA SHEET
K4: =General!K4 -> POWER TRANSFORMER | BN4: Three core cable
BA5: DSEPELE141-rev5 | BN5: Single core cable
A6: Project Doc. number: | AF6: Contractor Doc N°: | BG6: Page | BH6: ='Measurements protection&test'!BH6+1 -> 5 | BJ6: / | BK6: 6 | BN6: Bus duct
A7: Valid for : | AU7: Revision | BC7: Date | BN7: On Load
A8: Supplier | AG8: Manufacturer: | BB8: Ref: | BN8: Off load manual
A9: 1 | C9: rev | E9: Item | T9: Required | AI9: Item | AX9: Required | BE9: proposal
A10: 2 | E10: TRANSFORMER POWER CONNECTION PRIMARY SIDE | BN10: Cu
A11: 3 | E11: Connection | AI11: Type of cable | BN11: Al
A12: 4 | E12: Phase core cross section | AB12: mm² | AF12: Cu | AI12: core cross section (Neutral) | BF12: mm² | BJ12: Cu
A13: 5 | E13: Diameter on insulation (Phase) | AB13: mm | AI13: Diameter on insulation (Neutral) | BF13: mm | BN13: Porcelain bushing
A14: 6 | E14: Diameter on armour | AB14: mm | AI14: Diameter on armour (Neutral) | BF14: mm | BN14: For Plug-in Connector
A15: 7 | E15: Outer Diameter (Phase) | AB15: mm | AI15: Outer Diameter (Neutral) | BF15: mm | BN15: Throughway bushing inside IP55 box
A16: 8 | E16: Bushings | AI16: IP 55 box with cable glands
A17: 9 | E17: Plug in terminal type | AI17: Mobile part supplied
A18: 10 | BN18: NA
A19: 11 | BN19: YES
A20: 12 | BN20: NO
A21: 13 | E21: TRANSFORMER POWER CONNECTION SECONDARY SIDE
A22: 14 | E22: Connection | AI22: Type of cable | BN22: NA
A23: 15 | E23: Phase core cross section | AB23: mm² | AF23: Cu | AI23: core cross section (Neutral) | BF23: mm² | BJ23: Cu | BN23: Elbow
A24: 16 | E24: Diameter on insulation (Phase) | AB24: mm | AI24: Diameter on insulation (Neutral) | BF24: mm | BN24: Straight
A25: 17 | E25: Diameter on armour | AB25: mm | AI25: Diameter on armour (Neutral) | BF25: mm
A26: 18 | E26: Outer Diameter (Phase) | AB26: mm | AI26: Outer Diameter (Neutral) | BF26: mm | BN26: Included
A27: 19 | E27: Bushings | AI27: IP 55 box with cable glands | BN27: Not included
A28: 20 | E28: Plug in terminal type | AI28: Mobile part supplied
A29: 21
A30: 22
A31: 23
A32: 24
A33: 25
A34: 26
A35: 27

Sheet Manufacturer data
A1: Exploration & Production | K1: =General!K1 -> COMPANY
K2: =General!K2 -> PROJECT NAME | BN2: NA
K3: =General!K3 -> DATA SHEET | BN3: EEx"e"
K4: =General!K4 -> POWER TRANSFORMER | BN4: EEx"d"
BA5: DSEPELE141-rev5 | BN5: EEx"nA"
A6: Project Doc. number: | AF6: Contractor Doc N°: | BG6: Page | BH6: ='Power Connection'!BH6+1 -> 6 | BJ6: / | BK6: 6 | BN6: EEx"de"
A7: Valid for : | AU7: Revision | BC7: Date | BN7: EEx"ib"
A8: Supplier | AG8: Manufacturer: | BB8: Ref: | BN8: EEx"pz"
A9: 1 | C9: rev | E9: TRANSFORMER DATA (TO BE COMPLETED BY MANUFACTURER)
A10: 2 | E10: Joules losses at rated current | AP10: kW | BN10: NA
A11: 3 | E11: No load losses | AP11: kW | BN11: Soft water
A12: 4 | E12: Magnetic circuit | AI12: Induction level (Tesla) | BN12: sea water
A13: 5 | E13: Efficiency at PF=08 at load: | AI13: 4/4 | AR13: %
A14: 6 | AI14: 3/4 | AR14: % | BN14: Yes
A15: 7 | AI15: 2/4 | AR15: % | BN15: No
A16: 8 | AI16: 1/4 | AR16: %
A17: 9 | E17: Voltage drop at: PF=0,8 at load: | AI17: 4/4 | AR17: %
A18: 10 | AI18: 3/4 | AR18: %
A19: 11 | AI19: 2/4 | AR19: %
A20: 12 | AI20: 1/4 | AR20: %
A21: 13 | E21: Inrush current | AT21: Amperes
A22: 14 | E22: Guaranteed temperature rise at 100% load | AI22: Windings | AW22: K
A23: 15 | AI23: Dielectric | AW23: K
A24: 16 | E24: Mode of protection and Igress protection index of auxiliary devices | AI24: Thermostats | BC24: IP
A25: 17 | AI25: Pressure switches | BC25: IP
A26: 18 | AI26: Buccholz | BC26: IP
A27: 19 | AI27: Multifunction relays | BC27: IP
A28: 20 | AI28: Auxiliary junction boxes | BC28: IP
A29: 21 | AI29: Cooling Fans | BC29: IP
A30: 22 | AI30: Auxiliary panels | BC30: IP
A31: 23 | E31: Transformer with Forced air cooling (xxAF) | AI31: Number of fans
A32: 24 | AI32: Fan motor rating | BJ32: kW
A33: 25 | AI33: Maximum power in xxAF mode | BJ33: kVA
A34: 26 | AI34: Maximum power in xxAN mode | BJ34: kVA
A35: 27 | E35: Transformer with forced circulation of cooling water | AI35: Cooling water flowrate | BI35: m3/h
A36: 28 | AI36: Max Water inlet temp | BJ36: °C
A37: 29 | AI37: Max water outlet temp at 4/4 | BJ37: °C
A38: 30 | AI38: Max water outlet temp at 2/4 | BJ38: °C
A39: 31 | E39: Transformer with forced circulation of dielectric | AI39: Number of dielectric circ. pumps
A40: 32 | AI40: Circulation pumps motor rating | BJ40: kW
A41: 33 | E41: Weights | AI41: Total | BI41: kg
A42: 34 | AI42: Dielectric | BI42: kg
A43: 35 | AI43: Untanking | BI43: kg
A44: 36 | AI44: Radiators or exchangers | BI44: kg
A45: 37 | E45: Overall dimension | AI45: Length | AS45: mm
A46: 38 | AI46: Width | AS46: mm
A47: 39 | AI47: Height | AS47: mm
A48: 40 | E48: Painting | AI48: Conform to project specification:
A49: 41 | AI49: Manufacturer specifications:
A50: 42 | AI50: Rusting degree after 5 years Ri :
A51: 43 | E51: CE Marking / additional marking
A52: 44 | AI52: Certificate N°
A53: 45 | E53: List of Deviations to Project specifications / Additionnal information.
A54: 46
A55: 47
A56: 48

Sheet Feuil1
