Workbook
Name Print_Area: 'Global Synthesis'!$A$1:$K$66
Name Print_Area: Guidelines!$A$1:$K$48
Name Print_Area: 'Product Range'!$A$1:$I$68
Name Print_Area: 'Theme I'!$A$1:$L$138
Name Print_Area: 'Theme II'!$A$1:$L$92
Name Print_Area: 'Theme III'!$A$1:$L$158
Name Print_Area: 'Theme IV '!$A$1:$L$95
Name Print_Titles: 'Global Synthesis'!$1:$10
Name Print_Titles: Guidelines!$1:$2
Name Print_Titles: 'Product Range'!$1:$16
Name Print_Titles: 'Theme I'!$1:$13
Name Print_Titles: 'Theme II'!$1:$13
Name Print_Titles: 'Theme III'!$1:$13
Name Print_Titles: 'Theme IV '!$1:$13

Sheet Guidelines
B1: ='Global Synthesis'!B1:I2 -> Technical Information Analysis Form : Control Valves Manufacturer | J1: ='Global Synthesis'!J1:K1 -> GS EP INS 700 Appendix 1
J2: ='Global Synthesis'!J2:K2 -> Revision 00 Date : January 2012
A5: Quick guidelines to use this document : the objective of the following indications, are to the help user to fill the Technical Information Analysis Form.
A8: This document has to be sent to the manufacturer to start technical assessment process before any survey at manufacturer location.
A9: The manufacturer has to fill all information requested in all tables.
A11: 1) "Production Range" card :
A12: On this card, the manufacturer has to indicate all its production ranges submitted for approval.
A13: After technical assessment, Total or its representative, is able to indicate for which production ranges the manufacturer is finally approved.
A15: 2) "Theme I to Theme III" cards :
A16: The manufacturer has to fill all tables of each cards, in order to have a better understanding of its production capacities.
A17: After analysis of manufacturer answers, Total or its representative, can make comments, in blue column, for each manufacturer answers.
A19: 3) "Global Synthesis" cards :
A20: On this card all general information (name, address, contact of manufacturer, date of audit, assessment report n°, Total specifications linked,…)
A21: written will be automatically pasted in all the others cards.
... A27: In the last section, the signature of Total or its representative will be done, in order to validate the analysis result of this Form.

Sheet Global Synthesis
B1: Technical Information Analysis Form : Control Valves Manufacturer | J1: GS EP INS 700 Appendix 1
J2: Revision 00 Date : January 2012
A3: According Total specifications : GS EP INS 120, GS EP PVV 142, GS EP PVV 150 | G3: Assessment report N° : EP-TEC-INS-20xx-162-yy
A5: MANUFACTURER
A7: Manufacturer Name | D7: Activity and Process of Audited Workshop | K7: Audit Date
A8: xxx | D8: xxx | K8: xxx
A12: Manufacturer Head Office Address | D12: Manufacturer contacts (name, function, email, phone,…)
A13: xxx
A18: Name & Address of Audited Workshop
A19: xxx
A24: TOTAL OR REPRESENTATIVE COMPANY TEAM - TO BE FILLED BY TOTAL OR REPRESENTATIVE
A26: Total Project Concerned | D26: Total or Representative Responsible for Technical Information Analysis (Name, Function, Service)
A27: xxx
A33: Objectives of the Technical Information Analysis
A40: TECHNICAL INFORMATION ANALYSIS / TECHNICAL ASSESSMENT RESULT (FOR THE PRODUCTION RANGE CONSIDERED) - TO BE FILLED BY TOTAL OR REPRESENTATIVE
A42: Result of Information Analysis of GS EP INS 700 - Appendix 1, filled by the Manufacturer
D43: Yes / No | E43: Comments
A44: Level of information is appropriate
A45: On site Audit Requested
A47: Result of Technical Assessment of Manufacturer (to be filled if on site audit is not deemed necessary)
D48: Decision * | E48: Comments
A49: Satisfactory
A50: Reserves to close to be satisfactory
A51: Not satisfactory
A52: Notes : | B52: * : Tip when appropriate
A53: CONCLUSIONS OF TECHNICAL INFORMATION ANALYSIS / GENERAL COMMENTS
A62: SIGNATURE OF TOTAL OR REPRESENTATIVE TEAM
A63: NAME | C63: DATE | F63: NAME | H63: DATE

Sheet Product Range
B1: ='Global Synthesis'!B1:I2 -> Technical Information Analysis Form : Control Valves Manufacturer | H1: ='Global Synthesis'!J1 -> GS EP INS 700 Appendix 1
H2: ='Global Synthesis'!J2 -> Revision 00 Date : January 2012
A3: According Total specifications : GS EP INS 120, GS EP PVV 142, GS EP PVV 150 | G3: ='Global Synthesis'!G3:K3 -> Assessment report N° : EP-TEC-INS-20xx-162-yy
A5: ='Global Synthesis'!A5:K5 -> MANUFACTURER
A7: ='Global Synthesis'!A18:B18 -> Name & Address of Audited Workshop | D7: ='Global Synthesis'!D7:I7 -> Activity and Process of Audited Workshop | I7: ='Global Synthesis'!K7 -> Audit Date
A8: ='Global Synthesis'!A19 -> xxx | D8: ='Global Synthesis'!D8:I10 -> xxx | I8: ='Global Synthesis'!K8:K10 -> xxx
A12: ACTUAL PRODUCTION RANGE / APPROVED PRODUCTION RANGE OF THE MANUFACTURER
A13: To list all the actual production ranges of the manufacturer and select and comment the approved ones.
E15: To be completed by the manufacturer | H15: To be completed by Total or Company representative
A16: Type | B16: Code | C16: Designation as per GS EP INS 120 | E16: Maxi valves production/year (pieces) | F16: Actual maximum capacities * and base materials ** | H16: Approved maximum capacities * and base materials **
A17: Control Valves | B17: 1621-01-01 - Globe Valves - Single Seated Type
C18: Regular Service
C19: Cryogenic Service
C20: Lethal-Toxic Service
C21: Double ported
C22: 3-Way
B23: 1621-01-02 - Globe Valves - Cage Guided Type
C24: Regular Service
C25: Severe Service
C26: Cryogenic Service
C27: Lethal-Toxic Service
B28: 1621-01-03 - Butterfly Valves
C29: Regular Service
C30: Cryogenic Service
C31: Lethal-Toxic Service
B32: 1621-01-04 - Microflow Valves
C33: Microflow valves
B34: 1621-01-05 Segmented Ball Valves
C35: Regular Service
C36: Cryogenic Service
C37: Lethal-Toxic Service
B38: 1621-01-06 Eccentric Rotary Valves
C39: Eccentric Rotary Valves
B40: 1621-01-07 Special Valves Types
C41: Chemical Applications
C42: E&P Applications
B43: 1621-01-09 Axial Flow Valves
C44: Regular Service
C45: Severe Service
C46: Cryogenic Service
...

Sheet Theme I
D1: ='Global Synthesis'!B1 -> Technical Information Analysis Form : Control Valves Manufacturer | K1: ='Global Synthesis'!J1 -> GS EP INS 700 Appendix 1
K2: ='Global Synthesis'!J2 -> Revision 00 Date : January 2012
A3: According Total specifications : GS EP INS 120, GS EP PVV 142, GS EP PVV 150 | H3: ='Global Synthesis'!G3 -> Assessment report N° : EP-TEC-INS-20xx-162-yy
A5: ='Global Synthesis'!A5:K5 -> MANUFACTURER
A7: ='Global Synthesis'!A18:B18 -> Name & Address of Audited Workshop | E7: ='Global Synthesis'!D7 -> Activity and Process of Audited Workshop | K7: ='Global Synthesis'!K7 -> Audit Date
A8: ='Global Synthesis'!A19 -> xxx | E8: ='Global Synthesis'!D8 -> xxx | K8: ='Global Synthesis'!K8:K10 -> xxx
A12: THEME I - GENERAL ORGANIZATION
A13: All facilities described herein are meant to be permanent in-house facilities only. Any sub-contracted activity must be clearly indicated showing the names and addresses of related Subcontractors. The number, type and status of all listed equipment are subject to thorough checks by the COMPANY representative in charge of the Plant Survey during his visit of the facilities.
A14: Table 1.1 - General Organization - Surface area (Plot plan to be joined if available)
A15: Zone | D15: Surface area (m2) | F15: Description / Comments | I15: Comments To be filled by TOTAL or Company representative
A16: Overall
A17: Covered areas
A18: Offices
A19: Manufacturing workshops
A20: Laboratory
A21: Testing workshops
A22: Warehouses
A24: Table 1.2 - General Organization - Manufacturer Management : organization chart to join
A25: Position | D25: Names | F25: Comments | I25: Comments To be filled by TOTAL or Company representative
A26: Managing Director
A27: Sales Manager
A28: Plant Manager
A29: Production Manager
A30: Quality Assurance Manager
A31: Design/Engineering Manager
A32: Quality Control Manager
A33: Head of welding department
A34: HSE Manager
A35: Logistic Manager
A36: Others
A39: Table 1.3 - General Organization - Personnel
A40: Quality of Employees | D40: Staff Quantity (manufacturer's personnel) | E40: Contracted Personnel Quantity (personnel from external company which are working at the manufacturer) | F40: Average years of service (staff) | G40: Personnel qualication level (curriculum vitae) | I40: Comments To be filled by TOTAL or Company representative
A41: Commercial department
A42: Administration
A43: Project Management
A44: Engineering / R&D
A45: Production methodes office
A46: Procurement
A47: Expediting / Shipment
A48: Fabrication : qualified welders
...

Sheet Theme II
D1: ='Global Synthesis'!B1 -> Technical Information Analysis Form : Control Valves Manufacturer | K1: ='Global Synthesis'!J1 -> GS EP INS 700 Appendix 1
K2: ='Global Synthesis'!J2 -> Revision 00 Date : January 2012
A3: According Total specifications : GS EP INS 120, GS EP PVV 142, GS EP PVV 150 | H3: ='Global Synthesis'!G3 -> Assessment report N° : EP-TEC-INS-20xx-162-yy
A5: ='Global Synthesis'!A5:K5 -> MANUFACTURER
A7: ='Global Synthesis'!A18:B18 -> Name & Address of Audited Workshop | E7: ='Global Synthesis'!D7 -> Activity and Process of Audited Workshop | K7: ='Global Synthesis'!K7 -> Audit Date
A8: ='Global Synthesis'!A19 -> xxx | E8: ='Global Synthesis'!D8 -> xxx | K8: ='Global Synthesis'!K8:K10 -> xxx
A12: THEME II - ENGINEERING
A13: All facilities described herein are meant to be permanent in-house facilities only. Any sub-contracted activity must be clearly indicated showing the names and addresses of related Subcontractors. The number, type and status of all listed equipment are subject to thorough checks by the COMPANY representative in charge of the Plant Survey during his visit of the facilities.
A14: Table 2.1.a - Engineering / Design Capacity - Sub-contracting
C15: Yes / No | D15: Sub-contractor name (external company which are working for the manufacturer, but outside the manufacturer) | G15: Facilities of the sub-contractor (hardware, software, human resources,…) | J15: Comments To be filled by TOTAL or Company representative
A16: Design
A17: Drawing
A18: Calculation
A19: Validation
A21: Table 2.1.b - Engineering / Design Capacity - Construction codes used, availability and updating of codes and standards
A22: Code | D22: Date of Revision | F22: Description / Comments | I22: Comments To be filled by TOTAL or Company representative
A23: GS EP INS 120
A24: GS EP PVV referential
A25: GS EP COR 350
A26: IEC 60534-2-1 & 2-3
A27: IEC 60534-3-1 & 3-2
A28: IEC 60534-4
A29: IEC 60534-8-3 & 8-4
A30: ISO 15848-1
A31: ASME B16.10
A32: ASME V
A33: ASTM A352
A34: ASTM A703
... A48: Table 2.1.c - Engineering / Design Capacity - Calculation Facilities (Software for design calculation : finite element, thermal, flow, stress, hydrostatic, others…)
A49: Type of Design (refer to GS EP INS 120 ) | D49: Design Codes or GS referential | F49: Computer Programs | H49: Sub-contracted (if any) | J49: Comments To be filled by TOTAL or Company representative
A50: Cv sizing equations
A51: Cavitation factor
A52: Severe service
A53: Erosional / 2-phase flow
A54: Noise prediction
A55: Noise prediction
A56: Others (manuf. to complete)
A58: Table 2.1.d - Engineering / Design Capacity - Drawing Facilities
A59: Number of CAD Work Stations | C59: Computer Program Names | E59: Number of permanent Staff | F59: Staff Qualifications | H59: Sub-contracted (if any) | J59: Comments To be filled by TOTAL or Company representative
A63: Number of Drawing Boards | C63: Number of Permanent Staff | D63: Staff Qualifications | F63: Sub-contracted (if any) | H63: Comments | J63: Comments To be filled by TOTAL or Company representative
...

Sheet Theme III
D1: ='Global Synthesis'!B1 -> Technical Information Analysis Form : Control Valves Manufacturer | K1: ='Global Synthesis'!J1 -> GS EP INS 700 Appendix 1
K2: ='Global Synthesis'!J2 -> Revision 00 Date : January 2012
A3: According Total specifications : GS EP INS 120, GS EP PVV 142, GS EP PVV 150 | H3: ='Global Synthesis'!G3 -> Assessment report N° : EP-TEC-INS-20xx-162-yy
A5: ='Global Synthesis'!A5:K5 -> MANUFACTURER
A7: ='Global Synthesis'!A18:B18 -> Name & Address of Audited Workshop | E7: ='Global Synthesis'!D7 -> Activity and Process of Audited Workshop | K7: ='Global Synthesis'!K7 -> Audit Date
A8: ='Global Synthesis'!A19 -> xxx | E8: ='Global Synthesis'!D8 -> xxx | K8: ='Global Synthesis'!K8:K10 -> xxx
A12: THEME III - MANUFACTURING
A13: All facilities described herein are meant to be permanent in-house facilities only. Any sub-contracted activity must be clearly indicated showing the names and addresses of related Subcontractors. The number, type and status of all listed equipment are subject to thorough checks by the COMPANY representative in charge of the Plant Survey during his visit of the facilities.
A14: Table 3.1 - Workshop General Organization : Manufacturing, assembling and testing locations
A15: Activity | C15: Sub-contracted outside manufacturer workshop : YES / NO / PARTIAL (complete table 3.11) | D15: Plant name (list all possible plants for each valve model and components seperately) | F15: Plant address | H15: Comments | J15: Comments To be filled by TOTAL or Company representative
A16: Casting | D16: see table 3.2
A17: Forging | D17: see table 3.3
A18: Welding
A19: Machining
A20: Mat. inspection
A21: Mat. testing
A22: Funct. testing
A23: Assembling
A24: Pneu. actuator manufacturing
A25: Hydr. actuator manufacturing
A26: Positioner manufacturing
A27: Other control components
A28: Others
A30: Table 3.2 - Casting plants list and description
A31: Casting plant name (list all possible casting plants for each valve model and components seperately) | D31: Casting plant address | F31: Material (carbon, stainless steel, …) | H31: Sand or WAX casting | I31: Size range of casting | J31: Number of pieces / year | K31: Tonnage / year | L31: Number of furnaces
A41: Table 3.3 - Forging plants list and description
A42: Forging plant name (list all possible forging plants for each valve model and components seperately) | D42: Forging plant address | F42: Material (carbon, stainless steel, …) | H42: Size range of forging | I42: Number of pieces / year | J42: Tonnage / year | K42: Number of furnaces | L42: Number of press
A50: Table 3.4.a - Welding - Description of Welding Process in Place (permanent process only)
A51: Welding Process | C51: Manual | D51: Automatic | E51: ASME P-number | F51: Impact Test | G51: PWHT | H51: ASME IX | I51: ISO 15614 | J51: Other standard | K51: Comments To be filled by TOTAL or Company representative
A52: SMAW
A53: SAW
A54: GMAW
A55: GTAW
A56: FCAW
A57: Weld Overlay Processes
A59: Table 3.4.b - Welding - Description of Equipment in Place (permanent equipment only)
A60: Equipment | C60: Number | E60: Max Capacity (tons) | G60: General Maintenance Condition | I60: Comments | K60: Comments To be filled by TOTAL or Company representative
A61: Manual Welding Positioners
A62: Manual Shell Turning Rolls
A63: Others
...

Sheet Theme IV 
D1: ='Global Synthesis'!B1 -> Technical Information Analysis Form : Control Valves Manufacturer | K1: ='Global Synthesis'!J1 -> GS EP INS 700 Appendix 1
K2: ='Global Synthesis'!J2 -> Revision 00 Date : January 2012
A3: According Total specifications : GS EP INS 120, GS EP PVV 142, GS EP PVV 150 | H3: ='Global Synthesis'!G3 -> Assessment report N° : EP-TEC-INS-20xx-162-yy
A5: ='Global Synthesis'!A5:K5 -> MANUFACTURER
A7: ='Global Synthesis'!A18:B18 -> Name & Address of Audited Workshop | E7: ='Global Synthesis'!D7 -> Activity and Process of Audited Workshop | K7: ='Global Synthesis'!K7 -> Audit Date
A8: ='Global Synthesis'!A19 -> xxx | E8: ='Global Synthesis'!D8 -> xxx | K8: ='Global Synthesis'!K8:K10 -> xxx
A12: THEME IV - PRODUCTS MANAGEMENT (CONTROL, TESTING, INSPECTION, STORAGE)
A13: All facilities described herein are meant to be permanent in-house facilities only. Any sub-contracted activity must be clearly indicated showing the names and addresses of related Subcontractors. The number, type and status of all listed equipment are subject to thorough checks by the COMPANY representative in charge of the Plant Survey during his visit of the facilities.
A14: Table 4.1.a - In-coming Material Management - Material Storage
A15: Type of Storage | D15: Dimension | F15: Comments / Description (material stored,…) | I15: Comments To be filled by TOTAL or Company representative
A16: Covered storage yard
A17: Open storage yard
A18: Warehouse
A20: Table 4.1.b - In-coming Material Management - Storage Conditions
A21: Storage Conditions for : | E21: Description / Comments | I21: Comments To be filled by TOTAL or Company representative
A22: Small material
A23: Fragile material
A24: Welding consumables
A25: Dye penetrant products
A26: Gaskets
A27: Others
A29: Table 4.2.a - Inspection, Testing and Quality Control - Quality Control (Inspection) Organisation (attach an organization chart)
A30: Function or Qualification | D30: Staff (number/quantity of people) | F30: Contracted (number/quantity of people) | H30: Qualification level | I30: Qualification referential | K30: Comments To be filled by TOTAL or Company representative
A31: QC Manager
A32: Workshop inspector
A33: Radiographic Inspector
A34: Radiographic Operator
A35: UT Inspector
A36: MPI Inspector
A37: DP Inspector
A38: Others
A40: Table 4.2.b - Inspection, Testing and Quality Control - Non Destructive Testing and Control Equipment
A41: Type of Inspection | D41: Type of Equipment | F41: Number of Equipment | G41: Calibration of Equipment updated (yes/no) ? | H41: NDT procedures (availability, issuance, updating) | I41: Number of tests per year | J41: Sub-contracted testing : Yes / No / Partial ? | K41: Comments / Names of sub-contractor / Description of Capacity
A42: X-rays
A43: Gamma rays
A44: Ultrasonic Testing
A45: Magnetic particle
A46: Liquid penetrant
A47: Interpretation devices (densitometer, viewing facilities)
A48: Hardness
...
