Workbook
Name Print_Area: 'Global Synthesis'!$A$1:$K$66
Name Print_Area: Guidelines!$A$1:$K$48
Name Print_Area: 'Product Range'!$A$1:$I$68
Name Print_Area: 'Theme I'!$A$1:$L$138
Name Print_Area: 'Theme II'!$A$1:$L$92
Name Print_Area: 'Theme III'!$A$1:$L$158
Name Print_Area: 'Theme IV '!$A$1:$L$95
Name Print_Titles: 'Global Synthesis'!$1:$10
Name Print_Titles: Guidelines!$1:$2
Name Print_Titles: 'Product Range'!$1:$16
Name Print_Titles: 'Theme I'!$1:$13
Name Print_Titles: 'Theme II'!$1:$13
Name Print_Titles: 'Theme III'!$1:$13
Name Print_Titles: 'Theme IV '!$1:$13

Sheet Guidelines
B1: ='Global Synthesis'!B1:I2 -> Technical Information Analysis Form : Control Valves Manufacturer | J1: ='Global Synthesis'!J1:K1 -> GS EP INS 700 Appendix 1
J2: ='Global Synthesis'!J2:K2 -> Revision 00 Date : January 2012
A5: Quick guidelines to use this document : the objective of the following indications, are to the help user to fill the Technical Information Analysis Form.
A8: This document has to be sent to the manufacturer to start technical assessment process before any survey at manufacturer location.
A9: The manufacturer has to fill all information requested in all tables.
A11: 1) "Production Range" card :
A12: On this card, the manufacturer has to indicate all its production ranges submitted for approval.
A13: After technical assessment, Total or its representative, is able to indicate for which production ranges the manufacturer is finally approved.
A15: 2) "Theme I to Theme III" cards :
A16: The manufacturer has to fill all tables of each cards, in order to have a better understanding of its production capacities.
A17: After analysis of manufacturer answers, Total or its representative, can make comments, in blue column, for each manufacturer answers.
A19: 3) "Global Synthesis" cards :
A20: On this card all general information (name, address, contact of manufacturer, date of audit, assessment report n°, Total specifications linked,…)
A21: written will be automatically pasted in all the others cards.
... A27: In the last section, the signature of Total or its representative will be done, in order to validate the analysis result of this Form.

Sheet Global Synthesis
B1: Technical Information Analysis Form : Control Valves Manufacturer | J1: GS EP INS 700 Appendix 1
J2: Revision 00 Date : January 2012
A3: According Total specifications : GS EP INS 120, GS EP PVV 142, GS EP PVV 150 | G3: Assessment report N° : EP-TEC-INS-20xx-162-yy
A5: MANUFACTURER
A7: Manufacturer Name | D7: Activity and Process of Audited Workshop | K7: Audit Date
A8: xxx | D8: xxx | K8: xxx
A12: Manufacturer Head Office Address | D12: Manufacturer contacts (name, function, email, phone,…)
A13: xxx
A18: Name & Address of Audited Workshop
A19: xxx
A24: TOTAL OR REPRESENTATIVE COMPANY TEAM - TO BE FILLED BY TOTAL OR REPRESENTATIVE
A26: Total Project Concerned | D26: Total or Representative Responsible for Technical Information Analysis (Name, Function, Service)
A27: xxx
A33: Objectives of the Technical Information Analysis
A40: TECHNICAL INFORMATION ANALYSIS / TECHNICAL ASSESSMENT RESULT (FOR THE PRODUCTION RANGE CONSIDERED) - TO BE FILLED BY TOTAL OR REPRESENTATIVE
A42: Result of Information Analysis of GS EP INS 700 - Appendix 1, filled by the Manufacturer
D43: Yes / No | E43: Comments
A44: Level of information is appropriate
A45: On site Audit Requested
A47: Result of Technical Assessment of Manufacturer (to be filled if on site audit is not deemed necessary)
D48: Decision * | E48: Comments
A49: Satisfactory
A50: Reserves to close to be satisfactory
A51: Not satisfactory
A52: Notes : | B52: * : Tip when appropriate
A53: CONCLUSIONS OF TECHNICAL INFORMATION ANALYSIS / GENERAL COMMENTS
A62: SIGNATURE OF TOTAL OR REPRESENTATIVE TEAM
A63: NAME | C63: DATE | F63: NAME | H63: DATE

Sheet Product Range
B1: ='Global Synthesis'!B1:I2 -> Technical Information Analysis Form : Control Valves Manufacturer | H1: ='Global Synthesis'!J1 -> GS EP INS 700 Appendix 1
H2: ='Global Synthesis'!J2 -> Revision 00 Date : January 2012
A3: According Total specifications : GS EP INS 120, GS EP PVV 142, GS EP PVV 150 | G3: ='Global Synthesis'!G3:K3 -> Assessment report N° : EP-TEC-INS-20xx-162-yy
A5: ='Global Synthesis'!A5:K5 -> MANUFACTURER
A7: ='Global Synthesis'!A18:B18 -> Name & Address of Audited Workshop | D7: ='Global Synthesis'!D7:I7 -> Activity and Process of Audited Workshop | I7: ='Global Synthesis'!K7 -> Audit Date
A8: ='Global Synthesis'!A19 -> xxx | D8: ='Global Synthesis'!D8:I10 -> xxx | I8: ='Global Synthesis'!K8:K10 -> xxx
A12: ACTUAL PRODUCTION RANGE / APPROVED PRODUCTION RANGE OF THE MANUFACTURER
A13: To list all the actual production ranges of the manufacturer and select and comment the approved ones.
E15: To be completed by the manufacturer | H15: To be completed by Total or Company representative
A16: Type | B16: Code | C16: Designation as per GS EP INS 120 | E16: Maxi valves production/year (pieces) | F16: Actual maximum capacities * and base materials ** | H16: Approved maximum capacities * and base materials **
A17: Control Valves | B17: 1621-01-01 - Globe Valves - Single Seated Type
C18: Regular Service
C19: Cryogenic Service
C20: Lethal-Toxic Service
C21: Double ported
C22: 3-Way
B23: 1621-01-02 - Globe Valves - Cage Guided Type
C24: Regular Service
C25: Severe Service
C26: Cryogenic Service
C27: Lethal-Toxic Service
B28: 1621-01-03 - Butterfly Valves
C29: Regular Service
C30: Cryogenic Service
C31: Lethal-Toxic Service
B32: 1621-01-04 - Microflow Valves
C33: Microflow valves
B34: 1621-01-05 Segmented Ball Valves
C35: Regular Service
C36: Cryogenic Service
C37: Lethal-Toxic Service
B38: 1621-01-06 Eccentric Rotary Valves
C39: Eccentric Rotary Valves
B40: 1621-01-07 Special Valves Types
C41: Chemical Applications
C42: E&P Applications
B43: 1621-01-09 Axial Flow Valves
C44: Regular Service
C45: Severe Service
C46: Cryogenic Service
C47: Lethal-Toxic Service
A48: Choke Valves | B48: 1621-01-08 Choke Valves
C49: Angle Type
C50: Angle Type API-6A
C51: Axial Flow Type
C52: Axial Flow Type API-6A
A53: Self-Acting Pressure Regulators | B53: 1623 Self-Acting Pressure Regulators
B54: 1623-01 | C54: Direct Operated
B55: 1623-02 | C55: Pilot Operated
A56: Control & Accessories | B56: 1621-02 Positioners
B57: 1621-02-01 | C57: Electro-Pneumatic
B58: 1621-02-02 | C58: Pneumatic
B59: 1621-02-03 | C59: Filter regulator
B60: 1621-04 Control Valve Actuators (4-20 mA)
B61: 1621-04-01 | C61: Electric Type
B62: 1621-04-02 | C62: Hydraulic Type
A64: * Maximum Capacities to indicate : Maximum diameter per valve model and per pressure class, CV, weight. List all intended product series.
A65: ** Base Materials to consider : carbon steel, LT carbon steel, low-alloy steel, Cr-alloy steel, Ni-alloy steel, stainless steel, clad steel, Ni-alloys, Cu-alloys, Titanium, other materials,…

Sheet Theme I
D1: ='Global Synthesis'!B1 -> Technical Information Analysis Form : Control Valves Manufacturer | K1: ='Global Synthesis'!J1 -> GS EP INS 700 Appendix 1
K2: ='Global Synthesis'!J2 -> Revision 00 Date : January 2012
A3: According Total specifications : GS EP INS 120, GS EP PVV 142, GS EP PVV 150 | H3: ='Global Synthesis'!G3 -> Assessment report N° : EP-TEC-INS-20xx-162-yy
A5: ='Global Synthesis'!A5:K5 -> MANUFACTURER
A7: ='Global Synthesis'!A18:B18 -> Name & Address of Audited Workshop | E7: ='Global Synthesis'!D7 -> Activity and Process of Audited Workshop | K7: ='Global Synthesis'!K7 -> Audit Date
A8: ='Global Synthesis'!A19 -> xxx | E8: ='Global Synthesis'!D8 -> xxx | K8: ='Global Synthesis'!K8:K10 -> xxx
A12: THEME I - GENERAL ORGANIZATION
A13: All facilities described herein are meant to be permanent in-house facilities only. Any sub-contracted activity must be clearly indicated showing the names and addresses of related Subcontractors. The number, type and status of all listed equipment are subject to thorough checks by the COMPANY representative in charge of the Plant Survey during his visit of the facilities.
A14: Table 1.1 - General Organization - Surface area (Plot plan to be joined if available)
A15: Zone | D15: Surface area (m2) | F15: Description / Comments | I15: Comments To be filled by TOTAL or Company representative
A16: Overall
A17: Covered areas
A18: Offices
A19: Manufacturing workshops
A20: Laboratory
A21: Testing workshops
A22: Warehouses
A24: Table 1.2 - General Organization - Manufacturer Management : organization chart to join
A25: Position | D25: Names | F25: Comments | I25: Comments To be filled by TOTAL or Company representative
A26: Managing Director
A27: Sales Manager
A28: Plant Manager
A29: Production Manager
A30: Quality Assurance Manager
A31: Design/Engineering Manager
A32: Quality Control Manager
A33: Head of welding department
A34: HSE Manager
A35: Logistic Manager
A36: Others
A39: Table 1.3 - General Organization - Personnel
A40: Quality of Employees | D40: Staff Quantity (manufacturer's personnel) | E40: Contracted Personnel Quantity (personnel from external company which are working at the manufacturer) | F40: Average years of service (staff) | G40: Personnel qualication level (curriculum vitae) | I40: Comments To be filled by TOTAL or Company representative
A41: Commercial department
A42: Administration
A43: Project Management
A44: Engineering / R&D
A45: Production methodes office
A46: Procurement
A47: Expediting / Shipment
A48: Fabrication : qualified welders
A49: Fabrication : machining
A50: Fabrication : assembling
A51: Fabrication : testing
A52: Fabrication : painting
... A62: Table 1.4 - General Organization - Communication With Customer / Working Documents Language
C63: Language used with customer : YES / NO ? | E63: Which department team (engineering, commercial, production,…) and how many people are able to discuss in other language than mother tongue ? | H63: Documents (testing procedures, drawing, control procedures,…) available in which language ? | J63: Comments To be filled by TOTAL or Company representative
A64: English
A65: French
A66: Others
A68: Table 1.5 - General Organization - Work Load Status
A69: Items to check | E69: Comments / Description | I69: Comments To be filled by TOTAL or Company representative
A70: Ownership
A71: Annual turnover in M$ or M€ (3 previous year)
A72: Men hour capacity
A73: Work shift : normal, 2x8, 3x8
A74: Present and future work load (%)
A75: Future investment (tools, building, human resources,…)
A77: Table 1.6 - General Organization - References on similar jobs
A78: Year built | C78: Customer | D78: Country of installation | E78: Quantity of valves | F78: Design code | G78: Type of valves | H78: Material grade | I78: Diameter (inch) | J78: Rating | K78: Comments To be filled by TOTAL or Company representative
A88: Type of licences or patents | E88: Description / Comments | I88: Comments To be filled by TOTAL or Company representative
A93: Table 1.7 - General Organization - List of documents to be send by the Manufacturer, to Total, in English language, with all Tables filled out, before on-site technical review
A94: List of documents (refer to GS EP INS 120 for design, calculation, testing) | E94: Documents received : YES / NO ? | G94: Documents available in English language : YES / NO ? | I94: Comments To be filled by TOTAL or Company representative, incl. conformity/deviations from GS EP INS 120
A95: Plot plan, layout of the plant
A96: General organization chart
A97: Quality Control Organization Chart
A98: Process flow chart
A99: Manufacturing procedures
A100: Assembling procedures
A101: Products catalogue: valve series concerned
A102: Products catalogue: pneumatic actuators
A103: Products catalogue: hydraulic actuators
A104: Products catalogue: control accessories
A105: Design note: severe service
A106: Design note: cryogenic service
... A138: Example of audit report : audit made by customer manufacturer or audit made by manufacturer on its sub-suppliers

Sheet Theme II
D1: ='Global Synthesis'!B1 -> Technical Information Analysis Form : Control Valves Manufacturer | K1: ='Global Synthesis'!J1 -> GS EP INS 700 Appendix 1
K2: ='Global Synthesis'!J2 -> Revision 00 Date : January 2012
A3: According Total specifications : GS EP INS 120, GS EP PVV 142, GS EP PVV 150 | H3: ='Global Synthesis'!G3 -> Assessment report N° : EP-TEC-INS-20xx-162-yy
A5: ='Global Synthesis'!A5:K5 -> MANUFACTURER
A7: ='Global Synthesis'!A18:B18 -> Name & Address of Audited Workshop | E7: ='Global Synthesis'!D7 -> Activity and Process of Audited Workshop | K7: ='Global Synthesis'!K7 -> Audit Date
A8: ='Global Synthesis'!A19 -> xxx | E8: ='Global Synthesis'!D8 -> xxx | K8: ='Global Synthesis'!K8:K10 -> xxx
A12: THEME II - ENGINEERING
A13: All facilities described herein are meant to be permanent in-house facilities only. Any sub-contracted activity must be clearly indicated showing the names and addresses of related Subcontractors. The number, type and status of all listed equipment are subject to thorough checks by the COMPANY representative in charge of the Plant Survey during his visit of the facilities.
A14: Table 2.1.a - Engineering / Design Capacity - Sub-contracting
C15: Yes / No | D15: Sub-contractor name (external company which are working for the manufacturer, but outside the manufacturer) | G15: Facilities of the sub-contractor (hardware, software, human resources,…) | J15: Comments To be filled by TOTAL or Company representative
A16: Design
A17: Drawing
A18: Calculation
A19: Validation
A21: Table 2.1.b - Engineering / Design Capacity - Construction codes used, availability and updating of codes and standards
A22: Code | D22: Date of Revision | F22: Description / Comments | I22: Comments To be filled by TOTAL or Company representative
A23: GS EP INS 120
A24: GS EP PVV referential
A25: GS EP COR 350
A26: IEC 60534-2-1 & 2-3
A27: IEC 60534-3-1 & 3-2
A28: IEC 60534-4
A29: IEC 60534-8-3 & 8-4
A30: ISO 15848-1
A31: ASME B16.10
A32: ASME V
A33: ASTM A352
A34: ASTM A703
... A48: Table 2.1.c - Engineering / Design Capacity - Calculation Facilities (Software for design calculation : finite element, thermal, flow, stress, hydrostatic, others…)
A49: Type of Design (refer to GS EP INS 120 ) | D49: Design Codes or GS referential | F49: Computer Programs | H49: Sub-contracted (if any) | J49: Comments To be filled by TOTAL or Company representative
A50: Cv sizing equations
A51: Cavitation factor
A52: Severe service
A53: Erosional / 2-phase flow
A54: Noise prediction
A55: Noise prediction
A56: Others (manuf. to complete)
A58: Table 2.1.d - Engineering / Design Capacity - Drawing Facilities
A59: Number of CAD Work Stations | C59: Computer Program Names | E59: Number of permanent Staff | F59: Staff Qualifications | H59: Sub-contracted (if any) | J59: Comments To be filled by TOTAL or Company representative
A63: Number of Drawing Boards | C63: Number of Permanent Staff | D63: Staff Qualifications | F63: Sub-contracted (if any) | H63: Comments | J63: Comments To be filled by TOTAL or Company representative
A67: Table 2.3.a - Engineering & Design Validation Testing - Inhouse Design Validation Test Equipment
A68: Inhouse Test Equipment | D68: Medium | F68: Max. Valve Size per ANSI Class | H68: Max. Flowrate | J68: Comments To be filled by TOTAL or Company representative
A69: Flow Capacity Test Loop | D69: Air
D70: Gas
D71: Liquid
D72: Steam
D73: Two-Phase
A74: Test Bench for Regulators
A75: Liquid-filled Pit/Bath for Gas/Helium Press. Test | D75: Helium Gas
A76: Cryogenic Cold Box
A77: Test Bench for Fugitive Emissions | D77: Helium Gas
A79: Table 2.3.b - Engineering & Design Validation Testing - Design Validation Testing
A80: Type of Validation Test | D80: Validation Test by inhouse test facilities | G80: Validation Test by Accredited 3rd Party | J80: Comments To be filled by TOTAL or Company representative
A81: Cv validation test Regular Service Valves | D81: Date? | E81: * | G81: Date? | H81: * & **
A82: Cv validation test Severe Service Valves | D82: Date? | E82: * | G82: Date? | H82: * & **
A83: Cv validation test 3-Way Valves | D83: Date? | E83: * | G83: Date? | H83: * & **
A84: Validation test Cavitation/Flashing Service | D84: Date? | E84: * | G84: Date? | H84: * & **
A85: Pressure Regulator Flow Capacity / Setpoint | D85: Date? | E85: * | G85: Date? | H85: * & **
A86: Cryogenic test Stem Torque/Thrust | D86: Date? | E86: * | G86: Date? | H86: * & **
A87: Cryogenic test Seat leakage | D87: Date? | E87: * | G87: Date? | H87: * & **
A88: Validation test Fugitive Emissions | D88: Date? | E88: * | G88: Date? | H88: * & **
A89: Others
A90: * List all valve types and max. size/rating tested, and state clearly which trim model & Cv rating; attach all test report available
A91: ** State which 3rd party (laboratory) and attach all 3rd party test reports available

Sheet Theme III
D1: ='Global Synthesis'!B1 -> Technical Information Analysis Form : Control Valves Manufacturer | K1: ='Global Synthesis'!J1 -> GS EP INS 700 Appendix 1
K2: ='Global Synthesis'!J2 -> Revision 00 Date : January 2012
A3: According Total specifications : GS EP INS 120, GS EP PVV 142, GS EP PVV 150 | H3: ='Global Synthesis'!G3 -> Assessment report N° : EP-TEC-INS-20xx-162-yy
A5: ='Global Synthesis'!A5:K5 -> MANUFACTURER
A7: ='Global Synthesis'!A18:B18 -> Name & Address of Audited Workshop | E7: ='Global Synthesis'!D7 -> Activity and Process of Audited Workshop | K7: ='Global Synthesis'!K7 -> Audit Date
A8: ='Global Synthesis'!A19 -> xxx | E8: ='Global Synthesis'!D8 -> xxx | K8: ='Global Synthesis'!K8:K10 -> xxx
A12: THEME III - MANUFACTURING
A13: All facilities described herein are meant to be permanent in-house facilities only. Any sub-contracted activity must be clearly indicated showing the names and addresses of related Subcontractors. The number, type and status of all listed equipment are subject to thorough checks by the COMPANY representative in charge of the Plant Survey during his visit of the facilities.
A14: Table 3.1 - Workshop General Organization : Manufacturing, assembling and testing locations
A15: Activity | C15: Sub-contracted outside manufacturer workshop : YES / NO / PARTIAL (complete table 3.11) | D15: Plant name (list all possible plants for each valve model and components seperately) | F15: Plant address | H15: Comments | J15: Comments To be filled by TOTAL or Company representative
A16: Casting | D16: see table 3.2
A17: Forging | D17: see table 3.3
A18: Welding
A19: Machining
A20: Mat. inspection
A21: Mat. testing
A22: Funct. testing
A23: Assembling
A24: Pneu. actuator manufacturing
A25: Hydr. actuator manufacturing
A26: Positioner manufacturing
A27: Other control components
A28: Others
A30: Table 3.2 - Casting plants list and description
A31: Casting plant name (list all possible casting plants for each valve model and components seperately) | D31: Casting plant address | F31: Material (carbon, stainless steel, …) | H31: Sand or WAX casting | I31: Size range of casting | J31: Number of pieces / year | K31: Tonnage / year | L31: Number of furnaces
A41: Table 3.3 - Forging plants list and description
A42: Forging plant name (list all possible forging plants for each valve model and components seperately) | D42: Forging plant address | F42: Material (carbon, stainless steel, …) | H42: Size range of forging | I42: Number of pieces / year | J42: Tonnage / year | K42: Number of furnaces | L42: Number of press
A50: Table 3.4.a - Welding - Description of Welding Process in Place (permanent process only)
A51: Welding Process | C51: Manual | D51: Automatic | E51: ASME P-number | F51: Impact Test | G51: PWHT | H51: ASME IX | I51: ISO 15614 | J51: Other standard | K51: Comments To be filled by TOTAL or Company representative
A52: SMAW
A53: SAW
A54: GMAW
A55: GTAW
A56: FCAW
A57: Weld Overlay Processes
A59: Table 3.4.b - Welding - Description of Equipment in Place (permanent equipment only)
A60: Equipment | C60: Number | E60: Max Capacity (tons) | G60: General Maintenance Condition | I60: Comments | K60: Comments To be filled by TOTAL or Company representative
A61: Manual Welding Positioners
A62: Manual Shell Turning Rolls
A63: Others
A65: Table 3.4.c - Welding - Description of Qualified Welding Procedures in Place (by approximate numbers)
A66: Welding Process | C66: Manual | D66: Automatic | E66: Material P n° | F66: Impact Test | G66: PWHT | H66: ASME IX | I66: ISO 15614 | J66: Other standard | K66: Comments To be filled by TOTAL or Company representative
A67: SMAW
A68: SAW
A69: GMAW
A70: GTAW
A71: FCAW
A72: Weld Overlay Processes
A74: Table 3.4.d - Welding - Description of Welding Staff : numbers of welders qualified per welding process and material grade
A75: Welding Process | C75: ASME IX | D75: EN 287 | E75: Carbon Steel P1 | F75: Cr Alloyed steel P4/P5 | G75: Stainless steel P8 | H75: Duplex stainless steel P10 | I75: Ni Alloys (P43 to P45) | J75: Cu-Ni | K75: Ti | L75: Others
A76: SMAW
A77: SAW
A78: GMAW
A79: GTAW
A80: FCAW
A81: Others
A83: Table 3.4.e - Welding - Description of Welding Staff : number and qualifications (to be joined)
C84: Number | E84: Type of Qualification | G84: Comments | J84: Comments To be filled by TOTAL or Company representative
A85: Welding Engineer
A86: Welding Supervisor
A88: Table 3.5 - Heat Treating after Welding - Description of Equipment in Place
D89: Furnace n°1 | F89: Furnace n°2 | H89: Furnace n°3 | J89: Furnace n°4 | K89: Comments To be filled by TOTAL or Company representative
A90: Heating source (Fuel, Gas, Electric)
A91: Inside dimensions (Height x Width x Length) (m)
A92: Automatic control or manual
A93: Maximum number of thermocouples per charge
A94: Number of readings recorded per charge
A95: Method of loading
A96: Maximum temperature
A97: Maximum load at maximum temperature
A98: Cooling equipment
A100: Table 3.6 - Machining - Description of Equipment in Place
A101: Equipment | C101: Type / Number | E101: Max. Capacity | G101: General maintenance condition | I101: Comments | K101: Comments To be filled by TOTAL or Company representative
A102: Boring Mills
A103: Milling
A104: Lathes
A105: Drilling machines
A106: Lapping machines
A107: Others
A109: Table 3.7 - Assembling - Description of Equipment in Place
A110: Equipment | C110: Type / Number | E110: Max. Capacity | G110: General maintenance condition | I110: Description / Comments | K110: Comments To be filled by TOTAL or Company representative
A111: Handling
A112: Pneumatic screwing machine
A113: Dynamometric keys
A114: Working desks
A115: Others
A118: Table 3.8 - Pickling / Passivation - Description of Equipment in Place
C119: Type | E119: Characteristics | G119: Description / Comments | J119: Comments To be filled by TOTAL or Company representative
A120: Pickling | C120: chemical
A121: Pickling | C121: mechanical
A122: Passivation
A123: Recycling
A124: Waste treatment
A126: Table 3.9 - Testing Facilities
A127: Test type | C127: Test sub-contracted outside manufacturer workshop : YES / NO / PARTIAL | D127: Fluid Medium | E127: Range of diameter | F127: Max Pressure (bars) or Max Flow (Nm3/hr) | G127: Quantity of valves tested by hour by bench | H127: Water supply with a controlled chloride content ? If yes, indicate the maximum chloride content | I127: Number of test bench | J127: Comments / Description (% of sub-contracted tests, test description,…)
A128: Hydrostatic pressure test
A129: Helium pressure test
A130: Vacuum pressure test
A131: Seat leakage test
A132: Regulator setpoint test
...

Sheet Theme IV 
D1: ='Global Synthesis'!B1 -> Technical Information Analysis Form : Control Valves Manufacturer | K1: ='Global Synthesis'!J1 -> GS EP INS 700 Appendix 1
K2: ='Global Synthesis'!J2 -> Revision 00 Date : January 2012
A3: According Total specifications : GS EP INS 120, GS EP PVV 142, GS EP PVV 150 | H3: ='Global Synthesis'!G3 -> Assessment report N° : EP-TEC-INS-20xx-162-yy
A5: ='Global Synthesis'!A5:K5 -> MANUFACTURER
A7: ='Global Synthesis'!A18:B18 -> Name & Address of Audited Workshop | E7: ='Global Synthesis'!D7 -> Activity and Process of Audited Workshop | K7: ='Global Synthesis'!K7 -> Audit Date
A8: ='Global Synthesis'!A19 -> xxx | E8: ='Global Synthesis'!D8 -> xxx | K8: ='Global Synthesis'!K8:K10 -> xxx
A12: THEME IV - PRODUCTS MANAGEMENT (CONTROL, TESTING, INSPECTION, STORAGE)
A13: All facilities described herein are meant to be permanent in-house facilities only. Any sub-contracted activity must be clearly indicated showing the names and addresses of related Subcontractors. The number, type and status of all listed equipment are subject to thorough checks by the COMPANY representative in charge of the Plant Survey during his visit of the facilities.
A14: Table 4.1.a - In-coming Material Management - Material Storage
A15: Type of Storage | D15: Dimension | F15: Comments / Description (material stored,…) | I15: Comments To be filled by TOTAL or Company representative
A16: Covered storage yard
A17: Open storage yard
A18: Warehouse
A20: Table 4.1.b - In-coming Material Management - Storage Conditions
A21: Storage Conditions for : | E21: Description / Comments | I21: Comments To be filled by TOTAL or Company representative
A22: Small material
A23: Fragile material
A24: Welding consumables
A25: Dye penetrant products
A26: Gaskets
A27: Others
A29: Table 4.2.a - Inspection, Testing and Quality Control - Quality Control (Inspection) Organisation (attach an organization chart)
A30: Function or Qualification | D30: Staff (number/quantity of people) | F30: Contracted (number/quantity of people) | H30: Qualification level | I30: Qualification referential | K30: Comments To be filled by TOTAL or Company representative
A31: QC Manager
A32: Workshop inspector
A33: Radiographic Inspector
A34: Radiographic Operator
A35: UT Inspector
A36: MPI Inspector
A37: DP Inspector
A38: Others
A40: Table 4.2.b - Inspection, Testing and Quality Control - Non Destructive Testing and Control Equipment
A41: Type of Inspection | D41: Type of Equipment | F41: Number of Equipment | G41: Calibration of Equipment updated (yes/no) ? | H41: NDT procedures (availability, issuance, updating) | I41: Number of tests per year | J41: Sub-contracted testing : Yes / No / Partial ? | K41: Comments / Names of sub-contractor / Description of Capacity
A42: X-rays
A43: Gamma rays
A44: Ultrasonic Testing
A45: Magnetic particle
A46: Liquid penetrant
A47: Interpretation devices (densitometer, viewing facilities)
A48: Hardness
A49: Ferrite tester
A50: PMI
A51: Leak test (helium,…)
A52: Spectrometer
A53: Dimensional control devices (control gage)
... A56: Table 4.2.c - Inspection, Testing and Quality Control - Destructive Testing Equipment
A57: Type of Inspection | D57: Type of Equipment | F57: Number of Equipment | G57: Calibration of Equipment updated (yes/no) ? | H57: DT procedures (availability, issuance, updating) | I57: Number of tests per year | J57: Sub-contracted testing : Yes / No / Partial ? | K57: Comments / Description of Capacity
A58: Tensile Testing
A59: Bending Facilities
A60: Impact Testing (Charpy V Notch,…)
A61: Hardness Testing
A62: Macro -micrography
A63: HIC facilities
A64: Chemical analysis
A65: Others
A67: Table 4.3.a - Finished Goods Management - Goods Storage
A68: Type of Storage | D68: Dimension | F68: Comments / Description (material stored,…) | I68: Comments To be filled by TOTAL or Company representative
A69: Covered storage yard
A70: Open storage yard
A71: Warehouse
A73: Table 4.3.b - Finished Goods Management - Storage Conditions
A74: Storage Conditions for : | E74: Description / Comments | I74: Comments To be filled by TOTAL or Company representative
A75: Small goods
A76: Fragile goods
A77: X-ray films
A78: Others
A80: Table 4.4 - Procurement Practices - Manufacturer's Suppliers List / Source of Materials
A81: Material | D81: Suppliers | G81: Number of audits / year | H81: Comments (follow-up procedures, approval,…) | J81: Comments To be filled by TOTAL or Company representative
A82: Plates and pipes
A83: Flanges
A84: Forgings plant 1
A85: Forgings plant 2
A86: Forgings plant 3
A87: Castings plant 1
A88: Castings plant 2
A89: Castings plant 3
A90: Castings plant 4
A91: Bolting
A92: Gaskets
A93: Packings
A94: Others
