Workbook
Name Print_Area: 'Global Synthesis'!$A$1:$K$67
Name Print_Area: Guidelines!$A$1:$K$48
Name Print_Area: 'Product Range'!$A$1:$I$55
Name Print_Area: 'Theme I'!$A$1:$L$138
Name Print_Area: 'Theme II'!$A$1:$L$63
Name Print_Area: 'Theme III'!$A$1:$L$155
Name Print_Area: 'Theme IV '!$A$1:$L$100
Name Print_Titles: 'Global Synthesis'!$1:$10
Name Print_Titles: Guidelines!$1:$2
Name Print_Titles: 'Product Range'!$1:$16
Name Print_Titles: 'Theme I'!$1:$13
Name Print_Titles: 'Theme II'!$1:$13
Name Print_Titles: 'Theme III'!$1:$13
Name Print_Titles: 'Theme IV '!$1:$13

Sheet Guidelines
B1: ='Global Synthesis'!B1:I2 -> Technical Information Analysis Form : On-Off Actuators Manufacturer | J1: ='Global Synthesis'!J1:K1 -> GS EP INS 701 Appendix 1
J2: ='Global Synthesis'!J2:K2 -> Revision 00 Date : January 2012
A5: Quick guidelines to use this document : the objective of the following indications, are to the help user to fill the Technical Information Analysis Form.
A8: This document has to be sent to the manufacturer to start technical assessment process before any survey at manufacturer location.
A9: The manufacturer has to fill all information requested in all tables.
A11: 1) "Production Range" card :
A12: On this card, the manufacturer has to indicate all its production ranges submitted for approval.
A13: After technical assessment, Total or its representative, is able to indicate for which production ranges the manufacturer is finally approved.
A15: 2) "Theme I to Theme III" cards :
A16: The manufacturer has to fill all tables of each cards, in order to have a better understanding of its production capacities.
A17: After analysis of manufacturer answers, Total or its representative, can make comments, in blue column, for each manufacturer answers.
A19: 3) "Global Synthesis" cards :
A20: On this card all general information (name, address, contact of manufacturer, date of audit, assessment report n°, Total specifications linked,…)
A21: written will be automatically pasted in all the others cards.
... A27: In the last section, the signature of Total or its representative will be done, in order to validate the analysis result of this Form.

Sheet Global Synthesis
B1: Technical Information Analysis Form : On-Off Actuators Manufacturer | J1: GS EP INS 701 Appendix 1
J2: Revision 00 Date : January 2012
A3: According Total specifications : GS EP INS 137 & GS EP PVV 142 | F3: Assessment report N° : EP-TEC-INS-20xx-162-yy
A5: MANUFACTURER
A7: Manufacturer Name | D7: Activity and Process of Audited Workshop | K7: Audit Date
A8: xxx | D8: xxx | K8: xxx
A12: Manufacturer Head Office Address | D12: Manufacturer contacts (name, function, email, phone,…)
A13: xxx
A18: Name & Address of Audited Workshop
A19: xxx
A24: TOTAL OR REPRESENTATIVE COMPANY TEAM - TO BE FILLED BY TOTAL OR REPRESENTATIVE
A26: Total Project Concerned | D26: Total or Representative Responsible for Technical Information Analysis (Name, Function, Service)
A27: xxx
A33: Objectives of the Technical Information Analysis
A41: TECHNICAL INFORMATION ANALYSIS / TECHNICAL ASSESSMENT RESULT (FOR THE PRODUCTION RANGE CONSIDERED) - TO BE FILLED BY TOTAL OR REPRESENTATIVE
A43: Result of Information Analysis of GS EP INS 701 - Appendix 1, filled by the Manufacturer
D44: Yes / No | E44: Comments
A45: Level of information is appropriate
A46: On site Audit Requested
A48: Result of Technical Assessment of Manufacturer (to be filled if on site audit is not deemed necessary)
D49: Decision * | E49: Comments
A50: Satisfactory
A51: Reserves to close to be satisfactory
A52: Not satisfactory
A53: Notes : | B53: * : Tip when appropriate
A54: CONCLUSIONS OF TECHNICAL INFORMATION ANALYSIS / GENERAL COMMENTS
A63: SIGNATURE OF TOTAL OR REPRESENTATIVE TEAM
A64: NAME | C64: DATE | F64: NAME | H64: DATE

Sheet Product Range
B1: ='Global Synthesis'!B1:I2 -> Technical Information Analysis Form : On-Off Actuators Manufacturer | H1: ='Global Synthesis'!J1 -> GS EP INS 701 Appendix 1
H2: ='Global Synthesis'!J2 -> Revision 00 Date : January 2012
A3: According Total specifications : GS EP INS 137 & GS EP PVV 142 | F3: ='Global Synthesis'!F3:K3 -> Assessment report N° : EP-TEC-INS-20xx-162-yy
A5: ='Global Synthesis'!A5:K5 -> MANUFACTURER
A7: ='Global Synthesis'!A18:B18 -> Name & Address of Audited Workshop | D7: ='Global Synthesis'!D7:I7 -> Activity and Process of Audited Workshop | I7: ='Global Synthesis'!K7 -> Audit Date
A8: ='Global Synthesis'!A19 -> xxx | D8: ='Global Synthesis'!D8:I10 -> xxx | I8: ='Global Synthesis'!K8:K10 -> xxx
A12: ACTUAL PRODUCTION RANGE / APPROVED PRODUCTION RANGE OF THE MANUFACTURER
A13: To list all the actual production ranges of the manufacturer and select and comment the approved ones.
E15: To be completed by the Manufacturer | H15: To be completed by Total or Company representative
A16: Type | B16: Code | C16: Designation as per GS EP INS 137 | E16: Max. units production/year (pieces) | F16: Capacity range *, product names/series, per control medium ** | H16: Approved capacity range *, product names/series, per control medium **, by this audit
A17: On-Off Actuators & Accessoiries | B17: 1625-01 - On-Off Actuators
B18: 1625-01 | C18: Rotary Motion: Scotch Yoke | F18: P | H18: P
F19: G | H19: G
F20: H | H20: H
F21: EH | H21: EH
F22: GOO | H22: GOO
B23: 1625-01 | C23: Rotary Motion: Helical Spline | F23: P | H23: P
F24: G | H24: G
F25: H | H25: H
F26: EH | H26: EH
F27: GOO | H27: GOO
B28: 1625-01 | C28: Linear Motion: Piston | F28: P | H28: P
F29: G | H29: G
F30: H | H30: H
F31: GOO | H31: GOO
B32: 1625-01 | C32: Valve Control Panels & ass. Control Components | F32: P | G32: *** | H32: P
F33: G | G33: *** | H33: G
F34: H | G34: *** | H34: H
F35: EH | G35: *** | H35: EH
F36: GOO | G36: *** | H36: GOO
B37: 1626 - Special Actuators
B38: 1626 | C38: Submerged (In-Tank) | F38: H | H38: H
B39: 1626 | C39: Subsea | F39: H | H39: H
B40: 1627 - Motor Operated Actutators
B41: 1627 | C41: Linear Motion | F41: E | H41: E
B42: 1627 | C42: Rotary Motion | F42: E | H42: E
A43: Actuators for HIPS Valves and other SIL-Certified Valves | B43: 1628 - Actuators for HIPS Valves (and other Functional Safety SIL-Certified Valves)
B44: 1628 | C44: Rotary Motion | F44: P | H44: P
C45: Scotch Yoke | F45: H | H45: H
B46: 1628 | C46: Rotary Motion | F46: P | H46: P
C47: Helical Spline | F47: H | H47: H
B48: 1628 | C48: Linear Motion | F48: P | H48: P
C49: Piston | F49: H | H49: H
B50: 1628 | C50: HIPS Valve Panels & | F50: P | G50: *** | H50: P
C51: ass. Control Components | F51: H | G51: *** | H51: H
A52: * Capacity range to indicate : Actuator torque range (Nm) and Testbench capability (Nm). List all product names/series covered by this audit.
A53: ** P = pneumatic, G = gas, E = electric, H = hydraulic, EH = electro-hydraulic, GOO = gas-over-oil
A54: *** State either 'NO', 'IN-HOUSE' or 'SUB-SUPPLIER', further details to be completed as per dedicated sheets

Sheet Theme I
D1: ='Global Synthesis'!B1 -> Technical Information Analysis Form : On-Off Actuators Manufacturer | K1: ='Global Synthesis'!J1 -> GS EP INS 701 Appendix 1
K2: ='Global Synthesis'!J2 -> Revision 00 Date : January 2012
A3: According Total specifications : GS EP INS 137 & GS EP PVV 142 | G3: ='Global Synthesis'!F3 -> Assessment report N° : EP-TEC-INS-20xx-162-yy
A5: ='Global Synthesis'!A5:K5 -> MANUFACTURER
A7: ='Global Synthesis'!A18:B18 -> Name & Address of Audited Workshop | E7: ='Global Synthesis'!D7 -> Activity and Process of Audited Workshop | K7: ='Global Synthesis'!K7 -> Audit Date
A8: ='Global Synthesis'!A19 -> xxx | E8: ='Global Synthesis'!D8 -> xxx | K8: ='Global Synthesis'!K8:K10 -> xxx
A12: THEME I - GENERAL ORGANIZATION
A13: All facilities described herein are meant to be permanent in-house facilities only. Any sub-contracted activity must be clearly indicated showing the names and addresses of related Subcontractors. The number, type and status of all listed equipment are subject to thorough checks by the COMPANY representative in charge of the Plant Survey during his visit of the facilities.
A14: Table 1.1 - General Organization - Surface area (Plot plan to be joined if available)
A15: Zone | D15: Surface area (m2) | F15: Description / Comments | I15: Comments To be filled by TOTAL or Company representative
A16: Overall
A17: Covered areas
A18: Offices
A19: Manufacturing workshops
A20: Actuators Assembling workshops
A21: Control panels fabrication workshops
A22: Laboratory
A23: Testing workshops
A24: Warehouses
A26: Table 1.2 - General Organization - Manufacturer Management : organization chart to join
A27: Position | D27: Names | F27: Comments | I27: Comments To be filled by TOTAL or Company representative
A28: Managing Director
A29: Sales Manager
A30: Plant Manager
A31: Production Manager
A32: Quality Assurance Manager
A33: Design/Engineering Manager
A34: Quality Control Manager
A35: Head of welding department
A36: HSE Manager
A37: Logistic Manager
A38: Functional Safety Manager
A39: External Funct. Saf. Cons.
... A42: Table 1.3 - General Organization - Personnel
A43: Quality of Employees | D43: Staff Quantity (manufacturer's personnel) | E43: Contracted Personnel Quantity (personnel from external company which are working at the manufact.) * | F43: Average years of service (staff) | G43: Personnel qualication level (curriculum vitae) | I43: Comments To be filled by TOTAL or Company representative
A44: Commercial department
A45: Administration
A46: Project Management
A47: Engineering / R&D
A48: Production methodes office
A49: Procurement
A50: Expediting / Shipment
A51: Functional Safety Certified project engineers
A52: Functional Safety Certified shop personnel
A53: Fabrication : qualified welders
A54: Fabrication: machining
A55: Fabrication: assembling
... A68: Total number of Employees
D69: * state 'sub-supplier' when not performed in-house
A70: Table 1.4 - General Organization - Communication With Customer / Working Documents Language
C71: Language used with customer : YES / NO ? | E71: Which department team (engineering, commercial, production,…) and how many people are able to discuss in other language than mother tongue ? | H71: Documents (testing procedures, drawing, control procedures,…) available in which language ? | J71: Comments To be filled by TOTAL or Company representative
A72: English
A73: French
A74: Others
A76: Table 1.5 - General Organization - Work Load Status
A77: Items to check | E77: Comments / Description | I77: Comments To be filled by TOTAL or Company representative
A78: Ownership
A79: Annual turnover in M$ or M€ (3 previous year)
A80: Men hour capacity
A81: Work shift : normal, 2x8, 3x8
A82: Present and future work load (%)
A83: Future investment (tools, building, human resources,…)
A85: Table 1.6 - General Organization - References on similar jobs
A86: Year built | C86: Customer | D86: Country of installation | E86: Valve service | F86: Local environm. | G86: Quantity of actuators | H86: SIL level or HIPS ? | I86: Type of actuators | J86: Capacity range (Nm) | K86: Comments To be filled by TOTAL or Company representative
A96: Type of licences or patents | E96: Description / Comments | I96: Comments To be filled by TOTAL or Company representative
A101: Table 1.7 - General Organization - List of documents to be send by the Manufacturer, to Total, in English language, with all Tables filled out, before on-site technical review
A102: List of documents (refer to GS EP INS 137 and GS EP PVV 142) | E102: Documents received : YES / NO ? | G102: Documents available in English language : YES / NO ? | I102: Comments To be filled by TOTAL or Company representative, incl. conformity/deviations from GS referential
A103: Plot plan, layout of the plant
A104: General organization chart
A105: Quality Control Organization Chart
A106: Process flow chart
A107: Manufacturing procedures
A108: Assembling procedures
A109: Catalogues for all actuators & accessoir.
A110: Catalogues for valve control panels
A111: Detail specs: pneumatic actuators | E111: *
A112: Detail specs: gas actuators | E112: *
A113: Detail specs: electric actuators | E113: *
A114: Detail specs: hydraulic actuators | E114: *
A115: Detail specs: electro-hydraulic actuators | E115: *
A116: Detail specs: gas-over-oil actuators | E116: *
A117: Detail specs: HIPS actuators | E117: *
A118: Detail specs: HPUs | E118: *
A119: Detail specs: valve control panels | E119: *
A120: 3rd party actuator SIL certificates
A121: Testing procedure: hydrostatic press. test
A122: Testing procedure: dimensional test
A123: Testing procedure: functional test
A124: Testing procedure: torque test
A125: Repairing procedures : welding, …
A126: Control procedures : DT, NDT, ...
A127: Painting & preparation procedures
A128: Packaging and preservation procedures
A129: Non-conformities management procedures
A130: In-coming material inspection procedures
A131: Sub-supplier evaluation, follow-up and audit procedures
... A138: * Example equipment drawings with BOM, for each product family/series concerned

Sheet Theme II
D1: ='Global Synthesis'!B1 -> Technical Information Analysis Form : On-Off Actuators Manufacturer | K1: ='Global Synthesis'!J1 -> GS EP INS 701 Appendix 1
K2: ='Global Synthesis'!J2 -> Revision 00 Date : January 2012
A3: According Total specifications : GS EP INS 137 & GS EP PVV 142 | G3: ='Global Synthesis'!F3 -> Assessment report N° : EP-TEC-INS-20xx-162-yy
A5: ='Global Synthesis'!A5:K5 -> MANUFACTURER
A7: ='Global Synthesis'!A18:B18 -> Name & Address of Audited Workshop | E7: ='Global Synthesis'!D7 -> Activity and Process of Audited Workshop | K7: ='Global Synthesis'!K7 -> Audit Date
A8: ='Global Synthesis'!A19 -> xxx | E8: ='Global Synthesis'!D8 -> xxx | K8: ='Global Synthesis'!K8:K10 -> xxx
A12: THEME II - ENGINEERING
A13: All facilities described herein are meant to be permanent in-house facilities only. Any sub-contracted activity must be clearly indicated showing the names and addresses of related Subcontractors. The number, type and status of all listed equipment are subject to thorough checks by the COMPANY representative in charge of the Plant Survey during his visit of the facilities.
A14: Table 2.1 - Engineering / Design Capacity - Sub-contracting or Sub-supplier
C15: Yes / No | D15: Sub-contractor name (external company which are working for the manufacturer, but outside the manufacturer) | G15: Facilities of the sub-contractor (hardware, software, human resources,…) | J15: Comments To be filled by TOTAL or Company representative
A16: Design
A17: Drawing
A18: Calculation
A19: Functional Safety Items
A21: Table 2.2 - Engineering / Design Capacity - Construction codes used, availability and updating of codes and standards
A22: Code | D22: Date of Revision | F22: Description / Comments | I22: Comments To be filled by TOTAL or Company representative
A23: GS EP INS 101
A24: GS EP INS 102
A25: GS EP INS 107
A26: GS EP INS 137
A27: GS EP INS 146
A28: GS EP INS 900
A29: GS EP COR 350
A30: GS EP COR 354
A31: GS EP PVV 142
A32: GS EP PVV 211
A33: GS EP PVV 920
A34: ASME VIII
... A46: Table 2.3 - Engineering / Design Capacity - Calculation Facilities (Softwares for design calculation : finite element, thermal, flow, stress, hydrostatic, others…)
A47: Type of Design | D47: Design Codes | F47: Computer Programs | H47: Sub-contracted (if any) | J47: Comments To be filled by TOTAL or Company representative
A48: SIL calculations
A49: SIL demonstration
A50: Reliability data
A51: Others (manuf. to complete)
A55: Table 2.4 - Engineering / Design Capacity - Drawing Facilities
A56: Number of CAD Work Stations | C56: Computer Program Names | E56: Number / Quantity of permanent Staff | F56: Staff Qualifications | H56: Sub-contracted (if any) | J56: Comments To be filled by TOTAL or Company representative
A60: Number of Drawing Boards | C60: Number of Permanent Staff | D60: Staff Qualifications | F60: Sub-contracted (if any) | H60: Comments | J60: Comments To be filled by TOTAL or Company representative

Sheet Theme III
D1: ='Global Synthesis'!B1 -> Technical Information Analysis Form : On-Off Actuators Manufacturer | K1: ='Global Synthesis'!J1 -> GS EP INS 701 Appendix 1
K2: ='Global Synthesis'!J2 -> Revision 00 Date : January 2012
A3: According Total specifications : GS EP INS 137 & GS EP PVV 142 | G3: ='Global Synthesis'!F3 -> Assessment report N° : EP-TEC-INS-20xx-162-yy
A5: ='Global Synthesis'!A5:K5 -> MANUFACTURER
A7: ='Global Synthesis'!A18:B18 -> Name & Address of Audited Workshop | E7: ='Global Synthesis'!D7 -> Activity and Process of Audited Workshop | K7: ='Global Synthesis'!K7 -> Audit Date
A8: ='Global Synthesis'!A19 -> xxx | E8: ='Global Synthesis'!D8 -> xxx | K8: ='Global Synthesis'!K8:K10 -> xxx
A12: THEME III - MANUFACTURING
A13: All facilities described herein are meant to be permanent in-house facilities only. Any sub-contracted activity must be clearly indicated showing the names and addresses of related Subcontractors. The number, type and status of all listed equipment are subject to thorough checks by the COMPANY representative in charge of the Plant Survey during his visit of the facilities.
A14: Table 3.1 - Workshop General Organization : Manufacturing, assembling and testing locations
A15: Activity | C15: Sub-contracted outside manufact. workshop : YES / NO / PARTIAL (complete table 3.12) | D15: Name of plant and/or Sub-contractor (list all possible plants for each product series and components seperately) | F15: Address of plant and/or Sub-contractor | H15: Comments | J15: Comments To be filled by TOTAL or Company representative
A16: Casting | D16: see table 3.2
A17: Forging | D17: see table 3.3
A18: Welding
A19: Machining
A20: Mat. inspection
A21: Mat. testing
A22: Lining/Coating
A23: Funct. testing
A24: Assembling
A25: Painting
A26: P/G VCP manufacturing
A27: H VCP manufacturing
A28: E control unit manufacturing
A29: EH VCP manufacturing
... A36: Table 3.2 - Casting plants list and description
A37: Casting plant name | D37: Casting plant address | G37: Component discription | J37: Comments To be filled by TOTAL or Company representative
A42: Table 3.3 - Forging plants list and description
A43: Forging plant name | D43: Forging plant address | G43: Component discription | J43: Comments To be filled by TOTAL or Company representative
A48: Table 3.4.a - Welding - Description of Welding Process in Place (permanent process only)
A49: Welding Process | C49: Manual | D49: Automatic | E49: ASME P-number | F49: Impact Test | G49: ASME IX | H49: ISO 15614 | I49: Other standard | K49: Comments To be filled by TOTAL or Company representative
A50: SMAW
A51: SAW
A52: GMAW
A53: GTAW
A54: FCAW
A55: Weld Overlay Processes
A57: Table 3.4.b - Welding - Description of Qualified Welding Procedures in Place (by approximate numbers)
A58: Welding Process | C58: Manual | D58: Automatic | E58: ASME P-number | F58: Impact Test | G58: ASME IX | H58: ISO 15614 | I58: Other standard | K58: Comments To be filled by TOTAL or Company representative
A59: SMAW
A60: SAW
A61: GMAW
A62: GTAW
A63: FCAW
A64: Weld Overlay Processes
A66: Table 3.4.c - Welding - Description of Welding Staff : numbers of welders qualified per welding process and material grade
A67: Welding Process | C67: ASME IX | D67: EN 287 | E67: Carbon Steel P1 | F67: Stainless steel P8 | G67: Other standard | I67: Other standard | K67: Comments To be filled by TOTAL or Company representative
A68: SMAW
A69: SAW
A70: GMAW
A71: GTAW
A72: FCAW
A73: Others
A75: Table 3.4.d - Welding - Description of Welding Staff : number and qualifications (to be joined)
C76: Number | E76: Type of Qualification | G76: Comments | J76: Comments To be filled by TOTAL or Company representative
A77: Welding Engineer
A78: Welding Supervisor
A80: Table 3.5.a - Machining - Description of Equipment in Place
A81: Equipment | C81: Type / Number | E81: Max. Capacity | G81: General maintenance condition | I81: Comments | K81: Comments To be filled by TOTAL or Company representative
A82: Boring Mills
A83: Milling
A84: Lathes
A85: Drilling machines
A86: Lapping machines
A87: Others
A89: Table 3.6.a - Assembing of Actuators - Description of Equipment in Place
A90: Equipment | C90: Type / Number | E90: Max. Capacity | G90: General maintenance condition | I90: Description / Comments | K90: Comments To be filled by TOTAL or Company representative
A91: Handling
A92: Pneumatic screwing machine
A93: Dynamometric keys
A94: Working desks
A95: Others
A98: Table 3.7.a - Fabrication of Valve Control Panels - Description of Equipment in Place
A99: Equipment | C99: Type / Number | E99: Max. Capacity | G99: General maintenance condition | I99: Description / Comments | K99: Comments To be filled by TOTAL or Company representative
A100: Handling
A101: Pneumatic screwing machine
A102: Dynamometric keys
A103: Working desks
A104: Others
A107: Table 3.8.a - Fabrication of Springs - Description of Equipment in Place
A108: Equipment | C108: Type / Number | E108: Max. Capacity | G108: General maintenance condition | I108: Description / Comments | K108: Comments To be filled by TOTAL or Company representative
A114: Table 3.9.a - Fabrication of Accumulators (P, G & H) - Description of Equipment in Place
A115: Equipment | C115: Type / Number | E115: Max. Capacity | G115: General maintenance condition | I115: Description / Comments | K115: Comments To be filled by TOTAL or Company representative
A121: Table 3.10.a - Product Testing & Inspection - Description of Equipment in Place
A122: Test type | C122: Test sub-contracted outside manufact. workshop : YES / NO / PARTIAL | D122: Fluid Medium | E122: Range | F122: Max Pressure (bars) or Torque (Nm) | G122: Quantity of actuators tested by hour per bench | H122: Water supply with a controlled chloride content ? If yes, indicate the maximum chloride content | I122: Number of test bench | J122: Comments / Description (% of sub-contracted tests, test description,…)
A123: Hydrostatic pressure test actuators
A124: Hydrostatic pressure test accumulators
A125: Dimensional Test
A126: Functional Test (inc VCP)
A127: Torque Test
A128: VCP Test
A129: HPU Test
A130: GOO Test
A131: Others
A132: VCP = valve control panel, HPU = hydraulic power unit
A134: Table 3.11 - Painting / Coating - Description of Equipment in Place
C135: Type | E135: Description | G135: Max Capacity | I135: Description / Comments | K135: Comments To be filled by TOTAL or Company representative
A136: Manual shot-blasting
A137: Automatic shot-blasting
A138: Painting inside workshop
A139: Painting outside workshop
...

Sheet Theme IV 
D1: ='Global Synthesis'!B1 -> Technical Information Analysis Form : On-Off Actuators Manufacturer | K1: ='Global Synthesis'!J1 -> GS EP INS 701 Appendix 1
K2: ='Global Synthesis'!J2 -> Revision 00 Date : January 2012
A3: According Total specifications : GS EP INS 137 & GS EP PVV 142 | G3: ='Global Synthesis'!F3 -> Assessment report N° : EP-TEC-INS-20xx-162-yy
A5: ='Global Synthesis'!A5:K5 -> MANUFACTURER
A7: ='Global Synthesis'!A18:B18 -> Name & Address of Audited Workshop | E7: ='Global Synthesis'!D7 -> Activity and Process of Audited Workshop | K7: ='Global Synthesis'!K7 -> Audit Date
A8: ='Global Synthesis'!A19 -> xxx | E8: ='Global Synthesis'!D8 -> xxx | K8: ='Global Synthesis'!K8:K10 -> xxx
A12: THEME IV - PRODUCTS MANAGEMENT (CONTROL, TESTING, INSPECTION, STORAGE)
A13: All facilities described herein are meant to be permanent in-house facilities only. Any sub-contracted activity must be clearly indicated showing the names and addresses of related Subcontractors. The number, type and status of all listed equipment are subject to thorough checks by the COMPANY representative in charge of the Plant Survey during his visit of the facilities.
A14: Table 4.1.a - In-coming Material Management - Material Storage
A15: Type of Storage | D15: Dimension | F15: Comments / Description (material stored,…) | I15: Comments To be filled by TOTAL or Company representative
A16: Covered storage yard
A17: Open storage yard
A18: Warehouse
A20: Table 4.1.b - In-coming Material Management - Storage Conditions
A21: Storage Conditions for : | E21: Description / Comments | I21: Comments To be filled by TOTAL or Company representative
A22: Small material
A23: Fragile material
A24: Welding consumables
A25: Dye penetrant products
A26: Gaskets
A27: Actuators
A28: Control panels
A29: Others
A31: Table 4.2.a - Inspection, Testing and Quality Control - Quality Control (Inspection) Organisation (attach an organization chart)
A32: Function or Qualification | D32: Staff (number/quantity of people) | F32: Contracted (number/quantity of people) | H32: Qualification level | I32: Qualification referential | K32: Comments To be filled by TOTAL or Company representative
A33: QC Manager
A34: Workshop inspector
A35: Radiographic Inspector
A36: Radiographic Operator
A37: UT Inspector
A38: MPI Inspector
A39: DP Inspector
A40: Others
A42: Table 4.2.b - Inspection, Testing and Quality Control - Non Destructive Testing and Control Equipment
A43: Type of Inspection | D43: Type of Equipment | F43: Number of Equipment | G43: Calibration of Equipment updated (yes/no) ? | H43: NDT procedures (availability, issuance, updating) | I43: Number of tests per year | J43: Sub-contracted testing : Yes / No / Partial ? | K43: Comments / Names of sub-contractor / Description of Capacity
A44: X-rays
A45: Gamma rays
A46: Ultrasonic Testing
A47: Magnetic particle
A48: Liquid penetrant
A49: OOG leak test (helium,…)
A50: Dimensional control devices (control gage)
A51: Others
A53: Table 4.3.a - Finished Goods Management - Goods Storage
A54: Type of Storage | D54: Dimension | F54: Comments / Description (material stored,…) | I54: Comments To be filled by TOTAL or Company representative
A55: Covered storage yard
A56: Open storage yard
A57: Warehouse
A59: Table 4.3.b - Finished Goods Management - Storage Conditions
A60: Storage Conditions for : | E60: Description / Comments | I60: Comments To be filled by TOTAL or Company representative
A61: Small goods
A62: Fragile goods
A63: X-ray films
A64: Actuators
A65: Control panels
A66: Others
A68: Table 4.4 - Procurement Practices - Manufacturer's Suppliers List / Source of Materials
A69: Material | D69: Suppliers * | G69: Number of audits / year | H69: Comments (follow-up procedures, approval,…) | J69: Comments To be filled by TOTAL or Company representative
A70: Plates and pipes
A71: Flanges
A72: Castings | D72: see table 3.2
A73: Forgings | D73: see table 3.3
A74: Bolting
A75: Gaskets
A76: Actuator springs
A77: Accumulators (P,G & H)
A78: Packings
A79: Tubing | D79: ** | J79: **
A80: Compression fittings | D80: ** | J80: **
A81: Control components: P | D81: ** & *** | J81: **
A82: Control components: G | D82: ** & *** | J82: **
A83: Control components: E | D83: ** | J83: **
A84: Control components: H | D84: ** & *** | J84: **
A85: Control components: EH | D85: ** & *** | J85: **
A86: Control components: OOG | D86: ** & *** | J86: **
A87: Complete assembled VCP
A88: Compact (stack) manifolds | D88: ** | J88: **
A89: Valve position beacons | D89: ** | J89: **
A90: Limit switches | D90: ** | J90: **
A91: SMART partial stroke test | D91: ** | J91: **
A92: Analogue position monitors | D92: ** | J92: **
A93: Ex Junction boxes | D93: ** | J93: **
A94: Ex Cable glands | D94: ** | J94: **
A95: Others
A96: * Define all posibble suppliers and their product series
A97: ** Suppliers for these items must be in accordance with Total's corporate EP approved vendor list, this audit form cannot be used for derogations
A98: *** For example: filter/regulator units, solenoid valves, pneumatic valves, quick exhaust, boosters, relief valves, gauges, manifolds, etc.
A99: P = pneumatic, G = gas, E = electric, H = hydraulic, EH = electro-hydraulic, GOO = gas-over-oil, VCP = valve control panel, HPU = hydraulic power unit
