Workbook
Name Print_Area: 'Global Synthesis'!$A$1:$K$67
Name Print_Area: Guidelines!$A$1:$K$48
Name Print_Area: 'Product Range'!$A$1:$I$55
Name Print_Area: 'Theme I'!$A$1:$L$138
Name Print_Area: 'Theme II'!$A$1:$L$63
Name Print_Area: 'Theme III'!$A$1:$L$155
Name Print_Area: 'Theme IV '!$A$1:$L$100
Name Print_Titles: 'Global Synthesis'!$1:$10
Name Print_Titles: Guidelines!$1:$2
Name Print_Titles: 'Product Range'!$1:$16
Name Print_Titles: 'Theme I'!$1:$13
Name Print_Titles: 'Theme II'!$1:$13
Name Print_Titles: 'Theme III'!$1:$13
Name Print_Titles: 'Theme IV '!$1:$13

Sheet Guidelines
B1: ='Global Synthesis'!B1:I2 -> Technical Information Analysis Form : On-Off Actuators Manufacturer | J1: ='Global Synthesis'!J1:K1 -> GS EP INS 701 Appendix 1
J2: ='Global Synthesis'!J2:K2 -> Revision 00 Date : January 2012
A5: Quick guidelines to use this document : the objective of the following indications, are to the help user to fill the Technical Information Analysis Form.
A8: This document has to be sent to the manufacturer to start technical assessment process before any survey at manufacturer location.
A9: The manufacturer has to fill all information requested in all tables.
A11: 1) "Production Range" card :
A12: On this card, the manufacturer has to indicate all its production ranges submitted for approval.
A13: After technical assessment, Total or its representative, is able to indicate for which production ranges the manufacturer is finally approved.
A15: 2) "Theme I to Theme III" cards :
A16: The manufacturer has to fill all tables of each cards, in order to have a better understanding of its production capacities.
A17: After analysis of manufacturer answers, Total or its representative, can make comments, in blue column, for each manufacturer answers.
A19: 3) "Global Synthesis" cards :
A20: On this card all general information (name, address, contact of manufacturer, date of audit, assessment report n°, Total specifications linked,…)
A21: written will be automatically pasted in all the others cards.
... A27: In the last section, the signature of Total or its representative will be done, in order to validate the analysis result of this Form.

Sheet Global Synthesis
B1: Technical Information Analysis Form : On-Off Actuators Manufacturer | J1: GS EP INS 701 Appendix 1
J2: Revision 00 Date : January 2012
A3: According Total specifications : GS EP INS 137 & GS EP PVV 142 | F3: Assessment report N° : EP-TEC-INS-20xx-162-yy
A5: MANUFACTURER
A7: Manufacturer Name | D7: Activity and Process of Audited Workshop | K7: Audit Date
A8: xxx | D8: xxx | K8: xxx
A12: Manufacturer Head Office Address | D12: Manufacturer contacts (name, function, email, phone,…)
A13: xxx
A18: Name & Address of Audited Workshop
A19: xxx
A24: TOTAL OR REPRESENTATIVE COMPANY TEAM - TO BE FILLED BY TOTAL OR REPRESENTATIVE
A26: Total Project Concerned | D26: Total or Representative Responsible for Technical Information Analysis (Name, Function, Service)
A27: xxx
A33: Objectives of the Technical Information Analysis
A41: TECHNICAL INFORMATION ANALYSIS / TECHNICAL ASSESSMENT RESULT (FOR THE PRODUCTION RANGE CONSIDERED) - TO BE FILLED BY TOTAL OR REPRESENTATIVE
A43: Result of Information Analysis of GS EP INS 701 - Appendix 1, filled by the Manufacturer
D44: Yes / No | E44: Comments
A45: Level of information is appropriate
A46: On site Audit Requested
A48: Result of Technical Assessment of Manufacturer (to be filled if on site audit is not deemed necessary)
D49: Decision * | E49: Comments
A50: Satisfactory
A51: Reserves to close to be satisfactory
A52: Not satisfactory
A53: Notes : | B53: * : Tip when appropriate
A54: CONCLUSIONS OF TECHNICAL INFORMATION ANALYSIS / GENERAL COMMENTS
A63: SIGNATURE OF TOTAL OR REPRESENTATIVE TEAM
A64: NAME | C64: DATE | F64: NAME | H64: DATE

Sheet Product Range
B1: ='Global Synthesis'!B1:I2 -> Technical Information Analysis Form : On-Off Actuators Manufacturer | H1: ='Global Synthesis'!J1 -> GS EP INS 701 Appendix 1
H2: ='Global Synthesis'!J2 -> Revision 00 Date : January 2012
A3: According Total specifications : GS EP INS 137 & GS EP PVV 142 | F3: ='Global Synthesis'!F3:K3 -> Assessment report N° : EP-TEC-INS-20xx-162-yy
A5: ='Global Synthesis'!A5:K5 -> MANUFACTURER
A7: ='Global Synthesis'!A18:B18 -> Name & Address of Audited Workshop | D7: ='Global Synthesis'!D7:I7 -> Activity and Process of Audited Workshop | I7: ='Global Synthesis'!K7 -> Audit Date
A8: ='Global Synthesis'!A19 -> xxx | D8: ='Global Synthesis'!D8:I10 -> xxx | I8: ='Global Synthesis'!K8:K10 -> xxx
A12: ACTUAL PRODUCTION RANGE / APPROVED PRODUCTION RANGE OF THE MANUFACTURER
A13: To list all the actual production ranges of the manufacturer and select and comment the approved ones.
E15: To be completed by the Manufacturer | H15: To be completed by Total or Company representative
A16: Type | B16: Code | C16: Designation as per GS EP INS 137 | E16: Max. units production/year (pieces) | F16: Capacity range *, product names/series, per control medium ** | H16: Approved capacity range *, product names/series, per control medium **, by this audit
A17: On-Off Actuators & Accessoiries | B17: 1625-01 - On-Off Actuators
B18: 1625-01 | C18: Rotary Motion: Scotch Yoke | F18: P | H18: P
F19: G | H19: G
F20: H | H20: H
F21: EH | H21: EH
F22: GOO | H22: GOO
B23: 1625-01 | C23: Rotary Motion: Helical Spline | F23: P | H23: P
F24: G | H24: G
F25: H | H25: H
F26: EH | H26: EH
F27: GOO | H27: GOO
B28: 1625-01 | C28: Linear Motion: Piston | F28: P | H28: P
F29: G | H29: G
F30: H | H30: H
F31: GOO | H31: GOO
B32: 1625-01 | C32: Valve Control Panels & ass. Control Components | F32: P | G32: *** | H32: P
F33: G | G33: *** | H33: G
F34: H | G34: *** | H34: H
F35: EH | G35: *** | H35: EH
F36: GOO | G36: *** | H36: GOO
B37: 1626 - Special Actuators
B38: 1626 | C38: Submerged (In-Tank) | F38: H | H38: H
B39: 1626 | C39: Subsea | F39: H | H39: H
B40: 1627 - Motor Operated Actutators
B41: 1627 | C41: Linear Motion | F41: E | H41: E
B42: 1627 | C42: Rotary Motion | F42: E | H42: E
A43: Actuators for HIPS Valves and other SIL-Certified Valves | B43: 1628 - Actuators for HIPS Valves (and other Functional Safety SIL-Certified Valves)
B44: 1628 | C44: Rotary Motion | F44: P | H44: P
C45: Scotch Yoke | F45: H | H45: H
B46: 1628 | C46: Rotary Motion | F46: P | H46: P
...

Sheet Theme I
D1: ='Global Synthesis'!B1 -> Technical Information Analysis Form : On-Off Actuators Manufacturer | K1: ='Global Synthesis'!J1 -> GS EP INS 701 Appendix 1
K2: ='Global Synthesis'!J2 -> Revision 00 Date : January 2012
A3: According Total specifications : GS EP INS 137 & GS EP PVV 142 | G3: ='Global Synthesis'!F3 -> Assessment report N° : EP-TEC-INS-20xx-162-yy
A5: ='Global Synthesis'!A5:K5 -> MANUFACTURER
A7: ='Global Synthesis'!A18:B18 -> Name & Address of Audited Workshop | E7: ='Global Synthesis'!D7 -> Activity and Process of Audited Workshop | K7: ='Global Synthesis'!K7 -> Audit Date
A8: ='Global Synthesis'!A19 -> xxx | E8: ='Global Synthesis'!D8 -> xxx | K8: ='Global Synthesis'!K8:K10 -> xxx
A12: THEME I - GENERAL ORGANIZATION
A13: All facilities described herein are meant to be permanent in-house facilities only. Any sub-contracted activity must be clearly indicated showing the names and addresses of related Subcontractors. The number, type and status of all listed equipment are subject to thorough checks by the COMPANY representative in charge of the Plant Survey during his visit of the facilities.
A14: Table 1.1 - General Organization - Surface area (Plot plan to be joined if available)
A15: Zone | D15: Surface area (m2) | F15: Description / Comments | I15: Comments To be filled by TOTAL or Company representative
A16: Overall
A17: Covered areas
A18: Offices
A19: Manufacturing workshops
A20: Actuators Assembling workshops
A21: Control panels fabrication workshops
A22: Laboratory
A23: Testing workshops
A24: Warehouses
A26: Table 1.2 - General Organization - Manufacturer Management : organization chart to join
A27: Position | D27: Names | F27: Comments | I27: Comments To be filled by TOTAL or Company representative
A28: Managing Director
A29: Sales Manager
A30: Plant Manager
A31: Production Manager
A32: Quality Assurance Manager
A33: Design/Engineering Manager
A34: Quality Control Manager
A35: Head of welding department
A36: HSE Manager
A37: Logistic Manager
A38: Functional Safety Manager
A39: External Funct. Saf. Cons.
... A42: Table 1.3 - General Organization - Personnel
A43: Quality of Employees | D43: Staff Quantity (manufacturer's personnel) | E43: Contracted Personnel Quantity (personnel from external company which are working at the manufact.) * | F43: Average years of service (staff) | G43: Personnel qualication level (curriculum vitae) | I43: Comments To be filled by TOTAL or Company representative
A44: Commercial department
A45: Administration
A46: Project Management
A47: Engineering / R&D
A48: Production methodes office
...

Sheet Theme II
D1: ='Global Synthesis'!B1 -> Technical Information Analysis Form : On-Off Actuators Manufacturer | K1: ='Global Synthesis'!J1 -> GS EP INS 701 Appendix 1
K2: ='Global Synthesis'!J2 -> Revision 00 Date : January 2012
A3: According Total specifications : GS EP INS 137 & GS EP PVV 142 | G3: ='Global Synthesis'!F3 -> Assessment report N° : EP-TEC-INS-20xx-162-yy
A5: ='Global Synthesis'!A5:K5 -> MANUFACTURER
A7: ='Global Synthesis'!A18:B18 -> Name & Address of Audited Workshop | E7: ='Global Synthesis'!D7 -> Activity and Process of Audited Workshop | K7: ='Global Synthesis'!K7 -> Audit Date
A8: ='Global Synthesis'!A19 -> xxx | E8: ='Global Synthesis'!D8 -> xxx | K8: ='Global Synthesis'!K8:K10 -> xxx
A12: THEME II - ENGINEERING
A13: All facilities described herein are meant to be permanent in-house facilities only. Any sub-contracted activity must be clearly indicated showing the names and addresses of related Subcontractors. The number, type and status of all listed equipment are subject to thorough checks by the COMPANY representative in charge of the Plant Survey during his visit of the facilities.
A14: Table 2.1 - Engineering / Design Capacity - Sub-contracting or Sub-supplier
C15: Yes / No | D15: Sub-contractor name (external company which are working for the manufacturer, but outside the manufacturer) | G15: Facilities of the sub-contractor (hardware, software, human resources,…) | J15: Comments To be filled by TOTAL or Company representative
A16: Design
A17: Drawing
A18: Calculation
A19: Functional Safety Items
A21: Table 2.2 - Engineering / Design Capacity - Construction codes used, availability and updating of codes and standards
A22: Code | D22: Date of Revision | F22: Description / Comments | I22: Comments To be filled by TOTAL or Company representative
A23: GS EP INS 101
A24: GS EP INS 102
A25: GS EP INS 107
A26: GS EP INS 137
A27: GS EP INS 146
A28: GS EP INS 900
A29: GS EP COR 350
A30: GS EP COR 354
A31: GS EP PVV 142
A32: GS EP PVV 211
A33: GS EP PVV 920
A34: ASME VIII
... A46: Table 2.3 - Engineering / Design Capacity - Calculation Facilities (Softwares for design calculation : finite element, thermal, flow, stress, hydrostatic, others…)
A47: Type of Design | D47: Design Codes | F47: Computer Programs | H47: Sub-contracted (if any) | J47: Comments To be filled by TOTAL or Company representative
A48: SIL calculations
A49: SIL demonstration
A50: Reliability data
A51: Others (manuf. to complete)
A55: Table 2.4 - Engineering / Design Capacity - Drawing Facilities
A56: Number of CAD Work Stations | C56: Computer Program Names | E56: Number / Quantity of permanent Staff | F56: Staff Qualifications | H56: Sub-contracted (if any) | J56: Comments To be filled by TOTAL or Company representative
A60: Number of Drawing Boards | C60: Number of Permanent Staff | D60: Staff Qualifications | F60: Sub-contracted (if any) | H60: Comments | J60: Comments To be filled by TOTAL or Company representative

Sheet Theme III
D1: ='Global Synthesis'!B1 -> Technical Information Analysis Form : On-Off Actuators Manufacturer | K1: ='Global Synthesis'!J1 -> GS EP INS 701 Appendix 1
K2: ='Global Synthesis'!J2 -> Revision 00 Date : January 2012
A3: According Total specifications : GS EP INS 137 & GS EP PVV 142 | G3: ='Global Synthesis'!F3 -> Assessment report N° : EP-TEC-INS-20xx-162-yy
A5: ='Global Synthesis'!A5:K5 -> MANUFACTURER
A7: ='Global Synthesis'!A18:B18 -> Name & Address of Audited Workshop | E7: ='Global Synthesis'!D7 -> Activity and Process of Audited Workshop | K7: ='Global Synthesis'!K7 -> Audit Date
A8: ='Global Synthesis'!A19 -> xxx | E8: ='Global Synthesis'!D8 -> xxx | K8: ='Global Synthesis'!K8:K10 -> xxx
A12: THEME III - MANUFACTURING
A13: All facilities described herein are meant to be permanent in-house facilities only. Any sub-contracted activity must be clearly indicated showing the names and addresses of related Subcontractors. The number, type and status of all listed equipment are subject to thorough checks by the COMPANY representative in charge of the Plant Survey during his visit of the facilities.
A14: Table 3.1 - Workshop General Organization : Manufacturing, assembling and testing locations
A15: Activity | C15: Sub-contracted outside manufact. workshop : YES / NO / PARTIAL (complete table 3.12) | D15: Name of plant and/or Sub-contractor (list all possible plants for each product series and components seperately) | F15: Address of plant and/or Sub-contractor | H15: Comments | J15: Comments To be filled by TOTAL or Company representative
A16: Casting | D16: see table 3.2
A17: Forging | D17: see table 3.3
A18: Welding
A19: Machining
A20: Mat. inspection
A21: Mat. testing
A22: Lining/Coating
A23: Funct. testing
A24: Assembling
A25: Painting
A26: P/G VCP manufacturing
A27: H VCP manufacturing
A28: E control unit manufacturing
A29: EH VCP manufacturing
... A36: Table 3.2 - Casting plants list and description
A37: Casting plant name | D37: Casting plant address | G37: Component discription | J37: Comments To be filled by TOTAL or Company representative
A42: Table 3.3 - Forging plants list and description
A43: Forging plant name | D43: Forging plant address | G43: Component discription | J43: Comments To be filled by TOTAL or Company representative
A48: Table 3.4.a - Welding - Description of Welding Process in Place (permanent process only)
A49: Welding Process | C49: Manual | D49: Automatic | E49: ASME P-number | F49: Impact Test | G49: ASME IX | H49: ISO 15614 | I49: Other standard | K49: Comments To be filled by TOTAL or Company representative
A50: SMAW
A51: SAW
A52: GMAW
A53: GTAW
A54: FCAW
A55: Weld Overlay Processes
A57: Table 3.4.b - Welding - Description of Qualified Welding Procedures in Place (by approximate numbers)
A58: Welding Process | C58: Manual | D58: Automatic | E58: ASME P-number | F58: Impact Test | G58: ASME IX | H58: ISO 15614 | I58: Other standard | K58: Comments To be filled by TOTAL or Company representative
A59: SMAW
A60: SAW
...

Sheet Theme IV 
D1: ='Global Synthesis'!B1 -> Technical Information Analysis Form : On-Off Actuators Manufacturer | K1: ='Global Synthesis'!J1 -> GS EP INS 701 Appendix 1
K2: ='Global Synthesis'!J2 -> Revision 00 Date : January 2012
A3: According Total specifications : GS EP INS 137 & GS EP PVV 142 | G3: ='Global Synthesis'!F3 -> Assessment report N° : EP-TEC-INS-20xx-162-yy
A5: ='Global Synthesis'!A5:K5 -> MANUFACTURER
A7: ='Global Synthesis'!A18:B18 -> Name & Address of Audited Workshop | E7: ='Global Synthesis'!D7 -> Activity and Process of Audited Workshop | K7: ='Global Synthesis'!K7 -> Audit Date
A8: ='Global Synthesis'!A19 -> xxx | E8: ='Global Synthesis'!D8 -> xxx | K8: ='Global Synthesis'!K8:K10 -> xxx
A12: THEME IV - PRODUCTS MANAGEMENT (CONTROL, TESTING, INSPECTION, STORAGE)
A13: All facilities described herein are meant to be permanent in-house facilities only. Any sub-contracted activity must be clearly indicated showing the names and addresses of related Subcontractors. The number, type and status of all listed equipment are subject to thorough checks by the COMPANY representative in charge of the Plant Survey during his visit of the facilities.
A14: Table 4.1.a - In-coming Material Management - Material Storage
A15: Type of Storage | D15: Dimension | F15: Comments / Description (material stored,…) | I15: Comments To be filled by TOTAL or Company representative
A16: Covered storage yard
A17: Open storage yard
A18: Warehouse
A20: Table 4.1.b - In-coming Material Management - Storage Conditions
A21: Storage Conditions for : | E21: Description / Comments | I21: Comments To be filled by TOTAL or Company representative
A22: Small material
A23: Fragile material
A24: Welding consumables
A25: Dye penetrant products
A26: Gaskets
A27: Actuators
A28: Control panels
A29: Others
A31: Table 4.2.a - Inspection, Testing and Quality Control - Quality Control (Inspection) Organisation (attach an organization chart)
A32: Function or Qualification | D32: Staff (number/quantity of people) | F32: Contracted (number/quantity of people) | H32: Qualification level | I32: Qualification referential | K32: Comments To be filled by TOTAL or Company representative
A33: QC Manager
A34: Workshop inspector
A35: Radiographic Inspector
A36: Radiographic Operator
A37: UT Inspector
A38: MPI Inspector
A39: DP Inspector
A40: Others
A42: Table 4.2.b - Inspection, Testing and Quality Control - Non Destructive Testing and Control Equipment
A43: Type of Inspection | D43: Type of Equipment | F43: Number of Equipment | G43: Calibration of Equipment updated (yes/no) ? | H43: NDT procedures (availability, issuance, updating) | I43: Number of tests per year | J43: Sub-contracted testing : Yes / No / Partial ? | K43: Comments / Names of sub-contractor / Description of Capacity
A44: X-rays
A45: Gamma rays
A46: Ultrasonic Testing
A47: Magnetic particle
A48: Liquid penetrant
...
