Workbook

Sheet Guidelines
B1: Technical Information Analysis Form : Packaged Reciprocating Compressor | J1: GS EP MEC 903 Appendix 1
J2: Revision 00 Date: 10/2012
A5: Quick guidelines to use this document : the objective of the following indications, are to the help user to fill the Technical Information Analysis Form.
A8: This document has to be sent to the manufacturer to start technical assessment process before any survey at manufacturer location.
A9: The manufacturer has to fill all information requested in all tables.
A11: 1) "Production Range" card :
A12: On this card, the manufacturer has to indicate all its production ranges submitted for approval.
A13: After technical assessment, Total or its representative, is able to indicate for which production ranges the manufacturer is finally approved.
A15: 2) "Theme I to Theme IV" cards :
A16: The manufacturer has to fill all tables of each cards, in order to have a better understanding of its production capacities.
A17: After analysis of manufacturer answers, Total or its representative, can make comments, in blue column, for each manufacturer answers.
A19: 3) "Global Synthesis" cards :
A20: On this card all general information (name, address, contact of manufacturer, date of audit, assessment report n°, Total specifications linked,…)
A21: written will be automatically pasted in all the others cards.
... A27: In the last section, the signature of Total or its representative will be done, in order to validate the analysis result of this Form.

Sheet Global Synthesis
B1: Technical Information Analysis Form : Packaged Reciprocating Compressor | J1: =Guidelines!J1 -> GS EP MEC 903 Appendix 1
J2: =Guidelines!J2 -> Revision 00 Date: 10/2012
A3: According GS EP MEC 032, GS EP MEC 261 | F3: Assessment report N° :
A5: MANUFACTURER
A7: Vendor / Packager Name | D7: Activity and Process Concerned | K7: Audit Date
A8: xxx | D8: xxx | K8: xxx
A12: Office Address | D12: Name and Function of Auditees
A13: xxx
A18: Audited Workshop Address
A19: xxx
A24: TOTAL OR REPRESENTATIVE COMPANY TEAM
A26: TOTAL COMPANY Project Concerned | D26: Name, Function, Service / Company of Auditor
A33: Objectives of the Technical Information Analysis
A41: TECHNICAL INFORMATION ANALYSIS / TECHNICAL ASSESSMENT RESULT (FOR THE PRODUCTION RANGE CONSIDERED) - TO BE FILLED BY TOTAL OR REPRESENTATIVE
A43: Result of Information Analysis of GS EP MEC 903 - Appendix 1, filled by the Manufacturer
A44: Level of information is appropriate
A45: On site Audit Requested
A47: Result of Technical Assessment of Manufacturer (to be filled if on site audit is not deemed necessary)
D48: Decision * | E48: Comments
A49: Satisfactory
A50: Reserves to close to be satisfactory
A51: Not satisfactory
A52: Notes : | B52: * : Tip when appropriate
A53: CONCLUSIONS OF TECHNICAL INFORMATION ANALYSIS / GENERAL COMMENTS
A62: SIGNATURE OF TOTAL OR REPRESENTATIVE TEAM
A63: NAME | C63: DATE | F63: NAME | H63: DATE

Sheet Production Range
B1: ='Global Synthesis'!B1:I1 -> Technical Information Analysis Form : Packaged Reciprocating Compressor | N1: =Guidelines!J1 -> GS EP MEC 903 Appendix 1
N2: =Guidelines!J2 -> Revision 00 Date: 10/2012
A3: According GS EP MEC 032, GS EP MEC 261 | G3: ='Global Synthesis'!F3 -> Assessment report N° :
A5: ='Global Synthesis'!A5 -> MANUFACTURER
A7: ='Global Synthesis'!A7 -> Vendor / Packager Name | D7: ='Global Synthesis'!D7:I7 -> Activity and Process Concerned | N7: ='Global Synthesis'!K7 -> Audit Date
A8: ='Global Synthesis'!A8:B10 -> xxx | D8: ='Global Synthesis'!D8:I10 -> xxx | N8: ='Global Synthesis'!K8:K10 -> xxx
A12: ACTUAL PRODUCTION RANGE / APPROVED PRODUCTION RANGE OF VENDOR
A13: To list all the actual production ranges of the vendor and select and comment the approved ones.
F15: To be completed by the vendor | M15: To be completed by Total or representative Company
A16: Type | B16: Code | C16: Designation | F16: Designation | G16: Number of Throws | H16: Stroke (mm) | I16: RPM | J16: kW/Throw | K16: Total Rod Load (kN) | M16: Approved | N16: Comments
A17: Reciprocating Compressor Package | B17: 3461 | C17: Compressors units

Sheet Theme I
C1: ='Global Synthesis'!B1 -> Technical Information Analysis Form : Packaged Reciprocating Compressor | K1: =Guidelines!J1 -> GS EP MEC 903 Appendix 1
K2: =Guidelines!J2 -> Revision 00 Date: 10/2012
A3: According GS EP MEC 032, GS EP MEC 261 | G3: ='Global Synthesis'!F3 -> Assessment report N° :
A5: ='Global Synthesis'!A5 -> MANUFACTURER
A7: ='Global Synthesis'!A7 -> Vendor / Packager Name | E7: ='Global Synthesis'!D7 -> Activity and Process Concerned | K7: ='Global Synthesis'!K7 -> Audit Date
A8: ='Global Synthesis'!$A$8:$B$10 -> xxx | E8: ='Global Synthesis'!D8 -> xxx | K8: ='Global Synthesis'!$K$8:$K$10 -> xxx
A12: THEME I - GENERAL ORGANIZATION
A13: All facilities described herein are meant to be permanent in-house facilities only. Any sub-contracted activity must be clearly indicated showing the names and addresses of related Subcontractors. The number, type and status of all listed equipment are subject to thorough checks by the COMPANY representative in charge of the Plant Survey during his visit of the facilities.
A14: Table 1.1.a - General Organization - Surface area (Plot plan to be joined if available)
A15: Zone | D15: Surface area (m2) | F15: Description | I15: Comments To be filled by TOTAL or Company representative
A16: Overall
A17: Covered areas
A18: Yard areas
A19: Offices
A20: Manufacturing workshops
A21: Laboratory
A22: Material and extrusion equipment
A23: Testing workshops
A24: Warehouses
A25: Covered storage areas
A27: Table 1.1.b - General Organization - Manufacturer Management : organization chart to join
A28: Position | D28: Names | F28: Comments | I28: Comments To be filled by TOTAL or Company representative
A29: Managing Director
A30: Sales Manager
A31: Plant / Yard Manager
A32: Production Manager
A33: Quality Assurance Manager
A34: Design/Engineering Manager
A35: Quality Control / Inspection Manager
A36: Head of Welding department
A37: HSE Manager
A38: Logistic Manager
A39: Others
A41: Table 1.1.c - General Organization - Personnel
A42: Quality of Employees | D42: Staff Quantity (vendor's personnel) | F42: Contracted Personnel Quantity (personnel from external company which are working at the vendor facilities) | H42: Average years of service (staff) | I42: Comments To be filled by TOTAL or Company representative
A43: Commercial department
A44: Project Management
A45: Engineering / R&D
A46: Laboratory
A47: Procurement
...

Sheet Theme II
C1: ='Global Synthesis'!B1 -> Technical Information Analysis Form : Packaged Reciprocating Compressor | K1: =Guidelines!J1 -> GS EP MEC 903 Appendix 1
K2: =Guidelines!J2 -> Revision 00 Date: 10/2012
A3: According GS EP MEC 032, GS EP MEC 261 | G3: ='Global Synthesis'!F3 -> Assessment report N° :
A5: ='Global Synthesis'!A5 -> MANUFACTURER
A7: ='Global Synthesis'!A7 -> Vendor / Packager Name | E7: ='Global Synthesis'!D7 -> Activity and Process Concerned | K7: ='Global Synthesis'!K7 -> Audit Date
A8: ='Global Synthesis'!$A$8:$B$10 -> xxx | E8: ='Global Synthesis'!D8 -> xxx | K8: ='Global Synthesis'!$K$8:$K$10 -> xxx
A12: THEME II - ENGINEERING & DESIGN
A13: All facilities described herein are meant to be permanent in-house facilities only. Any sub-contracted activity must be clearly indicated showing the names and addresses of related Subcontractors. The number, type and status of all listed equipment are subject to thorough checks by the COMPANY representative in charge of the Plant Survey during his visit of the facilities.
A14: Table 2.1.a - Engineering & Design Capacity - Facilities Description
A15: Type of Equipment | C15: Number of Equipment | D15: Computer Program Names used | G15: Comments / Description | J15: Comments To be filled by TOTAL or Company representative
A16: CAD Workstation
A17: Drawing Board
A18: Other
A20: Table 2.1.b - Engineering & Design Capacity - Description of Activities and Staff Qualification
A21: Number of Permanent Staff | C21: Description of Engineering, Design and R&D activities | F21: Staff Qualifications (Fitters, technicians, engineers…) | H21: Sub-contracted (if any) | J21: Comments To be filled by TOTAL or Company representative
A28: Table 2.1.c - Engineering & Design Capacity - Calculation Facilities (Softwares for design calculation : finite element, thermal, stress, hydraulic, seismic calculations/analysis,…)
A29: Type of Design | C29: Codes | D29: Computer Programs | F29: Subcontracted (if any) | H29: Comments / Description | J29: Comments To be filled by TOTAL or Company representative
A30: Fabricated piping
A31: Structural steel members
A32: Performances
A33: Other
A35: Table 2.2.a - International Design Codes Application Deviation to International Recognized codes and standards
A36: Code or Standard | D36: Date of Revision | E36: Issue of Document used by vendor | F36: Title | H36: Deviation List available for Purchaser Review : Yes / No | I36: Submitted to COMPANY : Yes/No | J36: Comments To be filled by TOTAL or Company representative
A37: ISO 13631 | D37: latest | F37: Petroleum and natural gas industries - Packaged reciprocating gas compressors
A38: API Std 618 | D38: 4th and 5th edition | F38: Reciprocating Compressors for Petroleum, Chemical, and Gas Industry Services
A39: API Std 670 | D39: latest | F39: Machinery Protection Systems
A40: API Std 671 | D40: latest | F40: Special Purpose Couplings for Petroleum, Chemical, and Gas Industry Services
A41: Other
A44: GS EP | D44: Date of Revision | E44: Issue of Document used by vendor | F44: Title | H44: Deviation List available for Purchaser Review : Yes / No | I44: Submitted to COMPANY : Yes/No | J44: Comments To be filled by TOTAL or Company representative
A45: GS EP MEC 032 | D45: 01/2013 | F45: Rotating Machine Package Specification Gas Engine or Electrical Motor driven Reciprocating Compressor
A46: GS EP MEC 261 | D46: 01/2013 | F46: Packaged Reciprocating Compressors for Oil and Gas Production Services According to ISO 13631

Sheet Theme III
C1: ='Global Synthesis'!B1 -> Technical Information Analysis Form : Packaged Reciprocating Compressor | K1: =Guidelines!J1 -> GS EP MEC 903 Appendix 1
K2: =Guidelines!J2 -> Revision 00 Date: 10/2012
A3: According GS EP MEC 032, GS EP MEC 261 | G3: ='Global Synthesis'!F3 -> Assessment report N° :
A5: ='Global Synthesis'!A5 -> MANUFACTURER
A7: ='Global Synthesis'!A7 -> Vendor / Packager Name | E7: ='Global Synthesis'!D7 -> Activity and Process Concerned | K7: ='Global Synthesis'!K7 -> Audit Date
A8: ='Global Synthesis'!A8:B10 -> xxx | E8: ='Global Synthesis'!D8 -> xxx | K8: ='Global Synthesis'!K8:K10 -> xxx
A12: THEME III - MANUFACTURING
A13: All facilities described herein are meant to be permanent in-house facilities only. Any sub-contracted activity must be clearly indicated showing the names and addresses of related Subcontractors. The number, type and status of all listed equipment are subject to thorough checks by the COMPANY representative in charge of the Plant Survey during his visit of the facilities.
A14: Table 3.1.a - Workshop General Organization - Building Bay and Cranes Data of Covered Area / Handling and Transport facilities
A15: Bay n° | C15: Bay Dimensions (m x m) | D15: Type of Crane / Handling tools / Transport | E15: Number of Equipment | F15: Max Capacity (tons) | G15: Height under Hook (m) | H15: Description (certification date, maintenance condition…) | K15: Comments To be filled by TOTAL or Company representative
A16: 1
A17: 2
A18: 3
A19: 4
A20: 5
A21: 6
A22: 7
A23: 8
A25: Table 3.1.b - Workshop General Organization - Cranes Data of Open Air Area / Handling and Transport facilities
A26: Type of Crane / Handling tools / Transport | D26: Number of Equipment | E26: Max Capacity (tons) | F26: Height under Hook (m) | G26: Description (certification date, maintenance condition…) | J26: Comments To be filled by TOTAL or Company representative
A36: Table 3.2.a - Machining - Description of Equipment in Place
A37: Type of Equipment | C37: Description | E37: Quantity | F37: Max. Capacity (m) | H37: General maintenance condition | J37: Comments To be filled by TOTAL or Company representative
A50: Table 3.3.a - Control & Testing : Vibration - Description of Equipment in Place
A51: Type of Equipment | C51: Description | E51: Quantity | F51: Sensitivity / Range | H51: General maintenance condition | J51: Comments To be filled by TOTAL or Company representative
A57: Table 3.3.b- Control & Testing : Hydrotest - Description of Equipment in Place
A58: Type of Equipment | C58: Description | E58: Quantity | F58: Max. Capacity (Barg) | H58: General maintenance condition | J58: Comments To be filled by TOTAL or Company representative
A63: Table 3.3.c - Control & Testing - Performance test bench : Description of Equipment in Place
A64: Type of Equipment | C64: Description | E64: Quantity | F64: Max. Power (Kw) | H64: General maintenance condition | J64: Comments To be filled by TOTAL or Company representative
A69: Table 3.3.d - Control & Testing - Mechanical test bench : Description of Equipment in Place
A70: Type of Equipment | C70: Description | E70: Quantity | F70: Max. Power (Kw) | H70: General maintenance condition | J70: Comments To be filled by TOTAL or Company representative
A75: Table 3.4.a - Welding - Description of Equipment in Place (permanent equipment only)
A76: Equipment | C76: Number | E76: Max Capacity (tons) | G76: Comments / Description (Maintenance condition,…) | J76: Comments To be filled by TOTAL or Company representative
A77: Manual Welding Positioners
A78: Automatic Welding Positioners
A79: Others
A81: Table 3.4.b - Welding and Heating - Description of Welding Staff : number and qualifications (to be joined)
C82: Number | E82: Type of Qualification | G82: Comments / Description | J82: Comments To be filled by TOTAL or Company representative
A83: Welding Engineer
A84: Welding Technician
A85: Welding Supervisor
...

Sheet Theme IV 
C1: ='Global Synthesis'!B1 -> Technical Information Analysis Form : Packaged Reciprocating Compressor | K1: =Guidelines!J1 -> GS EP MEC 903 Appendix 1
K2: =Guidelines!J2 -> Revision 00 Date: 10/2012
A3: According GS EP MEC 032, GS EP MEC 261 | G3: ='Global Synthesis'!F3 -> Assessment report N° :
A5: ='Global Synthesis'!A5 -> MANUFACTURER
A7: ='Global Synthesis'!A7 -> Vendor / Packager Name | E7: ='Global Synthesis'!D7 -> Activity and Process Concerned | K7: ='Global Synthesis'!K7 -> Audit Date
A8: ='Global Synthesis'!A8:B10 -> xxx | E8: ='Global Synthesis'!D8 -> xxx | K8: ='Global Synthesis'!K8:K10 -> xxx
A12: THEME IV - PRODUCTS MANAGEMENT (Control, Testing, Inspection, Storage)
A13: All facilities described herein are meant to be permanent in-house facilities only. Any sub-contracted activity must be clearly indicated showing the names and addresses of related Subcontractors. The number, type and status of all listed equipment are subject to thorough checks by the COMPANY representative in charge of the Plant Survey during his visit of the facilities.
A14: Table 4.1.a - Outsourced Material Management - Material Storage
A15: Type of Storage | D15: Dimension | F15: Material Stored | I15: Comments To be filled by TOTAL or Company representative
A16: Covered storage yard
A17: Open storage yard
A18: Non controlled temperature warehouse
A19: Cold controlled temperature warehouse
A20: Hot controlled temperature warehouse
A22: Table 4.1.b - Outsourced Material Management - Storage Conditions - identification
A23: Storage Conditions for : | E23: Description / Comments | I23: Comments To be filled by TOTAL or Company representative
A24: Raw casings
A25: Raw forgings
A26: Raw welded sub-assembly (base plate, piping, supports)
A27: Pre-machined casing and forging
A28: Pre- machined & welded sub-assembly (base plate, piping, supports)
A29: External source components
A30: External source equipments (delivered as full assembly)
A31: Seals and gaskets
A32: Bearings
A33: Instruments, tubbing, fittings, trays
A34: Electricals, cables, trays
A35: Non conform raw material
... A44: Table 4.1.c - Outsourced Material Management - Outsourced Inspection : Non Destructive Testing Equipment
A45: Type of test / control | D45: Equipment type | E45: Range capability | F45: Quantity of Equipment | G45: Calibration of Equipment updated ? | H45: Testing procedures and international standards used (availability, issuance, updating) | I45: Recording and traceability | K45: Comments To be filled by TOTAL or Company representative
A46: Raw casings and forgings (dimensions, weight, NDT, material certificates, identification)
A47: Pre-machined casings and forgings (dimensions, weight, NDT, material certificates, identification)
A48: Welded sub-assembly (dimensions, NDT, material certificates, identification)
A49: Machined components (dimensions, NDT, material certificates, identification)
A50: External source components
A51: External source equipmements
A52: Seals and gaskets
A53: Bearings
A54: Instruments, tubbing, fittings, trays
...
