Workbook

Sheet Matrise
B1: Matrise for checklists | D1: Containere | T1: Utstyr
B2: Type container and equipment | D2: A | E2: B | F2: C | G2: E | H2: G | I2: I | J2: J | K2: L | L2: M | M2: N | N2: O | O2: P | P2: X | Q2: Y | R2: Z | S2: U01 | T2: U02 | U2: U03 | V2: U04 | W2: U05 | X2: U06 | Y2: U07 | Z2: U08 | AA2: U09 | AB2: U10 | AC2: U98 | AD2: U99
A3: Control point | B3: NORSOK Z-015 CHECKLIST | C3: Z-015 | D3: Accommodation container | E3: Office, coffee bar, lab, ROV, well services etc. | F3: Workshop for hot work | G3: Workshop for cold work | H3: Container for diesel enginer | I3: Stores for flammable materials | J3: Stores for non-flammable materials | K3: Painters workshop | L3: Refrigeration and freezing containers | M3: Radio and communications room | N3: Toilet container | O3: Electrical equipment container | P3: Other container with ignition source | Q3: Other container with ignition sources presssure regulated | R3: Other container without ignition source | S3: Diesel engines | T3: Air compressors | U3: Tanks | V3: High pressure cleaning equipment | W3: Steam generator | X3: Mobile crane | Y3: Well equip., wireline, logging, coiltubing | Z3: Habitat for hot work class A | AA3: Equipment for waste handling | AB3: Pneumatic / hydraulic pump equipment etc. | AC3: Non-Ex-proof equipment on skid | AD3: EX-proof equipment on skid
B4: Skal ikke plasseres i eksplosjonsfarlig område | D4: X | K4: X | L4: X | M4: X | P4: X | AA4: X | AC4: X
B5: 1. MECHANICAL
A6: 1.1. | B6: Signs tagging/labelling | C6: 4.6 | D6: X | E6: X | F6: X | G6: X | H6: X | I6: X | J6: X | K6: X | L6: X | M6: X | N6: X | O6: X | P6: X | Q6: X | R6: X | S6: X | T6: X | U6: X | V6: X | W6: X | X6: X | Y6: X | Z6: X | AA6: X | AB6: X | AC6: X | AD6: X
A7: 1.2 | B7: Annual inspection (lifting equipment, cert.) | C7: 4.4.1 | D7: X | E7: X | F7: X | G7: X | H7: X | I7: X | J7: X | K7: X | L7: X | M7: X | N7: X | O7: X | P7: X | Q7: X | R7: X | S7: X | T7: X | U7: X | V7: X | W7: X | X7: X | Y7: X | Z7: X | AA7: X | AB7: X | AC7: X | AD7: X
A8: 1.3 | B8: Mech. Cond. (lifting eyes/points, structure) | C8: 4.4.1 | D8: X | E8: X | F8: X | G8: X | H8: X | I8: X | J8: X | K8: X | L8: X | M8: X | N8: X | O8: X | P8: X | Q8: X | R8: X | S8: X | T8: X | U8: X | V8: X | W8: X | X8: X | Y8: X | Z8: X | AA8: X | AB8: X | AC8: X | AD8: X
A9: 1.4 | B9: Fire classification | C9: 4.4.1 | D9: X | E9: X | F9: X | G9: X | I9: X | K9: X | L9: X | M9: X | N9: X | O9: X | P9: X | Q9: X | R9: X
A10: 1.5 | B10: Air lock | C10: 4.4.1 | E10: X | F10: X | O10: X | Q10: X
A11: 1.6 | B11: Self closing doors | C11: 4.4.1 | D11: X | E11: X | F11: X | G11: X | H11: X | I11: X | J11: X | K11: X | L11: X | M11: X | N11: X | O11: X | P11: X | Q11: X | R11: X
A12: 1.7 | B12: Emergency exits | C12: 4.4.1 | D12: X | E12: X | F12: X | G12: X | K12: X | M12: X | N12: X | O12: X | P12: X | Q12: X | R12: X | Z12: X
A13: 1.8 | B13: Mechanical ventilation | C13: 4.4.7 | D13: X | E13: X | F13: X | G13: X | H13: X | K13: X | M13: X | N13: X | O13: X | P13: X | Q13: X | X13: X | Z13: X
A14: 1.9 | B14: Noise measurement carried out (supplier) | C14: 4.4.8 | D14: X | E14: X | H14: X | S14: X | T14: X | V14: X | X14: X | Y14: X | AA14: X | AB14: X
B15: 2. FIRE, GAS AND SAFETY
A16: 2.1 | B16: Gas detector in air inlet | C16: 4.4.3 | D16: X | E16: X | F16: X | G16: X | H16: X | K16: X | M16: X | N16: X | O16: X | Q16: X | S16: X | T16: X | V16: X | W16: X | X16: X | Y16: X | Z16: X
A17: 2.2 | B17: Fire/smoke detector | C17: 4.4.2 | D17: X | E17: X | F17: X | G17: X | H17: X | I17: X | K17: X | M17: X | O17: X | P17: X | Q17: X | R17: X | S17: X | T17: X | V17: X | W17: X | X17: X | Y17: X
A18: 2.3 | B18: Portable fire extinguisher | C18: 4.4.1 | D18: X
A19: 2.4 | B19: Extinguisher | C19: 4.4.2 | D19: X | E19: X | F19: X | G19: X | H19: X | I19: X | K19: X | M19: X | N19: X | O19: X | P19: X | Q19: X | R19: X | S19: X | T19: X | V19: X | W19: X | X19: X | Y19: X
A20: 2.5 | B20: Fire dampers | C20: 4.4.1 | D20: X
A21: 2.6 | B21: Alarm og nedst. v/tap av overtrykk/vent. | C21: 4.4.7 | D21: X | E21: X | F21: X | G21: X | H21: X | K21: X | M21: X | N21: X | O21: X | Q21: X | Z21: X
A22: 2.7 | B22: Romslukkingsanlegg | C22: 4.4.2 | D22: X | H22: X | T22: X | W22: X | X22: X | Y22: X
B23: 3. ELECTRICAL
A24: 3.1 | B24: Cables, glands, equipment etc. | C24: 4.4.6.1 | D24: X | E24: X | F24: X | G24: X | H24: X | I24: X | J24: X | K24: X | L24: X | M24: X | N24: X | O24: X | P24: X | Q24: X | R24: X | S24: X | T24: X | U24: X | V24: X | W24: X | X24: X | Y24: X | Z24: X | AA24: X | AB24: X | AC24: X | AD24: X
A25: 3.2 | B25: Insulation resistance - megger | C25: 37107 | D25: X | E25: X | F25: X | G25: X | H25: X | I25: X | J25: X | K25: X | L25: X | M25: X | N25: X | O25: X | P25: X | Q25: X | R25: X | S25: X | T25: X | U25: X | V25: X | W25: X | X25: X | Y25: X | Z25: X | AA25: X | AB25: X | AC25: X | AD25: X
A26: 3.3 | B26: Earthing (NB bonding of structure) | C26: 4.4.6.3 | D26: X | E26: X | F26: X | G26: X | H26: X | I26: X | J26: X | K26: X | L26: X | M26: X | N26: X | O26: X | P26: X | Q26: X | R26: X | S26: X | T26: X | U26: X | V26: X | W26: X | X26: X | Y26: X | Z26: X | AA26: X | AB26: X | AC26: X | AD26: X
A27: 3.4 | B27: All external installation Ex-proof | C27: 4.5.1 | D27: X | E27: X | F27: X | G27: X | H27: X | I27: X | J27: X | K27: X | L27: X | M27: X | N27: X | O27: X | P27: X | Q27: X | R27: X | S27: X | T27: X | U27: X | V27: X | W27: X | X27: X | Y27: X | Z27: X | AA27: X | AB27: X | AC27: X | AD27: X
A28: 3.5 | B28: All internal installation Ex-proof | C28: 4.5.1 | G28: X | H28: X | I28: X | J28: X | K28: X | L28: X | M28: X | N28: X | O28: X | P28: X | Q28: X | R28: X | X28: X | Y28: X | AD28: X
A29: 3.6 | B29: Emergency lighting | C29: 4.4.6.2 | D29: X | E29: X | F29: X | G29: X | H29: X | K29: X | M29: X | N29: X | O29: X | X29: X | Y29: X
B30: 4. HOOK-UP TO INSTALLATION
A31: 4.1 | B31: Power supply (voltage, freq., plugs) | C31: 4.7 | D31: X | E31: X | F31: X | G31: X | H31: X | I31: X | J31: X | K31: X | L31: X | M31: X | N31: X | O31: X | P31: X | Q31: X | R31: X | S31: X | T31: X | U31: X | V31: X | W31: X | X31: X | Y31: X | Z31: X | AA31: X | AC31: X | AD31: X
A32: 4.2 | B32: Telephone with plug | C32: 4.7 | D32: X | E32: X | M32: X | N32: X | O32: X | X32: X
A33: 4.3 | B33: PA with plug | C33: 4.7 | D33: X | E33: X | F33: X | G33: X | K33: X | M33: X | N33: X | O33: X | X33: X | Y33: X
A34: 4.4 | B34: Alarm signal to control room with plug | C34: 4.7 | D34: X | E34: X | F34: X | G34: X | H34: X | I34: X | K34: X | L34: X | M34: X | N34: X | O34: X | Q34: X | R34: X | S34: X | T34: X | V34: X | W34: X | X34: X | Y34: X | Z34: X | AC34: X | AD34: X
A35: 4.5 | B35: Shutdown (ESD) from CCR (for battery system etc.) | C35: 4.4.3 | D35: X | E35: X | F35: X | H35: X | M35: X | O35: X | S35: X | X35: X | Y35: X | AB35: X
B36: 5. EQUIPMENT
A37: 5.1 | B37: Manual emergency stop | C37: 4.4.8 | H37: X | S37: X | T37: X | V37: X | W37: X | X37: X | Y37: X | Z37: X | AA37: X | AB37: X | AD37: X
A38: 5.2 | B38: Manual shutdown of diesel supply | C38: 4.3.1 | H38: X | S38: X | T38: X | V38: X | W38: X | X38: X | Y38: X
A39: 5.3 | B39: Drip trays | C39: 4.3.1 | H39: X | S39: X | T39: X | V39: X | W39: X | X39: X | Y39: X
A40: 5.4 | B40: "Rig saver" in combustion air inlet | C40: 4.3.1 | H40: X | S40: X | T40: X | V40: X | W40: X | X40: X | Y40: X
A41: 5.5 | B41: Shutdown if loss of oil pressure | C41: 4.3.1 | H41: X | S41: X | T41: X | V41: X | X41: X | Y41: X
A42: 5.6 | B42: Shutdown if high cooling water temperature | C42: 4.3.1 | H42: X | S42: X | T42: X | V42: X | W42: X | X42: X | Y42: X
A43: 5.7 | B43: Shutdown if overspeed | C43: 4.3.1 | H43: X | S43: X | T43: X | V43: X | X43: X | Y43: X
A44: 5.8 | B44: Diesel engine approved for zone 2 | C44: 4.3.1 | H44: X | S44: X | T44: X | V44: X | X44: X | Y44: X
A45: 5.9 | B45: Gas detector in combustion air inlet | C45: 4.3.1 | H45: X | S45: X | T45: X | V45: X | W45: X | X45: X | Y45: X
A46: 5.1 | B46: Flame arrester in exhaust pipe | C46: 4.3.1 | H46: X | S46: X | T46: X | V46: X | W46: X | X46: X | Y46: X
A47: 5.11 | B47: Spark arrester in exhaust pipe | C47: 4.3.1 | H47: X | S47: X | T47: X | V47: X | W47: X | X47: X | Y47: X
A48: 5.12 | B48: Safety valve | C48: 4.3.3 | T48: X | U48: X | V48: X | W48: X | AD48: X
A49: 5.13 | B49: Flame guard | C49: 4.3.5 | W49: X
A50: 5.14 | B50: Low water level alarm | C50: 4.3.5 | W50: X
A51: 5.15 | B51: Check of limit switches | C51: 4.3.6 | X51: X | Y51: X
B52: 6. DOCUMENTATION
A53: 6.1 | B53: Lifting certificate | C53: 4.8 | D53: X | E53: X | F53: X | G53: X | H53: X | I53: X | J53: X | K53: X | L53: X | M53: X | N53: X | O53: X | P53: X | Q53: X | R53: X | S53: X | T53: X | U53: X | V53: X | W53: X | X53: X | Y53: X | Z53: X | AA53: X | AB53: X | AC53: X | AD53: X
A54: 6.2 | B54: Other technical doc. (drawings, data.) | C54: 4.8 | D54: X | E54: X | F54: X | G54: X | H54: X | I54: X | J54: X | K54: X | L54: X | M54: X | N54: X | O54: X | P54: X | Q54: X | R54: X | S54: X | T54: X | U54: X | V54: X | W54: X | X54: X | Y54: X | Z54: X | AA54: X | AB54: X | AC54: X | AD54: X
A55: 6.3 | B55: Certificate for equip.with special requ. | C55: 4.8 | D55: X | E55: X | F55: X | G55: X | H55: X | I55: X | J55: X | K55: X | L55: X | M55: X | N55: X | O55: X | P55: X | Q55: X | R55: X | S55: X | T55: X | U55: X | V55: X | W55: X | X55: X | Y55: X | Z55: X | AA55: X | AB55: X | AC55: X | AD55: X
A56: 6.4 | B56: Maintenance programme | C56: 4.8 | D56: X | E56: X | F56: X | G56: X | H56: X | I56: X | J56: X | K56: X | L56: X | M56: X | N56: X | O56: X | P56: X | Q56: X | R56: X | S56: X | T56: X | U56: X | V56: X | W56: X | X56: X | Y56: X | Z56: X | AA56: X | AB56: X | AC56: X | AD56: X
A57: 6.5 | B57: Maintenance journal | C57: 4.8 | D57: X | E57: X | F57: X | G57: X | H57: X | I57: X | J57: X | K57: X | L57: X | M57: X | N57: X | O57: X | P57: X | Q57: X | R57: X | S57: X | T57: X | U57: X | V57: X | W57: X | X57: X | Y57: X | Z57: X | AA57: X | AB57: X | AC57: X | AD57: X
A58: 6.6 | B58: User manual | C58: 4.8 | D58: X | E58: X | F58: X | G58: X | H58: X | I58: X | J58: X | K58: X | L58: X | M58: X | N58: X | O58: X | P58: X | Q58: X | R58: X | S58: X | T58: X | U58: X | V58: X | W58: X | X58: X | Y58: X | Z58: X | AA58: X | AB58: X | AC58: X | AD58: X
B63: Container type : | H63: ID no.:
B65: Approved for location in zone:
B66: Zone 1 □ , Zone 2 □, Non-hazardous area □
B67: Supplier: | E67: Contact person contractor/telephone:
B69: Company/installation container intended for: | E69: Contact person/requisitioner in the company:
B72: Person in the company responsible for prior approval, see 4.8.3:
B74: Name: | F74: Telephone: | I74: Date approval received:
B77: Status: | E77: Ref. | F77: Status | G77: Receiving control (company) | H77: Remarks
B78: OK=Approved, NA=Not Applicable, NC=Not Checked, D=Defective or missing | E78: Z-015 | F78: supplier
A80: Supplier | D80: Supplier | H80: Company
A81: Competent person for lifting gir/mechanical devices | D81: Electrician | H81: Receiving control
A82: Date: | D82: Date: | H82: Date:
C84: Signature | E84: Signature | I84: Signature
C86: Name in capitals | E86: Name in capitals | I86: Name in capitals

Sheet A
A1: =Matrise!B3 -> NORSOK Z-015 CHECKLIST
B2: =Matrise!B63 -> Container type : | D2: =Matrise!D2 -> A | E2: =Matrise!D3 -> Accommodation container | H2: =Matrise!H63 -> ID no.:
B4: =Matrise!B65 -> Approved for location in zone:
B5: =Matrise!B66 -> Zone 1 □ , Zone 2 □, Non-hazardous area □
B6: =Matrise!B67 -> Supplier: | E6: =Matrise!E67 -> Contact person contractor/telephone:
B8: =Matrise!B69 -> Company/installation container intended for: | E8: =Matrise!E69 -> Contact person/requisitioner in the company:
B11: =Matrise!B72 -> Person in the company responsible for prior approval, see 4.8.3:
B13: =Matrise!B74 -> Name: | F13: =Matrise!F74 -> Telephone: | I13: =Matrise!I74 -> Date approval received:
A16: =Matrise!A3 -> Control point | C16: =Matrise!B77 -> Status: | F16: Ref. | G16: =Matrise!F77 -> Status | H16: =Matrise!G77 -> Receiving control (company) | I16: =Matrise!H77 -> Remarks
C17: =Matrise!B78 -> OK=Approved, NA=Not Applicable, NC=Not Checked, D=Defective or missing | F17: =Matrise!E78 -> Z-015 | G17: =Matrise!F78 -> supplier
C18: =Matrise!B4 -> Skal ikke plasseres i eksplosjonsfarlig område
C19: =Matrise!B5 -> 1. MECHANICAL
B20: =Matrise!A6 -> 1.1. | C20: =Matrise!B6 -> Signs tagging/labelling | F20: =Matrise!C6 -> 4.6
B21: =Matrise!A7 -> 1.2 | C21: =Matrise!B7 -> Annual inspection (lifting equipment, cert.) | F21: =Matrise!C7 -> 4.4.1
B22: =Matrise!A8 -> 1.3 | C22: =Matrise!B8 -> Mech. Cond. (lifting eyes/points, structure) | F22: =Matrise!C8 -> 4.4.1
B23: =Matrise!A9 -> 1.4 | C23: =Matrise!B9 -> Fire classification | F23: =Matrise!C9 -> 4.4.1
B24: =Matrise!A11 -> 1.6 | C24: =Matrise!B11 -> Self closing doors | F24: =Matrise!C11 -> 4.4.1
B25: =Matrise!A12 -> 1.7 | C25: =Matrise!B12 -> Emergency exits | F25: =Matrise!C12 -> 4.4.1
B26: =Matrise!A13 -> 1.8 | C26: =Matrise!B13 -> Mechanical ventilation | F26: =Matrise!C13 -> 4.4.7
B27: =Matrise!A14 -> 1.9 | C27: =Matrise!B14 -> Noise measurement carried out (supplier) | F27: =Matrise!C14 -> 4.4.8
C28: =Matrise!B15 -> 2. FIRE, GAS AND SAFETY
B29: =Matrise!A16 -> 2.1 | C29: =Matrise!B16 -> Gas detector in air inlet | F29: =Matrise!C16 -> 4.4.3
B30: =Matrise!A17 -> 2.2 | C30: =Matrise!B17 -> Fire/smoke detector | F30: =Matrise!C17 -> 4.4.2
B31: =Matrise!A18 -> 2.3 | C31: =Matrise!B18 -> Portable fire extinguisher | F31: =Matrise!C18 -> 4.4.1
B32: =Matrise!A19 -> 2.4 | C32: =Matrise!B19 -> Extinguisher | F32: =Matrise!C19 -> 4.4.2
B33: =Matrise!A20 -> 2.5 | C33: =Matrise!B20 -> Fire dampers | F33: =Matrise!C20 -> 4.4.1
B34: =Matrise!A21 -> 2.6 | C34: =Matrise!B21 -> Alarm og nedst. v/tap av overtrykk/vent. | F34: =Matrise!C21 -> 4.4.7
B35: =Matrise!A22 -> 2.7 | C35: =Matrise!B22 -> Romslukkingsanlegg | F35: =Matrise!C22 -> 4.4.2
C36: =Matrise!B23 -> 3. ELECTRICAL
B37: =Matrise!A24 -> 3.1 | C37: =Matrise!B24 -> Cables, glands, equipment etc. | F37: =Matrise!C24 -> 4.4.6.1
B38: =Matrise!A25 -> 3.2 | C38: =Matrise!B25 -> Insulation resistance - megger | F38: =Matrise!C25 -> 37107
B39: =Matrise!A26 -> 3.3 | C39: =Matrise!B26 -> Earthing (NB bonding of structure) | F39: =Matrise!C26 -> 4.4.6.3
B40: =Matrise!A27 -> 3.4 | C40: =Matrise!B27 -> All external installation Ex-proof | F40: =Matrise!C27 -> 4.5.1
B41: =Matrise!A29 -> 3.6 | C41: =Matrise!B29 -> Emergency lighting | F41: =Matrise!C29 -> 4.4.6.2
C42: =Matrise!B30 -> 4. HOOK-UP TO INSTALLATION
B43: =Matrise!A31 -> 4.1 | C43: =Matrise!B31 -> Power supply (voltage, freq., plugs) | F43: =Matrise!C31 -> 4.7
B44: =Matrise!A32 -> 4.2 | C44: =Matrise!B32 -> Telephone with plug | F44: =Matrise!C32 -> 4.7
B45: =Matrise!A33 -> 4.3 | C45: =Matrise!B33 -> PA with plug | F45: =Matrise!C33 -> 4.7
B46: =Matrise!A34 -> 4.4 | C46: =Matrise!B34 -> Alarm signal to control room with plug | F46: =Matrise!C34 -> 4.7
B47: =Matrise!A35 -> 4.5 | C47: =Matrise!B35 -> Shutdown (ESD) from CCR (for battery system etc.) | F47: =Matrise!C35 -> 4.4.3
C48: =Matrise!B52 -> 6. DOCUMENTATION
B49: =Matrise!A53 -> 6.1 | C49: =Matrise!B53 -> Lifting certificate | F49: =Matrise!C53 -> 4.8
B50: =Matrise!A54 -> 6.2 | C50: =Matrise!B54 -> Other technical doc. (drawings, data.) | F50: =Matrise!C54 -> 4.8
B51: =Matrise!A55 -> 6.3 | C51: =Matrise!B55 -> Certificate for equip.with special requ. | F51: =Matrise!C55 -> 4.8
B52: =Matrise!A56 -> 6.4 | C52: =Matrise!B56 -> Maintenance programme | F52: =Matrise!C56 -> 4.8
B53: =Matrise!A57 -> 6.5 | C53: =Matrise!B57 -> Maintenance journal | F53: =Matrise!C57 -> 4.8
B54: =Matrise!A58 -> 6.6 | C54: =Matrise!B58 -> User manual | F54: =Matrise!C58 -> 4.8
A56: =Matrise!A80 -> Supplier | D56: =Matrise!D80 -> Supplier | H56: =Matrise!H80 -> Company
A57: =Matrise!A81 -> Competent person for lifting gir/mechanical devices | D57: =Matrise!D81 -> Electrician | H57: =Matrise!H81 -> Receiving control
A58: =Matrise!A82 -> Date: | D58: =Matrise!D82 -> Date: | H58: =Matrise!H82 -> Date:
C60: =Matrise!C84 -> Signature | E60: =Matrise!E84 -> Signature | I60: =Matrise!I84 -> Signature
C62: =Matrise!C86 -> Name in capitals | E62: =Matrise!E86 -> Name in capitals | I62: =Matrise!I86 -> Name in capitals
B64: =Matrise!A88 -> 0

Sheet B
A1: =Matrise!B3 -> NORSOK Z-015 CHECKLIST
B2: Container type : | D2: =Matrise!E2 -> B | E2: =Matrise!E3 -> Office, coffee bar, lab, ROV, well services etc. | H2: =Matrise!H63 -> ID no.:
B4: =Matrise!B65 -> Approved for location in zone:
B5: =Matrise!B66 -> Zone 1 □ , Zone 2 □, Non-hazardous area □
B6: =Matrise!B67 -> Supplier: | E6: =Matrise!E67 -> Contact person contractor/telephone:
B8: =Matrise!B69 -> Company/installation container intended for: | E8: =Matrise!E69 -> Contact person/requisitioner in the company:
B11: =Matrise!B72 -> Person in the company responsible for prior approval, see 4.8.3:
B13: =Matrise!B74 -> Name: | F13: =Matrise!F74 -> Telephone: | I13: =Matrise!I74 -> Date approval received:
A16: =Matrise!A3 -> Control point | C16: =Matrise!B77 -> Status: | F16: =Matrise!E77 -> Ref. | G16: =Matrise!F77 -> Status | H16: =Matrise!G77 -> Receiving control (company) | I16: =Matrise!H77 -> Remarks
C17: =Matrise!B78 -> OK=Approved, NA=Not Applicable, NC=Not Checked, D=Defective or missing | F17: =Matrise!E78 -> Z-015 | G17: =Matrise!F78 -> supplier
C18: =Matrise!B5 -> 1. MECHANICAL
B19: =Matrise!A6 -> 1.1. | C19: =Matrise!B6 -> Signs tagging/labelling | F19: =Matrise!C6 -> 4.6
B20: =Matrise!A7 -> 1.2 | C20: =Matrise!B7 -> Annual inspection (lifting equipment, cert.) | F20: =Matrise!C7 -> 4.4.1
B21: =Matrise!A8 -> 1.3 | C21: =Matrise!B8 -> Mech. Cond. (lifting eyes/points, structure) | F21: =Matrise!C8 -> 4.4.1
B22: =Matrise!A9 -> 1.4 | C22: =Matrise!B9 -> Fire classification | F22: =Matrise!C9 -> 4.4.1
B23: =Matrise!A10 -> 1.5 | C23: =Matrise!B10 -> Air lock | F23: =Matrise!C10 -> 4.4.1
B24: =Matrise!A11 -> 1.6 | C24: =Matrise!B11 -> Self closing doors | F24: =Matrise!C11 -> 4.4.1
B25: =Matrise!A12 -> 1.7 | C25: =Matrise!B12 -> Emergency exits | F25: =Matrise!C12 -> 4.4.1
B26: =Matrise!A13 -> 1.8 | C26: =Matrise!B13 -> Mechanical ventilation | F26: =Matrise!C13 -> 4.4.7
B27: =Matrise!A14 -> 1.9 | C27: =Matrise!B14 -> Noise measurement carried out (supplier) | F27: =Matrise!C14 -> 4.4.8
C28: =Matrise!B15 -> 2. FIRE, GAS AND SAFETY
B29: =Matrise!A16 -> 2.1 | C29: =Matrise!B16 -> Gas detector in air inlet | F29: =Matrise!C16 -> 4.4.3
B30: =Matrise!A17 -> 2.2 | C30: =Matrise!B17 -> Fire/smoke detector | F30: =Matrise!C17 -> 4.4.2
B31: =Matrise!A19 -> 2.4 | C31: =Matrise!B19 -> Extinguisher | F31: =Matrise!C19 -> 4.4.2
B32: =Matrise!A20 -> 2.5 | C32: =Matrise!B20 -> Fire dampers | F32: =Matrise!C20 -> 4.4.1
B33: =Matrise!A21 -> 2.6 | C33: =Matrise!B21 -> Alarm og nedst. v/tap av overtrykk/vent. | F33: =Matrise!C21 -> 4.4.7
B34: =Matrise!A22 -> 2.7 | C34: =Matrise!B22 -> Romslukkingsanlegg | F34: =Matrise!C22 -> 4.4.2
C35: =Matrise!B23 -> 3. ELECTRICAL
B36: =Matrise!A24 -> 3.1 | C36: =Matrise!B24 -> Cables, glands, equipment etc. | F36: =Matrise!C24 -> 4.4.6.1
B37: =Matrise!A25 -> 3.2 | C37: =Matrise!B25 -> Insulation resistance - megger | F37: =Matrise!C25 -> 37107
B38: =Matrise!A26 -> 3.3 | C38: =Matrise!B26 -> Earthing (NB bonding of structure) | F38: =Matrise!C26 -> 4.4.6.3
B39: =Matrise!A27 -> 3.4 | C39: =Matrise!B27 -> All external installation Ex-proof | F39: =Matrise!C27 -> 4.5.1
B40: =Matrise!A29 -> 3.6 | C40: =Matrise!B29 -> Emergency lighting | F40: =Matrise!C29 -> 4.4.6.2
C41: =Matrise!B30 -> 4. HOOK-UP TO INSTALLATION
B42: =Matrise!A31 -> 4.1 | C42: =Matrise!B31 -> Power supply (voltage, freq., plugs) | F42: =Matrise!C31 -> 4.7
B43: =Matrise!A32 -> 4.2 | C43: =Matrise!B32 -> Telephone with plug | F43: =Matrise!C32 -> 4.7
B44: =Matrise!A33 -> 4.3 | C44: =Matrise!B33 -> PA with plug | F44: =Matrise!C33 -> 4.7
B45: =Matrise!A34 -> 4.4 | C45: =Matrise!B34 -> Alarm signal to control room with plug | F45: =Matrise!C34 -> 4.7
B46: =Matrise!A35 -> 4.5 | C46: =Matrise!B35 -> Shutdown (ESD) from CCR (for battery system etc.) | F46: =Matrise!C35 -> 4.4.3
C47: =Matrise!B52 -> 6. DOCUMENTATION
B48: =Matrise!A53 -> 6.1 | C48: =Matrise!B53 -> Lifting certificate | F48: =Matrise!C53 -> 4.8
B49: =Matrise!A54 -> 6.2 | C49: =Matrise!B54 -> Other technical doc. (drawings, data.) | F49: =Matrise!C54 -> 4.8
B50: =Matrise!A55 -> 6.3 | C50: =Matrise!B55 -> Certificate for equip.with special requ. | F50: =Matrise!C55 -> 4.8
B51: =Matrise!A56 -> 6.4 | C51: =Matrise!B56 -> Maintenance programme | F51: =Matrise!C56 -> 4.8
B52: =Matrise!A57 -> 6.5 | C52: =Matrise!B57 -> Maintenance journal | F52: =Matrise!C57 -> 4.8
B53: =Matrise!A58 -> 6.6 | C53: =Matrise!B58 -> User manual | F53: =Matrise!C58 -> 4.8
A55: Supplier | D55: Supplier | H55: Company
A56: Competent person for lifting gir/mechanical devices | D56: Electrician | H56: Receiving control
A57: Date: | D57: Date: | H57: Date:
C59: Signature | E59: Signature | I59: Signature
C61: Name in capitals | E61: Name in capitals | I61: Name in capitals
B63: =Matrise!A88 -> 0

Sheet C
A1: =A!A1 -> NORSOK Z-015 CHECKLIST
B2: Container type : | D2: =Matrise!F2 -> C | E2: =Matrise!F3 -> Workshop for hot work | H2: =Matrise!H63 -> ID no.:
B4: =Matrise!B65 -> Approved for location in zone:
B5: =Matrise!B66 -> Zone 1 □ , Zone 2 □, Non-hazardous area □
B6: =Matrise!B67 -> Supplier: | E6: =Matrise!E67 -> Contact person contractor/telephone:
B8: =Matrise!B69 -> Company/installation container intended for: | E8: =Matrise!E69 -> Contact person/requisitioner in the company:
B11: =Matrise!B72 -> Person in the company responsible for prior approval, see 4.8.3:
B13: =Matrise!B74 -> Name: | F13: =Matrise!F74 -> Telephone: | I13: =Matrise!I74 -> Date approval received:
A16: =Matrise!A3 -> Control point | C16: =Matrise!B77 -> Status: | F16: =Matrise!E77 -> Ref. | G16: =Matrise!F77 -> Status | H16: =Matrise!G77 -> Receiving control (company) | I16: =Matrise!H77 -> Remarks
C17: =Matrise!B78 -> OK=Approved, NA=Not Applicable, NC=Not Checked, D=Defective or missing | F17: =Matrise!E78 -> Z-015 | G17: =Matrise!F78 -> supplier
C18: =Matrise!B5 -> 1. MECHANICAL
B19: =Matrise!A6 -> 1.1. | C19: =Matrise!B6 -> Signs tagging/labelling | F19: =Matrise!C6 -> 4.6
B20: =Matrise!A7 -> 1.2 | C20: =Matrise!B7 -> Annual inspection (lifting equipment, cert.) | F20: =Matrise!C7 -> 4.4.1
B21: =Matrise!A8 -> 1.3 | C21: =Matrise!B8 -> Mech. Cond. (lifting eyes/points, structure) | F21: =Matrise!C8 -> 4.4.1
B22: =Matrise!A9 -> 1.4 | C22: =Matrise!B9 -> Fire classification | F22: =Matrise!C9 -> 4.4.1
B23: =Matrise!A10 -> 1.5 | C23: =Matrise!B10 -> Air lock | F23: =Matrise!C10 -> 4.4.1
B24: =Matrise!A11 -> 1.6 | C24: =Matrise!B11 -> Self closing doors | F24: =Matrise!C11 -> 4.4.1
B25: =Matrise!A12 -> 1.7 | C25: =Matrise!B12 -> Emergency exits | F25: =Matrise!C12 -> 4.4.1
B26: =Matrise!A13 -> 1.8 | C26: =Matrise!B13 -> Mechanical ventilation | F26: =Matrise!C13 -> 4.4.7
C27: =Matrise!B15 -> 2. FIRE, GAS AND SAFETY
B28: =Matrise!A16 -> 2.1 | C28: =Matrise!B16 -> Gas detector in air inlet | F28: =Matrise!C16 -> 4.4.3
B29: =Matrise!A17 -> 2.2 | C29: =Matrise!B17 -> Fire/smoke detector | F29: =Matrise!C17 -> 4.4.2
B30: =Matrise!A19 -> 2.4 | C30: =Matrise!B19 -> Extinguisher | F30: =Matrise!C19 -> 4.4.2
B31: =Matrise!A21 -> 2.6 | C31: =Matrise!B21 -> Alarm og nedst. v/tap av overtrykk/vent. | F31: =Matrise!C21 -> 4.4.7
C32: =Matrise!B23 -> 3. ELECTRICAL
B33: =Matrise!A24 -> 3.1 | C33: =Matrise!B24 -> Cables, glands, equipment etc. | F33: =Matrise!C24 -> 4.4.6.1
B34: =Matrise!A25 -> 3.2 | C34: =Matrise!B25 -> Insulation resistance - megger | F34: =Matrise!C25 -> 37107
B35: =Matrise!A26 -> 3.3 | C35: =Matrise!B26 -> Earthing (NB bonding of structure) | F35: =Matrise!C26 -> 4.4.6.3
B36: =Matrise!A27 -> 3.4 | C36: =Matrise!B27 -> All external installation Ex-proof | F36: =Matrise!C27 -> 4.5.1
B37: =Matrise!A29 -> 3.6 | C37: =Matrise!B29 -> Emergency lighting | F37: =Matrise!C29 -> 4.4.6.2
C38: =Matrise!B30 -> 4. HOOK-UP TO INSTALLATION
B39: =Matrise!A31 -> 4.1 | C39: =Matrise!B31 -> Power supply (voltage, freq., plugs) | F39: =Matrise!C31 -> 4.7
B40: =Matrise!A32 -> 4.2 | C40: =Matrise!B32 -> Telephone with plug | F40: =Matrise!C32 -> 4.7
B41: =Matrise!A33 -> 4.3 | C41: =Matrise!B33 -> PA with plug | F41: =Matrise!C33 -> 4.7
B42: =Matrise!A34 -> 4.4 | C42: =Matrise!B34 -> Alarm signal to control room with plug | F42: =Matrise!C34 -> 4.7
B43: =Matrise!A35 -> 4.5 | C43: =Matrise!B35 -> Shutdown (ESD) from CCR (for battery system etc.) | F43: =Matrise!C35 -> 4.4.3
C44: =Matrise!B52 -> 6. DOCUMENTATION
B45: =Matrise!A53 -> 6.1 | C45: =Matrise!B53 -> Lifting certificate | F45: =Matrise!C53 -> 4.8
B46: =Matrise!A54 -> 6.2 | C46: =Matrise!B54 -> Other technical doc. (drawings, data.) | F46: =Matrise!C54 -> 4.8
B47: =Matrise!A55 -> 6.3 | C47: =Matrise!B55 -> Certificate for equip.with special requ. | F47: =Matrise!C55 -> 4.8
B48: =Matrise!A56 -> 6.4 | C48: =Matrise!B56 -> Maintenance programme | F48: =Matrise!C56 -> 4.8
B49: =Matrise!A57 -> 6.5 | C49: =Matrise!B57 -> Maintenance journal | F49: =Matrise!C57 -> 4.8
B50: =Matrise!A58 -> 6.6 | C50: =Matrise!B58 -> User manual | F50: =Matrise!C58 -> 4.8
A52: Supplier | D52: Supplier | H52: Company
A53: Competent person for lifting gir/mechanical devices | D53: Electrician | H53: Receiving control
A54: Date: | D54: Date: | H54: Date:
C56: Signature | E56: Signature | I56: Signature
C58: Name in capitals | E58: Name in capitals | I58: Name in capitals
B60: =Matrise!A88 -> 0

Sheet E
A1: =Matrise!B3 -> NORSOK Z-015 CHECKLIST
B2: Container type : | D2: =Matrise!G2 -> E | E2: =Matrise!G3 -> Workshop for cold work | H2: =Matrise!H63 -> ID no.:
B4: =Matrise!B65 -> Approved for location in zone:
B5: =Matrise!B66 -> Zone 1 □ , Zone 2 □, Non-hazardous area □
B6: =Matrise!B67 -> Supplier: | E6: =Matrise!E67 -> Contact person contractor/telephone:
B8: =Matrise!B69 -> Company/installation container intended for: | E8: =Matrise!E69 -> Contact person/requisitioner in the company:
B11: =Matrise!B72 -> Person in the company responsible for prior approval, see 4.8.3:
B13: =Matrise!B74 -> Name: | F13: =Matrise!F74 -> Telephone: | I13: =Matrise!I74 -> Date approval received:
A16: =Matrise!A3 -> Control point | C16: =Matrise!B77 -> Status: | F16: =Matrise!E77 -> Ref. | G16: =Matrise!F77 -> Status | H16: =Matrise!G77 -> Receiving control (company) | I16: =Matrise!H77 -> Remarks
C17: =Matrise!B78 -> OK=Approved, NA=Not Applicable, NC=Not Checked, D=Defective or missing | F17: =Matrise!E78 -> Z-015 | G17: =Matrise!F78 -> supplier
C18: =Matrise!B5 -> 1. MECHANICAL
B19: =Matrise!A6 -> 1.1. | C19: =Matrise!B6 -> Signs tagging/labelling | F19: =Matrise!C6 -> 4.6
B20: =Matrise!A7 -> 1.2 | C20: =Matrise!B7 -> Annual inspection (lifting equipment, cert.) | F20: =Matrise!C7 -> 4.4.1
B21: =Matrise!A8 -> 1.3 | C21: =Matrise!B8 -> Mech. Cond. (lifting eyes/points, structure) | F21: =Matrise!C8 -> 4.4.1
B22: =Matrise!A9 -> 1.4 | C22: =Matrise!B9 -> Fire classification | F22: =Matrise!C9 -> 4.4.1
B23: =Matrise!A11 -> 1.6 | C23: =Matrise!B11 -> Self closing doors | F23: =Matrise!C11 -> 4.4.1
B24: =Matrise!A12 -> 1.7 | C24: =Matrise!B12 -> Emergency exits | F24: =Matrise!C12 -> 4.4.1
B25: =Matrise!A13 -> 1.8 | C25: =Matrise!B13 -> Mechanical ventilation | F25: =Matrise!C13 -> 4.4.7
C26: =Matrise!B15 -> 2. FIRE, GAS AND SAFETY
B27: =Matrise!A16 -> 2.1 | C27: =Matrise!B16 -> Gas detector in air inlet | F27: =Matrise!C16 -> 4.4.3
B28: =Matrise!A17 -> 2.2 | C28: =Matrise!B17 -> Fire/smoke detector | F28: =Matrise!C17 -> 4.4.2
B29: =Matrise!A19 -> 2.4 | C29: =Matrise!B19 -> Extinguisher | F29: =Matrise!C19 -> 4.4.2
B30: =Matrise!A21 -> 2.6 | C30: =Matrise!B21 -> Alarm og nedst. v/tap av overtrykk/vent. | F30: =Matrise!C21 -> 4.4.7
C31: =Matrise!B23 -> 3. ELECTRICAL
B32: =Matrise!A24 -> 3.1 | C32: =Matrise!B24 -> Cables, glands, equipment etc. | F32: =Matrise!C24 -> 4.4.6.1
B33: =Matrise!A25 -> 3.2 | C33: =Matrise!B25 -> Insulation resistance - megger | F33: =Matrise!C25 -> 37107
B34: =Matrise!A26 -> 3.3 | C34: =Matrise!B26 -> Earthing (NB bonding of structure) | F34: =Matrise!C26 -> 4.4.6.3
B35: =Matrise!A27 -> 3.4 | C35: =Matrise!B27 -> All external installation Ex-proof | F35: =Matrise!C27 -> 4.5.1
B36: =Matrise!A28 -> 3.5 | C36: =Matrise!B28 -> All internal installation Ex-proof | F36: =Matrise!C28 -> 4.5.1
B37: =Matrise!A29 -> 3.6 | C37: =Matrise!B29 -> Emergency lighting | F37: =Matrise!C29 -> 4.4.6.2
C38: =Matrise!B30 -> 4. HOOK-UP TO INSTALLATION
B39: =Matrise!A31 -> 4.1 | C39: =Matrise!B31 -> Power supply (voltage, freq., plugs) | F39: =Matrise!C31 -> 4.7
B40: =Matrise!A33 -> 4.3 | C40: =Matrise!B33 -> PA with plug | F40: =Matrise!C33 -> 4.7
B41: =Matrise!A34 -> 4.4 | C41: =Matrise!B34 -> Alarm signal to control room with plug | F41: =Matrise!C34 -> 4.7
C42: =Matrise!B52 -> 6. DOCUMENTATION
B43: =Matrise!A53 -> 6.1 | C43: =Matrise!B53 -> Lifting certificate | F43: =Matrise!C53 -> 4.8
B44: =Matrise!A54 -> 6.2 | C44: =Matrise!B54 -> Other technical doc. (drawings, data.) | F44: =Matrise!C54 -> 4.8
B45: =Matrise!A55 -> 6.3 | C45: =Matrise!B55 -> Certificate for equip.with special requ. | F45: =Matrise!C55 -> 4.8
B46: =Matrise!A56 -> 6.4 | C46: =Matrise!B56 -> Maintenance programme | F46: =Matrise!C56 -> 4.8
B47: =Matrise!A57 -> 6.5 | C47: =Matrise!B57 -> Maintenance journal | F47: =Matrise!C57 -> 4.8
B48: =Matrise!A58 -> 6.6 | C48: =Matrise!B58 -> User manual | F48: =Matrise!C58 -> 4.8
A50: Supplier | D50: Supplier | H50: Company
A51: Competent person for lifting gir/mechanical devices | D51: Electrician | H51: Receiving control
A52: Date: | D52: Date: | H52: Date:
C54: Signature | E54: Signature | I54: Signature
C56: Name in capitals | E56: Name in capitals | I56: Name in capitals
B58: =Matrise!A88 -> 0

Sheet G
A1: =Matrise!B3 -> NORSOK Z-015 CHECKLIST
B2: Container type : | D2: =Matrise!H2 -> G | E2: =Matrise!H3 -> Container for diesel enginer | H2: =Matrise!H63 -> ID no.:
B4: =Matrise!B65 -> Approved for location in zone:
B5: =Matrise!B66 -> Zone 1 □ , Zone 2 □, Non-hazardous area □
B6: =Matrise!B67 -> Supplier: | E6: =Matrise!E67 -> Contact person contractor/telephone:
B8: =Matrise!B69 -> Company/installation container intended for: | E8: =Matrise!E69 -> Contact person/requisitioner in the company:
B11: =Matrise!B72 -> Person in the company responsible for prior approval, see 4.8.3:
B13: =Matrise!B74 -> Name: | F13: =Matrise!F74 -> Telephone: | I13: =Matrise!I74 -> Date approval received:
A16: =Matrise!A3 -> Control point | C16: =Matrise!B77 -> Status: | F16: =Matrise!E77 -> Ref. | G16: =Matrise!F77 -> Status | H16: =Matrise!G77 -> Receiving control (company) | I16: =Matrise!H77 -> Remarks
C17: =Matrise!B78 -> OK=Approved, NA=Not Applicable, NC=Not Checked, D=Defective or missing | F17: =Matrise!E78 -> Z-015 | G17: =Matrise!F78 -> supplier
C18: =Matrise!B5 -> 1. MECHANICAL
B19: =Matrise!A6 -> 1.1. | C19: =Matrise!B6 -> Signs tagging/labelling | F19: =Matrise!C6 -> 4.6
B20: =Matrise!A7 -> 1.2 | C20: =Matrise!B7 -> Annual inspection (lifting equipment, cert.) | F20: =Matrise!C7 -> 4.4.1
B21: =Matrise!A8 -> 1.3 | C21: =Matrise!B8 -> Mech. Cond. (lifting eyes/points, structure) | F21: =Matrise!C8 -> 4.4.1
B22: =Matrise!A11 -> 1.6 | C22: =Matrise!B11 -> Self closing doors | F22: =Matrise!C11 -> 4.4.1
B23: =Matrise!A13 -> 1.8 | C23: =Matrise!B13 -> Mechanical ventilation | F23: =Matrise!C13 -> 4.4.7
B24: =Matrise!A14 -> 1.9 | C24: =Matrise!B14 -> Noise measurement carried out (supplier) | F24: =Matrise!C14 -> 4.4.8
C25: =Matrise!B15 -> 2. FIRE, GAS AND SAFETY
B26: =Matrise!A16 -> 2.1 | C26: =Matrise!B16 -> Gas detector in air inlet | F26: =Matrise!C16 -> 4.4.3
B27: =Matrise!A17 -> 2.2 | C27: =Matrise!B17 -> Fire/smoke detector | F27: =Matrise!C17 -> 4.4.2
B28: =Matrise!A19 -> 2.4 | C28: =Matrise!B19 -> Extinguisher | F28: =Matrise!C19 -> 4.4.2
B29: =Matrise!A21 -> 2.6 | C29: =Matrise!B21 -> Alarm og nedst. v/tap av overtrykk/vent. | F29: =Matrise!C21 -> 4.4.7
B30: =Matrise!A22 -> 2.7 | C30: =Matrise!B22 -> Romslukkingsanlegg | F30: =Matrise!C22 -> 4.4.2
C31: =Matrise!B23 -> 3. ELECTRICAL
B32: =Matrise!A24 -> 3.1 | C32: =Matrise!B24 -> Cables, glands, equipment etc. | F32: =Matrise!C24 -> 4.4.6.1
B33: =Matrise!A25 -> 3.2 | C33: =Matrise!B25 -> Insulation resistance - megger | F33: =Matrise!C25 -> 37107
B34: =Matrise!A26 -> 3.3 | C34: =Matrise!B26 -> Earthing (NB bonding of structure) | F34: =Matrise!C26 -> 4.4.6.3
B35: =Matrise!A27 -> 3.4 | C35: =Matrise!B27 -> All external installation Ex-proof | F35: =Matrise!C27 -> 4.5.1
B36: =Matrise!A28 -> 3.5 | C36: =Matrise!B28 -> All internal installation Ex-proof | F36: =Matrise!C28 -> 4.5.1
B37: =Matrise!A29 -> 3.6 | C37: =Matrise!B29 -> Emergency lighting | F37: =Matrise!C29 -> 4.4.6.2
C38: =Matrise!B30 -> 4. HOOK-UP TO INSTALLATION
B39: =Matrise!A31 -> 4.1 | C39: =Matrise!B31 -> Power supply (voltage, freq., plugs) | F39: =Matrise!C31 -> 4.7
B40: =Matrise!A34 -> 4.4 | C40: =Matrise!B34 -> Alarm signal to control room with plug | F40: =Matrise!C34 -> 4.7
B41: =Matrise!A35 -> 4.5 | C41: =Matrise!B35 -> Shutdown (ESD) from CCR (for battery system etc.) | F41: =Matrise!C35 -> 4.4.3
C42: =Matrise!B36 -> 5. EQUIPMENT
B43: =Matrise!A37 -> 5.1 | C43: =Matrise!B37 -> Manual emergency stop | F43: =Matrise!C37 -> 4.4.8
B44: =Matrise!A38 -> 5.2 | C44: =Matrise!B38 -> Manual shutdown of diesel supply | F44: =Matrise!C38 -> 4.3.1
B45: =Matrise!A39 -> 5.3 | C45: =Matrise!B39 -> Drip trays | F45: =Matrise!C39 -> 4.3.1
B46: =Matrise!A40 -> 5.4 | C46: =Matrise!B40 -> "Rig saver" in combustion air inlet | F46: =Matrise!C40 -> 4.3.1
B47: =Matrise!A41 -> 5.5 | C47: =Matrise!B41 -> Shutdown if loss of oil pressure | F47: =Matrise!C41 -> 4.3.1
B48: =Matrise!A42 -> 5.6 | C48: =Matrise!B42 -> Shutdown if high cooling water temperature | F48: =Matrise!C42 -> 4.3.1
B49: =Matrise!A43 -> 5.7 | C49: =Matrise!B43 -> Shutdown if overspeed | F49: =Matrise!C43 -> 4.3.1
B50: =Matrise!A44 -> 5.8 | C50: =Matrise!B44 -> Diesel engine approved for zone 2 | F50: =Matrise!C44 -> 4.3.1
B51: =Matrise!A45 -> 5.9 | C51: =Matrise!B45 -> Gas detector in combustion air inlet | F51: =Matrise!C45 -> 4.3.1
B52: =Matrise!A46 -> 5.1 | C52: =Matrise!B46 -> Flame arrester in exhaust pipe | F52: =Matrise!C46 -> 4.3.1
B53: =Matrise!A47 -> 5.11 | C53: =Matrise!B47 -> Spark arrester in exhaust pipe | F53: =Matrise!C47 -> 4.3.1
C54: =Matrise!B52 -> 6. DOCUMENTATION
B55: =Matrise!A53 -> 6.1 | C55: =Matrise!B53 -> Lifting certificate | F55: =Matrise!C53 -> 4.8
B56: =Matrise!A54 -> 6.2 | C56: =Matrise!B54 -> Other technical doc. (drawings, data.) | F56: =Matrise!C54 -> 4.8
B57: =Matrise!A55 -> 6.3 | C57: =Matrise!B55 -> Certificate for equip.with special requ. | F57: =Matrise!C55 -> 4.8
B58: =Matrise!A56 -> 6.4 | C58: =Matrise!B56 -> Maintenance programme | F58: =Matrise!C56 -> 4.8
B59: =Matrise!A57 -> 6.5 | C59: =Matrise!B57 -> Maintenance journal | F59: =Matrise!C57 -> 4.8
B60: =Matrise!A58 -> 6.6 | C60: =Matrise!B58 -> User manual | F60: =Matrise!C58 -> 4.8
A62: Supplier | D62: Supplier | H62: Company
A63: Competent person for lifting gir/mechanical devices | D63: Electrician | H63: Receiving control
A64: Date: | D64: Date: | H64: Date:
C66: Signature | E66: Signature | I66: Signature
C68: Name in capitals | E68: Name in capitals | I68: Name in capitals
B70: =Matrise!A88 -> 0

Sheet I
A1: =Matrise!B3 -> NORSOK Z-015 CHECKLIST
B2: Container type : | D2: =Matrise!I2 -> I | E2: =Matrise!I3 -> Stores for flammable materials | H2: =Matrise!H63 -> ID no.:
B4: =Matrise!B65 -> Approved for location in zone:
B5: =Matrise!B66 -> Zone 1 □ , Zone 2 □, Non-hazardous area □
B6: =Matrise!B67 -> Supplier: | E6: =Matrise!E67 -> Contact person contractor/telephone:
B8: =Matrise!B69 -> Company/installation container intended for: | E8: =Matrise!E69 -> Contact person/requisitioner in the company:
B11: =Matrise!B72 -> Person in the company responsible for prior approval, see 4.8.3:
B13: =Matrise!B74 -> Name: | F13: =Matrise!F74 -> Telephone: | I13: =Matrise!I74 -> Date approval received:
A16: =Matrise!A3 -> Control point | C16: =Matrise!B77 -> Status: | F16: =Matrise!E77 -> Ref. | G16: =Matrise!F77 -> Status | H16: =Matrise!G77 -> Receiving control (company) | I16: =Matrise!H77 -> Remarks
C17: =Matrise!B78 -> OK=Approved, NA=Not Applicable, NC=Not Checked, D=Defective or missing | F17: =Matrise!E78 -> Z-015 | G17: =Matrise!F78 -> supplier
C18: =Matrise!B5 -> 1. MECHANICAL
B19: =Matrise!A6 -> 1.1. | C19: =Matrise!B6 -> Signs tagging/labelling | F19: =Matrise!C6 -> 4.6
B20: =Matrise!A7 -> 1.2 | C20: =Matrise!B7 -> Annual inspection (lifting equipment, cert.) | F20: =Matrise!C7 -> 4.4.1
B21: =Matrise!A8 -> 1.3 | C21: =Matrise!B8 -> Mech. Cond. (lifting eyes/points, structure) | F21: =Matrise!C8 -> 4.4.1
B22: =Matrise!A9 -> 1.4 | C22: =Matrise!B9 -> Fire classification | F22: =Matrise!C9 -> 4.4.1
B23: =Matrise!A11 -> 1.6 | C23: =Matrise!B11 -> Self closing doors | F23: =Matrise!C11 -> 4.4.1
C24: =Matrise!B15 -> 2. FIRE, GAS AND SAFETY
B25: =Matrise!A17 -> 2.2 | C25: =Matrise!B17 -> Fire/smoke detector | F25: =Matrise!C17 -> 4.4.2
B26: =Matrise!A19 -> 2.4 | C26: =Matrise!B19 -> Extinguisher | F26: =Matrise!C19 -> 4.4.2
C27: =Matrise!B23 -> 3. ELECTRICAL
B28: =Matrise!A24 -> 3.1 | C28: =Matrise!B24 -> Cables, glands, equipment etc. | F28: =Matrise!C24 -> 4.4.6.1
B29: =Matrise!A25 -> 3.2 | C29: =Matrise!B25 -> Insulation resistance - megger | F29: =Matrise!C25 -> 37107
B30: =Matrise!A26 -> 3.3 | C30: =Matrise!B26 -> Earthing (NB bonding of structure) | F30: =Matrise!C26 -> 4.4.6.3
B31: =Matrise!A27 -> 3.4 | C31: =Matrise!B27 -> All external installation Ex-proof | F31: =Matrise!C27 -> 4.5.1
B32: =Matrise!A28 -> 3.5 | C32: =Matrise!B28 -> All internal installation Ex-proof | F32: =Matrise!C28 -> 4.5.1
C33: =Matrise!B30 -> 4. HOOK-UP TO INSTALLATION
B34: =Matrise!A31 -> 4.1 | C34: =Matrise!B31 -> Power supply (voltage, freq., plugs) | F34: =Matrise!C31 -> 4.7
B35: =Matrise!A34 -> 4.4 | C35: =Matrise!B34 -> Alarm signal to control room with plug | F35: =Matrise!C34 -> 4.7
C36: =Matrise!B52 -> 6. DOCUMENTATION
B37: =Matrise!A53 -> 6.1 | C37: =Matrise!B53 -> Lifting certificate | F37: =Matrise!C53 -> 4.8
B38: =Matrise!A54 -> 6.2 | C38: =Matrise!B54 -> Other technical doc. (drawings, data.) | F38: =Matrise!C54 -> 4.8
B39: =Matrise!A55 -> 6.3 | C39: =Matrise!B55 -> Certificate for equip.with special requ. | F39: =Matrise!C55 -> 4.8
B40: =Matrise!A56 -> 6.4 | C40: =Matrise!B56 -> Maintenance programme | F40: =Matrise!C56 -> 4.8
B41: =Matrise!A57 -> 6.5 | C41: =Matrise!B57 -> Maintenance journal | F41: =Matrise!C57 -> 4.8
B42: =Matrise!A58 -> 6.6 | C42: =Matrise!B58 -> User manual | F42: =Matrise!C58 -> 4.8
A44: Supplier | D44: Supplier | H44: Company
A45: Competent person for lifting gir/mechanical devices | D45: Electrician | H45: Receiving control
A46: Date: | D46: Date: | H46: Date:
C48: Signature | E48: Signature | I48: Signature
C50: Name in capitals | E50: Name in capitals | I50: Name in capitals
B53: =Matrise!A88 -> 0

Sheet J
A1: =Matrise!B3 -> NORSOK Z-015 CHECKLIST
B2: Container type : | D2: =Matrise!J2 -> J | E2: =Matrise!J3 -> Stores for non-flammable materials | H2: =Matrise!H63 -> ID no.:
B4: =Matrise!B65 -> Approved for location in zone:
B5: =Matrise!B66 -> Zone 1 □ , Zone 2 □, Non-hazardous area □
B6: =Matrise!B67 -> Supplier: | E6: =Matrise!E67 -> Contact person contractor/telephone:
B8: =Matrise!B69 -> Company/installation container intended for: | E8: =Matrise!E69 -> Contact person/requisitioner in the company:
B11: =Matrise!B72 -> Person in the company responsible for prior approval, see 4.8.3:
B13: =Matrise!B74 -> Name: | F13: =Matrise!F74 -> Telephone: | I13: =Matrise!I74 -> Date approval received:
A16: =Matrise!A3 -> Control point | C16: =Matrise!B77 -> Status: | F16: =Matrise!E77 -> Ref. | G16: =Matrise!F77 -> Status | H16: =Matrise!G77 -> Receiving control (company) | I16: =Matrise!H77 -> Remarks
C17: =Matrise!B78 -> OK=Approved, NA=Not Applicable, NC=Not Checked, D=Defective or missing | F17: =Matrise!E78 -> Z-015 | G17: =Matrise!F78 -> supplier
C18: =Matrise!B5 -> 1. MECHANICAL
B19: =Matrise!A6 -> 1.1. | C19: =Matrise!B6 -> Signs tagging/labelling | F19: =Matrise!C6 -> 4.6
B20: =Matrise!A7 -> 1.2 | C20: =Matrise!B7 -> Annual inspection (lifting equipment, cert.) | F20: =Matrise!C7 -> 4.4.1
B21: =Matrise!A8 -> 1.3 | C21: =Matrise!B8 -> Mech. Cond. (lifting eyes/points, structure) | F21: =Matrise!C8 -> 4.4.1
B22: =Matrise!A11 -> 1.6 | C22: =Matrise!B11 -> Self closing doors | F22: =Matrise!C11 -> 4.4.1
C23: =Matrise!B23 -> 3. ELECTRICAL
B24: =Matrise!A24 -> 3.1 | C24: =Matrise!B24 -> Cables, glands, equipment etc. | F24: =Matrise!C24 -> 4.4.6.1
B25: =Matrise!A25 -> 3.2 | C25: =Matrise!B25 -> Insulation resistance - megger | F25: =Matrise!C25 -> 37107
B26: =Matrise!A26 -> 3.3 | C26: =Matrise!B26 -> Earthing (NB bonding of structure) | F26: =Matrise!C26 -> 4.4.6.3
B27: =Matrise!A27 -> 3.4 | C27: =Matrise!B27 -> All external installation Ex-proof | F27: =Matrise!C27 -> 4.5.1
B28: =Matrise!A28 -> 3.5 | C28: =Matrise!B28 -> All internal installation Ex-proof | F28: =Matrise!C28 -> 4.5.1
C29: =Matrise!B30 -> 4. HOOK-UP TO INSTALLATION
B30: =Matrise!A31 -> 4.1 | C30: =Matrise!B31 -> Power supply (voltage, freq., plugs) | F30: =Matrise!C31 -> 4.7
C31: =Matrise!B52 -> 6. DOCUMENTATION
B32: =Matrise!A53 -> 6.1 | C32: =Matrise!B53 -> Lifting certificate | F32: =Matrise!C53 -> 4.8
B33: =Matrise!A54 -> 6.2 | C33: =Matrise!B54 -> Other technical doc. (drawings, data.) | F33: =Matrise!C54 -> 4.8
B34: =Matrise!A55 -> 6.3 | C34: =Matrise!B55 -> Certificate for equip.with special requ. | F34: =Matrise!C55 -> 4.8
B35: =Matrise!A56 -> 6.4 | C35: =Matrise!B56 -> Maintenance programme | F35: =Matrise!C56 -> 4.8
B36: =Matrise!A57 -> 6.5 | C36: =Matrise!B57 -> Maintenance journal | F36: =Matrise!C57 -> 4.8
B37: =Matrise!A58 -> 6.6 | C37: =Matrise!B58 -> User manual | F37: =Matrise!C58 -> 4.8
A39: Supplier | D39: Supplier | H39: Company
A40: Competent person for lifting gir/mechanical devices | D40: Electrician | H40: Receiving control
A41: Date: | D41: Date: | H41: Date:
C43: Signature | E43: Signature | I43: Signature
C45: Name in capitals | E45: Name in capitals | I45: Name in capitals
B47: =Matrise!A88 -> 0

Sheet L
A1: =Matrise!B3 -> NORSOK Z-015 CHECKLIST
B2: Container type : | D2: =Matrise!K2 -> L | E2: =Matrise!K3 -> Painters workshop | H2: =Matrise!H63 -> ID no.:
B4: =Matrise!B65 -> Approved for location in zone:
B5: =Matrise!B66 -> Zone 1 □ , Zone 2 □, Non-hazardous area □
B6: =Matrise!B67 -> Supplier: | E6: =Matrise!E67 -> Contact person contractor/telephone:
B8: =Matrise!B69 -> Company/installation container intended for: | E8: =Matrise!E69 -> Contact person/requisitioner in the company:
B11: =Matrise!B72 -> Person in the company responsible for prior approval, see 4.8.3:
B13: =Matrise!B74 -> Name: | F13: =Matrise!F74 -> Telephone: | I13: =Matrise!I74 -> Date approval received:
A16: =Matrise!A3 -> Control point | C16: =Matrise!B77 -> Status: | F16: =Matrise!E77 -> Ref. | G16: =Matrise!F77 -> Status | H16: =Matrise!G77 -> Receiving control (company) | I16: =Matrise!H77 -> Remarks
C17: =Matrise!B78 -> OK=Approved, NA=Not Applicable, NC=Not Checked, D=Defective or missing | F17: =Matrise!E78 -> Z-015 | G17: =Matrise!F78 -> supplier
C18: =Matrise!B4 -> Skal ikke plasseres i eksplosjonsfarlig område
C19: =Matrise!B5 -> 1. MECHANICAL
B20: =Matrise!A6 -> 1.1. | C20: =Matrise!B6 -> Signs tagging/labelling | F20: =Matrise!C6 -> 4.6
B21: =Matrise!A7 -> 1.2 | C21: =Matrise!B7 -> Annual inspection (lifting equipment, cert.) | F21: =Matrise!C7 -> 4.4.1
B22: =Matrise!A8 -> 1.3 | C22: =Matrise!B8 -> Mech. Cond. (lifting eyes/points, structure) | F22: =Matrise!C8 -> 4.4.1
B23: =Matrise!A9 -> 1.4 | C23: =Matrise!B9 -> Fire classification | F23: =Matrise!C9 -> 4.4.1
B24: =Matrise!A11 -> 1.6 | C24: =Matrise!B11 -> Self closing doors | F24: =Matrise!C11 -> 4.4.1
B25: =Matrise!A12 -> 1.7 | C25: =Matrise!B12 -> Emergency exits | F25: =Matrise!C12 -> 4.4.1
B26: =Matrise!A13 -> 1.8 | C26: =Matrise!B13 -> Mechanical ventilation | F26: =Matrise!C13 -> 4.4.7
C27: =Matrise!B15 -> 2. FIRE, GAS AND SAFETY
B28: =Matrise!A16 -> 2.1 | C28: =Matrise!B16 -> Gas detector in air inlet | F28: =Matrise!C16 -> 4.4.3
B29: =Matrise!A17 -> 2.2 | C29: =Matrise!B17 -> Fire/smoke detector | F29: =Matrise!C17 -> 4.4.2
B30: =Matrise!A19 -> 2.4 | C30: =Matrise!B19 -> Extinguisher | F30: =Matrise!C19 -> 4.4.2
B31: =Matrise!A21 -> 2.6 | C31: =Matrise!B21 -> Alarm og nedst. v/tap av overtrykk/vent. | F31: =Matrise!C21 -> 4.4.7
C32: =Matrise!B23 -> 3. ELECTRICAL
B33: =Matrise!A24 -> 3.1 | C33: =Matrise!B24 -> Cables, glands, equipment etc. | F33: =Matrise!C24 -> 4.4.6.1
B34: =Matrise!A25 -> 3.2 | C34: =Matrise!B25 -> Insulation resistance - megger | F34: =Matrise!C25 -> 37107
B35: =Matrise!A26 -> 3.3 | C35: =Matrise!B26 -> Earthing (NB bonding of structure) | F35: =Matrise!C26 -> 4.4.6.3
B36: =Matrise!A27 -> 3.4 | C36: =Matrise!B27 -> All external installation Ex-proof | F36: =Matrise!C27 -> 4.5.1
B37: =Matrise!A28 -> 3.5 | C37: =Matrise!B28 -> All internal installation Ex-proof | F37: =Matrise!C28 -> 4.5.1
B38: =Matrise!A29 -> 3.6 | C38: =Matrise!B29 -> Emergency lighting | F38: =Matrise!C29 -> 4.4.6.2
C39: =Matrise!B30 -> 4. HOOK-UP TO INSTALLATION
B40: =Matrise!A31 -> 4.1 | C40: =Matrise!B31 -> Power supply (voltage, freq., plugs) | F40: =Matrise!C31 -> 4.7
B41: =Matrise!A33 -> 4.3 | C41: =Matrise!B33 -> PA with plug | F41: =Matrise!C33 -> 4.7
B42: =Matrise!A34 -> 4.4 | C42: =Matrise!B34 -> Alarm signal to control room with plug | F42: =Matrise!C34 -> 4.7
C43: =Matrise!B52 -> 6. DOCUMENTATION
B44: =Matrise!A53 -> 6.1 | C44: =Matrise!B53 -> Lifting certificate | F44: =Matrise!C53 -> 4.8
B45: =Matrise!A54 -> 6.2 | C45: =Matrise!B54 -> Other technical doc. (drawings, data.) | F45: =Matrise!C54 -> 4.8
B46: =Matrise!A55 -> 6.3 | C46: =Matrise!B55 -> Certificate for equip.with special requ. | F46: =Matrise!C55 -> 4.8
B47: =Matrise!A56 -> 6.4 | C47: =Matrise!B56 -> Maintenance programme | F47: =Matrise!C56 -> 4.8
B48: =Matrise!A57 -> 6.5 | C48: =Matrise!B57 -> Maintenance journal | F48: =Matrise!C57 -> 4.8
B49: =Matrise!A58 -> 6.6 | C49: =Matrise!B58 -> User manual | F49: =Matrise!C58 -> 4.8
A51: Supplier | D51: Supplier | H51: Company
A52: Competent person for lifting gir/mechanical devices | D52: Electrician | H52: Receiving control
A53: Date: | D53: Date: | H53: Date:
C55: Signature | E55: Signature | I55: Signature
C57: Name in capitals | E57: Name in capitals | I57: Name in capitals
B59: =Matrise!A88 -> 0

Sheet M
A1: =Matrise!B3 -> NORSOK Z-015 CHECKLIST
B2: Container type : | D2: =Matrise!L2 -> M | E2: =Matrise!L3 -> Refrigeration and freezing containers | H2: =Matrise!H63 -> ID no.:
B4: =Matrise!B65 -> Approved for location in zone:
B5: =Matrise!B66 -> Zone 1 □ , Zone 2 □, Non-hazardous area □
B6: =Matrise!B67 -> Supplier: | E6: =Matrise!E67 -> Contact person contractor/telephone:
B8: =Matrise!B69 -> Company/installation container intended for: | E8: =Matrise!E69 -> Contact person/requisitioner in the company:
B11: =Matrise!B72 -> Person in the company responsible for prior approval, see 4.8.3:
B13: =Matrise!B74 -> Name: | F13: =Matrise!F74 -> Telephone: | I13: =Matrise!I74 -> Date approval received:
A16: =Matrise!A3 -> Control point | C16: =Matrise!B77 -> Status: | F16: =Matrise!E77 -> Ref. | G16: =Matrise!F77 -> Status | H16: =Matrise!G77 -> Receiving control (company) | I16: =Matrise!H77 -> Remarks
C17: =Matrise!B78 -> OK=Approved, NA=Not Applicable, NC=Not Checked, D=Defective or missing | F17: =Matrise!E78 -> Z-015 | G17: =Matrise!F78 -> supplier
C18: =Matrise!B4 -> Skal ikke plasseres i eksplosjonsfarlig område | F18: =Matrise!C4 -> 0
C19: =Matrise!B5 -> 1. MECHANICAL
B20: =Matrise!A6 -> 1.1. | C20: =Matrise!B6 -> Signs tagging/labelling | F20: =Matrise!C6 -> 4.6
B21: =Matrise!A7 -> 1.2 | C21: =Matrise!B7 -> Annual inspection (lifting equipment, cert.) | F21: =Matrise!C7 -> 4.4.1
B22: =Matrise!A8 -> 1.3 | C22: =Matrise!B8 -> Mech. Cond. (lifting eyes/points, structure) | F22: =Matrise!C8 -> 4.4.1
B23: =Matrise!A9 -> 1.4 | C23: =Matrise!B9 -> Fire classification | F23: =Matrise!C9 -> 4.4.1
B24: =Matrise!A11 -> 1.6 | C24: =Matrise!B11 -> Self closing doors | F24: =Matrise!C11 -> 4.4.1
C25: =Matrise!B23 -> 3. ELECTRICAL
B26: =Matrise!A24 -> 3.1 | C26: =Matrise!B24 -> Cables, glands, equipment etc. | F26: =Matrise!C24 -> 4.4.6.1
B27: =Matrise!A25 -> 3.2 | C27: =Matrise!B25 -> Insulation resistance - megger | F27: =Matrise!C25 -> 37107
B28: =Matrise!A26 -> 3.3 | C28: =Matrise!B26 -> Earthing (NB bonding of structure) | F28: =Matrise!C26 -> 4.4.6.3
B29: =Matrise!A27 -> 3.4 | C29: =Matrise!B27 -> All external installation Ex-proof | F29: =Matrise!C27 -> 4.5.1
B30: =Matrise!A28 -> 3.5 | C30: =Matrise!B28 -> All internal installation Ex-proof | F30: =Matrise!C28 -> 4.5.1
C31: =Matrise!B30 -> 4. HOOK-UP TO INSTALLATION
B32: =Matrise!A31 -> 4.1 | C32: =Matrise!B31 -> Power supply (voltage, freq., plugs) | F32: =Matrise!C31 -> 4.7
B33: =Matrise!A34 -> 4.4 | C33: =Matrise!B34 -> Alarm signal to control room with plug | F33: =Matrise!C34 -> 4.7
C34: =Matrise!B52 -> 6. DOCUMENTATION
B35: =Matrise!A53 -> 6.1 | C35: =Matrise!B53 -> Lifting certificate | F35: =Matrise!C53 -> 4.8
B36: =Matrise!A54 -> 6.2 | C36: =Matrise!B54 -> Other technical doc. (drawings, data.) | F36: =Matrise!C54 -> 4.8
B37: =Matrise!A55 -> 6.3 | C37: =Matrise!B55 -> Certificate for equip.with special requ. | F37: =Matrise!C55 -> 4.8
B38: =Matrise!A56 -> 6.4 | C38: =Matrise!B56 -> Maintenance programme | F38: =Matrise!C56 -> 4.8
B39: =Matrise!A57 -> 6.5 | C39: =Matrise!B57 -> Maintenance journal | F39: =Matrise!C57 -> 4.8
B40: =Matrise!A58 -> 6.6 | C40: =Matrise!B58 -> User manual | F40: =Matrise!C58 -> 4.8
A42: Supplier | D42: Supplier | H42: Company
A43: Competent person for lifting gir/mechanical devices | D43: Electrician | H43: Receiving control
A44: Date: | D44: Date: | H44: Date:
C46: Signature | E46: Signature | I46: Signature
C48: Name in capitals | E48: Name in capitals | I48: Name in capitals
B50: =Matrise!A88 -> 0

Sheet N
A1: =Matrise!B3 -> NORSOK Z-015 CHECKLIST
B2: Container type : | D2: =Matrise!M2 -> N | E2: =Matrise!M3 -> Radio and communications room | H2: =Matrise!H63 -> ID no.:
B4: =Matrise!B65 -> Approved for location in zone:
B5: =Matrise!B66 -> Zone 1 □ , Zone 2 □, Non-hazardous area □
B6: =Matrise!B67 -> Supplier: | E6: =Matrise!E67 -> Contact person contractor/telephone:
B8: =Matrise!B69 -> Company/installation container intended for: | E8: =Matrise!E69 -> Contact person/requisitioner in the company:
B11: =Matrise!B72 -> Person in the company responsible for prior approval, see 4.8.3:
B13: =Matrise!B74 -> Name: | F13: =Matrise!F74 -> Telephone: | I13: =Matrise!I74 -> Date approval received:
A16: =Matrise!A3 -> Control point | C16: =Matrise!B77 -> Status: | F16: =Matrise!E77 -> Ref. | G16: =Matrise!F77 -> Status | H16: =Matrise!G77 -> Receiving control (company) | I16: =Matrise!H77 -> Remarks
C17: =Matrise!B78 -> OK=Approved, NA=Not Applicable, NC=Not Checked, D=Defective or missing | F17: =Matrise!E78 -> Z-015 | G17: =Matrise!F78 -> supplier
C18: =Matrise!B4 -> Skal ikke plasseres i eksplosjonsfarlig område
C19: =Matrise!B5 -> 1. MECHANICAL
B20: =Matrise!A6 -> 1.1. | C20: =Matrise!B6 -> Signs tagging/labelling | F20: =Matrise!C6 -> 4.6
B21: =Matrise!A7 -> 1.2 | C21: =Matrise!B7 -> Annual inspection (lifting equipment, cert.) | F21: =Matrise!C7 -> 4.4.1
B22: =Matrise!A8 -> 1.3 | C22: =Matrise!B8 -> Mech. Cond. (lifting eyes/points, structure) | F22: =Matrise!C8 -> 4.4.1
B23: =Matrise!A9 -> 1.4 | C23: =Matrise!B9 -> Fire classification | F23: =Matrise!C9 -> 4.4.1
B24: =Matrise!A11 -> 1.6 | C24: =Matrise!B11 -> Self closing doors | F24: =Matrise!C11 -> 4.4.1
B25: =Matrise!A12 -> 1.7 | C25: =Matrise!B12 -> Emergency exits | F25: =Matrise!C12 -> 4.4.1
B26: =Matrise!A13 -> 1.8 | C26: =Matrise!B13 -> Mechanical ventilation | F26: =Matrise!C13 -> 4.4.7
C27: =Matrise!B15 -> 2. FIRE, GAS AND SAFETY
B28: =Matrise!A16 -> 2.1 | C28: =Matrise!B16 -> Gas detector in air inlet | F28: =Matrise!C16 -> 4.4.3
B29: =Matrise!A17 -> 2.2 | C29: =Matrise!B17 -> Fire/smoke detector | F29: =Matrise!C17 -> 4.4.2
B30: =Matrise!A19 -> 2.4 | C30: =Matrise!B19 -> Extinguisher | F30: =Matrise!C19 -> 4.4.2
B31: =Matrise!A21 -> 2.6 | C31: =Matrise!B21 -> Alarm og nedst. v/tap av overtrykk/vent. | F31: =Matrise!C21 -> 4.4.7
C32: =Matrise!B23 -> 3. ELECTRICAL
B33: =Matrise!A24 -> 3.1 | C33: =Matrise!B24 -> Cables, glands, equipment etc. | F33: =Matrise!C24 -> 4.4.6.1
B34: =Matrise!A25 -> 3.2 | C34: =Matrise!B25 -> Insulation resistance - megger | F34: =Matrise!C25 -> 37107
B35: =Matrise!A26 -> 3.3 | C35: =Matrise!B26 -> Earthing (NB bonding of structure) | F35: =Matrise!C26 -> 4.4.6.3
B36: =Matrise!A27 -> 3.4 | C36: =Matrise!B27 -> All external installation Ex-proof | F36: =Matrise!C27 -> 4.5.1
B37: =Matrise!A28 -> 3.5 | C37: =Matrise!B28 -> All internal installation Ex-proof | F37: =Matrise!C28 -> 4.5.1
B38: =Matrise!A29 -> 3.6 | C38: =Matrise!B29 -> Emergency lighting | F38: =Matrise!C29 -> 4.4.6.2
C39: =Matrise!B30 -> 4. HOOK-UP TO INSTALLATION
B40: =Matrise!A31 -> 4.1 | C40: =Matrise!B31 -> Power supply (voltage, freq., plugs) | F40: =Matrise!C31 -> 4.7
B41: =Matrise!A32 -> 4.2 | C41: =Matrise!B32 -> Telephone with plug | F41: =Matrise!C32 -> 4.7
B42: =Matrise!A33 -> 4.3 | C42: =Matrise!B33 -> PA with plug | F42: =Matrise!C33 -> 4.7
B43: =Matrise!A34 -> 4.4 | C43: =Matrise!B34 -> Alarm signal to control room with plug | F43: =Matrise!C34 -> 4.7
B44: =Matrise!A35 -> 4.5 | C44: =Matrise!B35 -> Shutdown (ESD) from CCR (for battery system etc.) | F44: =Matrise!C35 -> 4.4.3
C45: =Matrise!B52 -> 6. DOCUMENTATION
B46: =Matrise!A53 -> 6.1 | C46: =Matrise!B53 -> Lifting certificate | F46: =Matrise!C53 -> 4.8
B47: =Matrise!A54 -> 6.2 | C47: =Matrise!B54 -> Other technical doc. (drawings, data.) | F47: =Matrise!C54 -> 4.8
B48: =Matrise!A55 -> 6.3 | C48: =Matrise!B55 -> Certificate for equip.with special requ. | F48: =Matrise!C55 -> 4.8
B49: =Matrise!A56 -> 6.4 | C49: =Matrise!B56 -> Maintenance programme | F49: =Matrise!C56 -> 4.8
B50: =Matrise!A57 -> 6.5 | C50: =Matrise!B57 -> Maintenance journal | F50: =Matrise!C57 -> 4.8
B51: =Matrise!A58 -> 6.6 | C51: =Matrise!B58 -> User manual | F51: =Matrise!C58 -> 4.8
A53: Supplier | D53: Supplier | H53: Company
A54: Competent person for lifting gir/mechanical devices | D54: Electrician | H54: Receiving control
A55: Date: | D55: Date: | H55: Date:
C57: Signature | E57: Signature | I57: Signature
C59: Name in capitals | E59: Name in capitals | I59: Name in capitals
B61: =Matrise!A88 -> 0

Sheet O
A1: =Matrise!B3 -> NORSOK Z-015 CHECKLIST
B2: Container type : | D2: =Matrise!N2 -> O | E2: =Matrise!N3 -> Toilet container | H2: =Matrise!H63 -> ID no.:
B4: =Matrise!B65 -> Approved for location in zone:
B5: =Matrise!B66 -> Zone 1 □ , Zone 2 □, Non-hazardous area □
B6: =Matrise!B67 -> Supplier: | E6: =Matrise!E67 -> Contact person contractor/telephone:
B8: =Matrise!B69 -> Company/installation container intended for: | E8: =Matrise!E69 -> Contact person/requisitioner in the company:
B11: =Matrise!B72 -> Person in the company responsible for prior approval, see 4.8.3:
B13: =Matrise!B74 -> Name: | F13: =Matrise!F74 -> Telephone: | I13: =Matrise!I74 -> Date approval received:
A16: =Matrise!A3 -> Control point | C16: =Matrise!B77 -> Status: | F16: =Matrise!E77 -> Ref. | G16: =Matrise!F77 -> Status | H16: =Matrise!G77 -> Receiving control (company) | I16: =Matrise!H77 -> Remarks
C17: =Matrise!B78 -> OK=Approved, NA=Not Applicable, NC=Not Checked, D=Defective or missing | F17: =Matrise!E78 -> Z-015 | G17: =Matrise!F78 -> supplier
C18: =Matrise!B5 -> 1. MECHANICAL
B19: =Matrise!A6 -> 1.1. | C19: =Matrise!B6 -> Signs tagging/labelling | F19: =Matrise!C6 -> 4.6
B20: =Matrise!A7 -> 1.2 | C20: =Matrise!B7 -> Annual inspection (lifting equipment, cert.) | F20: =Matrise!C7 -> 4.4.1
B21: =Matrise!A8 -> 1.3 | C21: =Matrise!B8 -> Mech. Cond. (lifting eyes/points, structure) | F21: =Matrise!C8 -> 4.4.1
B22: =Matrise!A9 -> 1.4 | C22: =Matrise!B9 -> Fire classification | F22: =Matrise!C9 -> 4.4.1
B23: =Matrise!A11 -> 1.6 | C23: =Matrise!B11 -> Self closing doors | F23: =Matrise!C11 -> 4.4.1
B24: =Matrise!A12 -> 1.7 | C24: =Matrise!B12 -> Emergency exits | F24: =Matrise!C12 -> 4.4.1
B25: =Matrise!A13 -> 1.8 | C25: =Matrise!B13 -> Mechanical ventilation | F25: =Matrise!C13 -> 4.4.7
C26: =Matrise!B15 -> 2. FIRE, GAS AND SAFETY
B27: =Matrise!A16 -> 2.1 | C27: =Matrise!B16 -> Gas detector in air inlet | F27: =Matrise!C16 -> 4.4.3
B28: =Matrise!A19 -> 2.4 | C28: =Matrise!B19 -> Extinguisher | F28: =Matrise!C19 -> 4.4.2
B29: =Matrise!A21 -> 2.6 | C29: =Matrise!B21 -> Alarm og nedst. v/tap av overtrykk/vent. | F29: =Matrise!C21 -> 4.4.7
C30: =Matrise!B23 -> 3. ELECTRICAL
B31: =Matrise!A24 -> 3.1 | C31: =Matrise!B24 -> Cables, glands, equipment etc. | F31: =Matrise!C24 -> 4.4.6.1
B32: =Matrise!A25 -> 3.2 | C32: =Matrise!B25 -> Insulation resistance - megger | F32: =Matrise!C25 -> 37107
B33: =Matrise!A26 -> 3.3 | C33: =Matrise!B26 -> Earthing (NB bonding of structure) | F33: =Matrise!C26 -> 4.4.6.3
B34: =Matrise!A27 -> 3.4 | C34: =Matrise!B27 -> All external installation Ex-proof | F34: =Matrise!C27 -> 4.5.1
B35: =Matrise!A28 -> 3.5 | C35: =Matrise!B28 -> All internal installation Ex-proof | F35: =Matrise!C28 -> 4.5.1
B36: =Matrise!A29 -> 3.6 | C36: =Matrise!B29 -> Emergency lighting | F36: =Matrise!C29 -> 4.4.6.2
C37: =Matrise!B30 -> 4. HOOK-UP TO INSTALLATION
B38: =Matrise!A31 -> 4.1 | C38: =Matrise!B31 -> Power supply (voltage, freq., plugs) | F38: =Matrise!C31 -> 4.7
B39: =Matrise!A32 -> 4.2 | C39: =Matrise!B32 -> Telephone with plug | F39: =Matrise!C32 -> 4.7
B40: =Matrise!A33 -> 4.3 | C40: =Matrise!B33 -> PA with plug | F40: =Matrise!C33 -> 4.7
B41: =Matrise!A34 -> 4.4 | C41: =Matrise!B34 -> Alarm signal to control room with plug | F41: =Matrise!C34 -> 4.7
C42: =Matrise!B52 -> 6. DOCUMENTATION
B43: =Matrise!A53 -> 6.1 | C43: =Matrise!B53 -> Lifting certificate | F43: =Matrise!C53 -> 4.8
B44: =Matrise!A54 -> 6.2 | C44: =Matrise!B54 -> Other technical doc. (drawings, data.) | F44: =Matrise!C54 -> 4.8
B45: =Matrise!A55 -> 6.3 | C45: =Matrise!B55 -> Certificate for equip.with special requ. | F45: =Matrise!C55 -> 4.8
B46: =Matrise!A56 -> 6.4 | C46: =Matrise!B56 -> Maintenance programme | F46: =Matrise!C56 -> 4.8
B47: =Matrise!A57 -> 6.5 | C47: =Matrise!B57 -> Maintenance journal | F47: =Matrise!C57 -> 4.8
B48: =Matrise!A58 -> 6.6 | C48: =Matrise!B58 -> User manual | F48: =Matrise!C58 -> 4.8
A50: Supplier | D50: Supplier | H50: Company
A51: Competent person for lifting gir/mechanical devices | D51: Electrician | H51: Receiving control
A52: Date: | D52: Date: | H52: Date:
C54: Signature | E54: Signature | I54: Signature
C56: Name in capitals | E56: Name in capitals | I56: Name in capitals
B58: =Matrise!A88 -> 0

Sheet P
A1: =Matrise!B3 -> NORSOK Z-015 CHECKLIST
C2: Container type : | D2: =Matrise!O2 -> P | E2: =Matrise!O3 -> Electrical equipment container | H2: =Matrise!H63 -> ID no.:
B4: =Matrise!B65 -> Approved for location in zone:
B5: =Matrise!B66 -> Zone 1 □ , Zone 2 □, Non-hazardous area □
B6: =Matrise!B67 -> Supplier: | E6: =Matrise!E67 -> Contact person contractor/telephone:
B8: =Matrise!B69 -> Company/installation container intended for: | E8: =Matrise!E69 -> Contact person/requisitioner in the company:
B11: =Matrise!B72 -> Person in the company responsible for prior approval, see 4.8.3:
B13: =Matrise!B74 -> Name: | F13: =Matrise!F74 -> Telephone: | I13: =Matrise!I74 -> Date approval received:
A16: =Matrise!A3 -> Control point | C16: =Matrise!B77 -> Status: | F16: =Matrise!E77 -> Ref. | G16: =Matrise!F77 -> Status | H16: =Matrise!G77 -> Receiving control (company) | I16: =Matrise!H77 -> Remarks
F17: =Matrise!E78 -> Z-015 | G17: =Matrise!F78 -> supplier
C18: =Matrise!B5 -> 1. MECHANICAL
B19: =Matrise!A6 -> 1.1. | C19: =Matrise!B6 -> Signs tagging/labelling | F19: =Matrise!C6 -> 4.6
B20: =Matrise!A7 -> 1.2 | C20: =Matrise!B7 -> Annual inspection (lifting equipment, cert.) | F20: =Matrise!C7 -> 4.4.1
B21: =Matrise!A8 -> 1.3 | C21: =Matrise!B8 -> Mech. Cond. (lifting eyes/points, structure) | F21: =Matrise!C8 -> 4.4.1
B22: =Matrise!A9 -> 1.4 | C22: =Matrise!B9 -> Fire classification | F22: =Matrise!C9 -> 4.4.1
B23: =Matrise!A10 -> 1.5 | C23: =Matrise!B10 -> Air lock | F23: =Matrise!C10 -> 4.4.1
B24: =Matrise!A11 -> 1.6 | C24: =Matrise!B11 -> Self closing doors | F24: =Matrise!C11 -> 4.4.1
B25: =Matrise!A12 -> 1.7 | C25: =Matrise!B12 -> Emergency exits | F25: =Matrise!C12 -> 4.4.1
B26: =Matrise!A13 -> 1.8 | C26: =Matrise!B13 -> Mechanical ventilation | F26: =Matrise!C13 -> 4.4.7
B27: =Matrise!A14 -> 1.9 | C27: =Matrise!B14 -> Noise measurement carried out (supplier) | F27: =Matrise!C14 -> 4.4.8
C28: =Matrise!B15 -> 2. FIRE, GAS AND SAFETY
B29: =Matrise!A16 -> 2.1 | C29: =Matrise!B16 -> Gas detector in air inlet | F29: =Matrise!C16 -> 4.4.3
B30: =Matrise!A17 -> 2.2 | C30: =Matrise!B17 -> Fire/smoke detector | F30: =Matrise!C17 -> 4.4.2
B31: =Matrise!A19 -> 2.4 | C31: =Matrise!B19 -> Extinguisher | F31: =Matrise!C19 -> 4.4.2
B32: =Matrise!A21 -> 2.6 | C32: =Matrise!B21 -> Alarm og nedst. v/tap av overtrykk/vent. | F32: =Matrise!C21 -> 4.4.7
C33: =Matrise!B23 -> 3. ELECTRICAL
B34: =Matrise!A24 -> 3.1 | C34: =Matrise!B24 -> Cables, glands, equipment etc. | F34: =Matrise!C24 -> 4.4.6.1
B35: =Matrise!A25 -> 3.2 | C35: =Matrise!B25 -> Insulation resistance - megger | F35: =Matrise!C25 -> 37107
B36: =Matrise!A26 -> 3.3 | C36: =Matrise!B26 -> Earthing (NB bonding of structure) | F36: =Matrise!C26 -> 4.4.6.3
B37: =Matrise!A27 -> 3.4 | C37: =Matrise!B27 -> All external installation Ex-proof | F37: =Matrise!C27 -> 4.5.1
B38: =Matrise!A28 -> 3.5 | C38: =Matrise!B28 -> All internal installation Ex-proof | F38: =Matrise!C28 -> 4.5.1
B39: =Matrise!A29 -> 3.6 | C39: =Matrise!B29 -> Emergency lighting | F39: =Matrise!C29 -> 4.4.6.2
C40: =Matrise!B30 -> 4. HOOK-UP TO INSTALLATION
B41: =Matrise!A31 -> 4.1 | C41: =Matrise!B31 -> Power supply (voltage, freq., plugs) | F41: =Matrise!C31 -> 4.7
B42: =Matrise!A32 -> 4.2 | C42: =Matrise!B32 -> Telephone with plug | F42: =Matrise!C32 -> 4.7
B43: =Matrise!A33 -> 4.3 | C43: =Matrise!B33 -> PA with plug | F43: =Matrise!C33 -> 4.7
B44: =Matrise!A34 -> 4.4 | C44: =Matrise!B34 -> Alarm signal to control room with plug | F44: =Matrise!C34 -> 4.7
B45: =Matrise!A35 -> 4.5 | C45: =Matrise!B35 -> Shutdown (ESD) from CCR (for battery system etc.) | F45: =Matrise!C35 -> 4.4.3
C46: =Matrise!B52 -> 6. DOCUMENTATION
B47: =Matrise!A53 -> 6.1 | C47: =Matrise!B53 -> Lifting certificate | F47: =Matrise!C53 -> 4.8
B48: =Matrise!A54 -> 6.2 | C48: =Matrise!B54 -> Other technical doc. (drawings, data.) | F48: =Matrise!C54 -> 4.8
B49: =Matrise!A55 -> 6.3 | C49: =Matrise!B55 -> Certificate for equip.with special requ. | F49: =Matrise!C55 -> 4.8
B50: =Matrise!A56 -> 6.4 | C50: =Matrise!B56 -> Maintenance programme | F50: =Matrise!C56 -> 4.8
B51: =Matrise!A57 -> 6.5 | C51: =Matrise!B57 -> Maintenance journal | F51: =Matrise!C57 -> 4.8
B52: =Matrise!A58 -> 6.6 | C52: =Matrise!B58 -> User manual | F52: =Matrise!C58 -> 4.8
A54: Supplier | D54: Supplier | H54: Company
A55: Competent person for lifting gir/mechanical devices | D55: Electrician | H55: Receiving control
A56: Date: | D56: Date: | H56: Date:
C58: Signature | E58: Signature | I58: Signature
C60: Name in capitals | E60: Name in capitals | I60: Name in capitals
B62: =Matrise!A88 -> 0

Sheet X
A1: =Matrise!B3 -> NORSOK Z-015 CHECKLIST
B2: Container type : | D2: =Matrise!P2 -> X | E2: Other container with ignition source | H2: =Matrise!H63 -> ID no.:
B4: =Matrise!B65 -> Approved for location in zone:
B5: =Matrise!B66 -> Zone 1 □ , Zone 2 □, Non-hazardous area □
B6: =Matrise!B67 -> Supplier: | E6: =Matrise!E67 -> Contact person contractor/telephone:
B8: =Matrise!B69 -> Company/installation container intended for: | E8: =Matrise!E69 -> Contact person/requisitioner in the company:
B11: =Matrise!B72 -> Person in the company responsible for prior approval, see 4.8.3:
B13: =Matrise!B74 -> Name: | F13: =Matrise!F74 -> Telephone: | I13: =Matrise!I74 -> Date approval received:
A16: =Matrise!A3 -> Control point | C16: =Matrise!B77 -> Status: | F16: =Matrise!E77 -> Ref. | G16: =Matrise!F77 -> Status | H16: =Matrise!G77 -> Receiving control (company) | I16: =Matrise!H77 -> Remarks
C17: =Matrise!B78 -> OK=Approved, NA=Not Applicable, NC=Not Checked, D=Defective or missing | F17: =Matrise!E78 -> Z-015 | G17: =Matrise!F78 -> supplier
B18: =Matrise!A4 -> 0 | C18: =Matrise!B4 -> Skal ikke plasseres i eksplosjonsfarlig område | F18: =Matrise!C4 -> 0
C19: =Matrise!B5 -> 1. MECHANICAL
B20: =Matrise!A6 -> 1.1. | C20: =Matrise!B6 -> Signs tagging/labelling | F20: =Matrise!C6 -> 4.6
B21: =Matrise!A7 -> 1.2 | C21: =Matrise!B7 -> Annual inspection (lifting equipment, cert.) | F21: =Matrise!C7 -> 4.4.1
B22: =Matrise!A8 -> 1.3 | C22: =Matrise!B8 -> Mech. Cond. (lifting eyes/points, structure) | F22: =Matrise!C8 -> 4.4.1
B23: =Matrise!A9 -> 1.4 | C23: =Matrise!B9 -> Fire classification | F23: =Matrise!C9 -> 4.4.1
B24: =Matrise!A11 -> 1.6 | C24: =Matrise!B11 -> Self closing doors | F24: =Matrise!C11 -> 4.4.1
B25: =Matrise!A12 -> 1.7 | C25: =Matrise!B12 -> Emergency exits | F25: =Matrise!C12 -> 4.4.1
B26: =Matrise!A13 -> 1.8 | C26: =Matrise!B13 -> Mechanical ventilation | F26: =Matrise!C13 -> 4.4.7
C27: =Matrise!B15 -> 2. FIRE, GAS AND SAFETY
B28: =Matrise!A17 -> 2.2 | C28: =Matrise!B17 -> Fire/smoke detector | F28: =Matrise!C17 -> 4.4.2
B29: =Matrise!A19 -> 2.4 | C29: =Matrise!B19 -> Extinguisher | F29: =Matrise!C19 -> 4.4.2
C30: =Matrise!B23 -> 3. ELECTRICAL
B31: =Matrise!A24 -> 3.1 | C31: =Matrise!B24 -> Cables, glands, equipment etc. | F31: =Matrise!C24 -> 4.4.6.1
B32: =Matrise!A25 -> 3.2 | C32: =Matrise!B25 -> Insulation resistance - megger | F32: =Matrise!C25 -> 37107
B33: =Matrise!A26 -> 3.3 | C33: =Matrise!B26 -> Earthing (NB bonding of structure) | F33: =Matrise!C26 -> 4.4.6.3
B34: =Matrise!A27 -> 3.4 | C34: =Matrise!B27 -> All external installation Ex-proof | F34: =Matrise!C27 -> 4.5.1
B35: =Matrise!A28 -> 3.5 | C35: =Matrise!B28 -> All internal installation Ex-proof | F35: =Matrise!C28 -> 4.5.1
C36: =Matrise!B30 -> 4. HOOK-UP TO INSTALLATION
B37: =Matrise!A31 -> 4.1 | C37: =Matrise!B31 -> Power supply (voltage, freq., plugs) | F37: =Matrise!C31 -> 4.7
C38: =Matrise!B52 -> 6. DOCUMENTATION
B39: =Matrise!A53 -> 6.1 | C39: =Matrise!B53 -> Lifting certificate | F39: =Matrise!C53 -> 4.8
B40: =Matrise!A54 -> 6.2 | C40: =Matrise!B54 -> Other technical doc. (drawings, data.) | F40: =Matrise!C54 -> 4.8
B41: =Matrise!A55 -> 6.3 | C41: =Matrise!B55 -> Certificate for equip.with special requ. | F41: =Matrise!C55 -> 4.8
B42: =Matrise!A56 -> 6.4 | C42: =Matrise!B56 -> Maintenance programme | F42: =Matrise!C56 -> 4.8
B43: =Matrise!A57 -> 6.5 | C43: =Matrise!B57 -> Maintenance journal | F43: =Matrise!C57 -> 4.8
B44: =Matrise!A58 -> 6.6 | C44: =Matrise!B58 -> User manual | F44: =Matrise!C58 -> 4.8
A46: Supplier | D46: Supplier | H46: Company
A47: Competent person for lifting gir/mechanical devices | D47: Electrician | H47: Receiving control
A48: Date: | D48: Date: | H48: Date:
C50: Signature | E50: Signature | I50: Signature
C52: Name in capitals | E52: Name in capitals | I52: Name in capitals
B54: =Matrise!A88 -> 0

Sheet Y
A1: =Matrise!B3 -> NORSOK Z-015 CHECKLIST
B2: Container type : | D2: =Matrise!Q2 -> Y | E2: =Matrise!Q3 -> Other container with ignition sources presssure regulated | H2: =Matrise!H63 -> ID no.:
B4: =Matrise!B65 -> Approved for location in zone:
B5: =Matrise!B66 -> Zone 1 □ , Zone 2 □, Non-hazardous area □
B6: =Matrise!B67 -> Supplier: | E6: =Matrise!E67 -> Contact person contractor/telephone:
B8: =Matrise!B69 -> Company/installation container intended for: | E8: =Matrise!E69 -> Contact person/requisitioner in the company:
B11: =Matrise!B72 -> Person in the company responsible for prior approval, see 4.8.3:
B13: =Matrise!B74 -> Name: | F13: =Matrise!F74 -> Telephone: | I13: =Matrise!I74 -> Date approval received:
A16: =Matrise!A3 -> Control point | C16: =Matrise!B77 -> Status: | F16: =Matrise!E77 -> Ref. | G16: =Matrise!F77 -> Status | H16: =Matrise!G77 -> Receiving control (company) | I16: =Matrise!H77 -> Remarks
C17: =Matrise!B78 -> OK=Approved, NA=Not Applicable, NC=Not Checked, D=Defective or missing | F17: =Matrise!E78 -> Z-015 | G17: =Matrise!F78 -> supplier
C18: =Matrise!B5 -> 1. MECHANICAL
B19: =Matrise!A6 -> 1.1. | C19: =Matrise!B6 -> Signs tagging/labelling | F19: =Matrise!C6 -> 4.6
B20: =Matrise!A7 -> 1.2 | C20: =Matrise!B7 -> Annual inspection (lifting equipment, cert.) | F20: =Matrise!C7 -> 4.4.1
B21: =Matrise!A8 -> 1.3 | C21: =Matrise!B8 -> Mech. Cond. (lifting eyes/points, structure) | F21: =Matrise!C8 -> 4.4.1
B22: =Matrise!A9 -> 1.4 | C22: =Matrise!B9 -> Fire classification | F22: =Matrise!C9 -> 4.4.1
B23: =Matrise!A10 -> 1.5 | C23: =Matrise!B10 -> Air lock | F23: =Matrise!C10 -> 4.4.1
B24: =Matrise!A11 -> 1.6 | C24: =Matrise!B11 -> Self closing doors | F24: =Matrise!C11 -> 4.4.1
B25: =Matrise!A12 -> 1.7 | C25: =Matrise!B12 -> Emergency exits | F25: =Matrise!C12 -> 4.4.1
B26: =Matrise!A13 -> 1.8 | C26: =Matrise!B13 -> Mechanical ventilation | F26: =Matrise!C13 -> 4.4.7
C27: =Matrise!B15 -> 2. FIRE, GAS AND SAFETY
B28: =Matrise!A16 -> 2.1 | C28: =Matrise!B16 -> Gas detector in air inlet | F28: =Matrise!C16 -> 4.4.3
B29: =Matrise!A17 -> 2.2 | C29: =Matrise!B17 -> Fire/smoke detector | F29: =Matrise!C17 -> 4.4.2
B30: =Matrise!A19 -> 2.4 | C30: =Matrise!B19 -> Extinguisher | F30: =Matrise!C19 -> 4.4.2
B31: =Matrise!A21 -> 2.6 | C31: =Matrise!B21 -> Alarm og nedst. v/tap av overtrykk/vent. | F31: =Matrise!C21 -> 4.4.7
C32: =Matrise!B23 -> 3. ELECTRICAL
B33: =Matrise!A24 -> 3.1 | C33: =Matrise!B24 -> Cables, glands, equipment etc. | F33: =Matrise!C24 -> 4.4.6.1
B34: =Matrise!A25 -> 3.2 | C34: =Matrise!B25 -> Insulation resistance - megger | F34: =Matrise!C25 -> 37107
B35: =Matrise!A26 -> 3.3 | C35: =Matrise!B26 -> Earthing (NB bonding of structure) | F35: =Matrise!C26 -> 4.4.6.3
B36: =Matrise!A27 -> 3.4 | C36: =Matrise!B27 -> All external installation Ex-proof | F36: =Matrise!C27 -> 4.5.1
B37: =Matrise!A28 -> 3.5 | C37: =Matrise!B28 -> All internal installation Ex-proof | F37: =Matrise!C28 -> 4.5.1
C38: =Matrise!B30 -> 4. HOOK-UP TO INSTALLATION
B39: =Matrise!A31 -> 4.1 | C39: =Matrise!B31 -> Power supply (voltage, freq., plugs) | F39: =Matrise!C31 -> 4.7
B40: =Matrise!A34 -> 4.4 | C40: =Matrise!B34 -> Alarm signal to control room with plug | F40: =Matrise!C34 -> 4.7
C41: =Matrise!B52 -> 6. DOCUMENTATION
B42: =Matrise!A53 -> 6.1 | C42: =Matrise!B53 -> Lifting certificate | F42: =Matrise!C53 -> 4.8
B43: =Matrise!A54 -> 6.2 | C43: =Matrise!B54 -> Other technical doc. (drawings, data.) | F43: =Matrise!C54 -> 4.8
B44: =Matrise!A55 -> 6.3 | C44: =Matrise!B55 -> Certificate for equip.with special requ. | F44: =Matrise!C55 -> 4.8
B45: =Matrise!A56 -> 6.4 | C45: =Matrise!B56 -> Maintenance programme | F45: =Matrise!C56 -> 4.8
B46: =Matrise!A57 -> 6.5 | C46: =Matrise!B57 -> Maintenance journal | F46: =Matrise!C57 -> 4.8
B47: =Matrise!A58 -> 6.6 | C47: =Matrise!B58 -> User manual | F47: =Matrise!C58 -> 4.8
A49: Supplier | D49: Supplier | H49: Company
A50: Competent person for lifting gir/mechanical devices | D50: Electrician | H50: Receiving control
A51: Date: | D51: Date: | H51: Date:
C53: Signature | E53: Signature | I53: Signature
C55: Name in capitals | E55: Name in capitals | I55: Name in capitals
B57: =Matrise!A88 -> 0

Sheet Z
A1: =Matrise!B3 -> NORSOK Z-015 CHECKLIST
B2: Container type : | D2: =Matrise!R2 -> Z | E2: =Matrise!R3 -> Other container without ignition source | H2: =Matrise!H63 -> ID no.:
B4: =Matrise!B65 -> Approved for location in zone:
B5: =Matrise!B66 -> Zone 1 □ , Zone 2 □, Non-hazardous area □
B6: =Matrise!B67 -> Supplier: | E6: =Matrise!E67 -> Contact person contractor/telephone:
B8: =Matrise!B69 -> Company/installation container intended for: | E8: =Matrise!E69 -> Contact person/requisitioner in the company:
B11: =Matrise!B72 -> Person in the company responsible for prior approval, see 4.8.3:
B13: =Matrise!B74 -> Name: | F13: =Matrise!F74 -> Telephone: | I13: =Matrise!I74 -> Date approval received:
A16: =Matrise!A3 -> Control point | C16: =Matrise!B77 -> Status: | F16: =Matrise!E77 -> Ref. | G16: =Matrise!F77 -> Status | H16: =Matrise!G77 -> Receiving control (company) | I16: =Matrise!H77 -> Remarks
C17: =Matrise!B78 -> OK=Approved, NA=Not Applicable, NC=Not Checked, D=Defective or missing | F17: =Matrise!E78 -> Z-015 | G17: =Matrise!F78 -> supplier
C18: =Matrise!B5 -> 1. MECHANICAL
B19: =Matrise!A6 -> 1.1. | C19: =Matrise!B6 -> Signs tagging/labelling | F19: =Matrise!C6 -> 4.6
B20: =Matrise!A7 -> 1.2 | C20: =Matrise!B7 -> Annual inspection (lifting equipment, cert.) | F20: =Matrise!C7 -> 4.4.1
B21: =Matrise!A8 -> 1.3 | C21: =Matrise!B8 -> Mech. Cond. (lifting eyes/points, structure) | F21: =Matrise!C8 -> 4.4.1
B22: =Matrise!A9 -> 1.4 | C22: =Matrise!B9 -> Fire classification | F22: =Matrise!C9 -> 4.4.1
B23: =Matrise!A11 -> 1.6 | C23: =Matrise!B11 -> Self closing doors | F23: =Matrise!C11 -> 4.4.1
B24: =Matrise!A12 -> 1.7 | C24: =Matrise!B12 -> Emergency exits | F24: =Matrise!C12 -> 4.4.1
C25: =Matrise!B15 -> 2. FIRE, GAS AND SAFETY
B26: =Matrise!A17 -> 2.2 | C26: =Matrise!B17 -> Fire/smoke detector | F26: =Matrise!C17 -> 4.4.2
B27: =Matrise!A19 -> 2.4 | C27: =Matrise!B19 -> Extinguisher | F27: =Matrise!C19 -> 4.4.2
C28: =Matrise!B23 -> 3. ELECTRICAL
B29: =Matrise!A24 -> 3.1 | C29: =Matrise!B24 -> Cables, glands, equipment etc. | F29: =Matrise!C24 -> 4.4.6.1
B30: =Matrise!A25 -> 3.2 | C30: =Matrise!B25 -> Insulation resistance - megger | F30: =Matrise!C25 -> 37107
B31: =Matrise!A26 -> 3.3 | C31: =Matrise!B26 -> Earthing (NB bonding of structure) | F31: =Matrise!C26 -> 4.4.6.3
B32: =Matrise!A27 -> 3.4 | C32: =Matrise!B27 -> All external installation Ex-proof | F32: =Matrise!C27 -> 4.5.1
B33: =Matrise!A28 -> 3.5 | C33: =Matrise!B28 -> All internal installation Ex-proof | F33: =Matrise!C28 -> 4.5.1
C34: =Matrise!B30 -> 4. HOOK-UP TO INSTALLATION
B35: =Matrise!A31 -> 4.1 | C35: =Matrise!B31 -> Power supply (voltage, freq., plugs) | F35: =Matrise!C31 -> 4.7
B36: =Matrise!A34 -> 4.4 | C36: =Matrise!B34 -> Alarm signal to control room with plug | F36: =Matrise!C34 -> 4.7
C37: =Matrise!B52 -> 6. DOCUMENTATION
B38: =Matrise!A53 -> 6.1 | C38: =Matrise!B53 -> Lifting certificate | F38: =Matrise!C53 -> 4.8
B39: =Matrise!A54 -> 6.2 | C39: =Matrise!B54 -> Other technical doc. (drawings, data.) | F39: =Matrise!C54 -> 4.8
B40: =Matrise!A55 -> 6.3 | C40: =Matrise!B55 -> Certificate for equip.with special requ. | F40: =Matrise!C55 -> 4.8
B41: =Matrise!A56 -> 6.4 | C41: =Matrise!B56 -> Maintenance programme | F41: =Matrise!C56 -> 4.8
B42: =Matrise!A57 -> 6.5 | C42: =Matrise!B57 -> Maintenance journal | F42: =Matrise!C57 -> 4.8
B43: =Matrise!A58 -> 6.6 | C43: =Matrise!B58 -> User manual | F43: =Matrise!C58 -> 4.8
A45: Supplier | D45: Supplier | H45: Company
A46: Competent person for lifting gir/mechanical devices | D46: Electrician | H46: Receiving control
A47: Date: | D47: Date: | H47: Date:
C49: Signature | E49: Signature | I49: Signature
C51: Name in capitals | E51: Name in capitals | I51: Name in capitals
B53: =Matrise!A88 -> 0

Sheet U01
A1: =Matrise!B3 -> NORSOK Z-015 CHECKLIST
B2: Equipment type : | D2: =Matrise!S2 -> U01 | E2: =Matrise!S3 -> Diesel engines | H2: =Matrise!H63 -> ID no.:
B4: =Matrise!B65 -> Approved for location in zone:
B5: =Matrise!B66 -> Zone 1 □ , Zone 2 □, Non-hazardous area □
B6: =Matrise!B67 -> Supplier: | E6: =Matrise!E67 -> Contact person contractor/telephone:
B8: =Matrise!B69 -> Company/installation container intended for: | E8: =Matrise!E69 -> Contact person/requisitioner in the company:
B11: =Matrise!B72 -> Person in the company responsible for prior approval, see 4.8.3:
B13: =Matrise!B74 -> Name: | F13: =Matrise!F74 -> Telephone: | I13: =Matrise!I74 -> Date approval received:
A16: =Matrise!A3 -> Control point | C16: =Matrise!B77 -> Status: | F16: =Matrise!E77 -> Ref. | G16: =Matrise!F77 -> Status | H16: =Matrise!G77 -> Receiving control (company) | I16: =Matrise!H77 -> Remarks
C17: =Matrise!B78 -> OK=Approved, NA=Not Applicable, NC=Not Checked, D=Defective or missing | F17: =Matrise!E78 -> Z-015 | G17: =Matrise!F78 -> supplier
C18: =Matrise!B5 -> 1. MECHANICAL
B19: =Matrise!A6 -> 1.1. | C19: =Matrise!B6 -> Signs tagging/labelling | F19: =Matrise!C6 -> 4.6
B20: =Matrise!A7 -> 1.2 | C20: =Matrise!B7 -> Annual inspection (lifting equipment, cert.) | F20: =Matrise!C7 -> 4.4.1
B21: =Matrise!A8 -> 1.3 | C21: =Matrise!B8 -> Mech. Cond. (lifting eyes/points, structure) | F21: =Matrise!C8 -> 4.4.1
B22: =Matrise!A14 -> 1.9 | C22: =Matrise!B14 -> Noise measurement carried out (supplier) | F22: =Matrise!C14 -> 4.4.8
C23: =Matrise!B15 -> 2. FIRE, GAS AND SAFETY
B24: =Matrise!A16 -> 2.1 | C24: =Matrise!B16 -> Gas detector in air inlet | F24: =Matrise!C16 -> 4.4.3
B25: =Matrise!A17 -> 2.2 | C25: =Matrise!B17 -> Fire/smoke detector | F25: =Matrise!C17 -> 4.4.2
B26: =Matrise!A19 -> 2.4 | C26: =Matrise!B19 -> Extinguisher | F26: =Matrise!C19 -> 4.4.2
C27: =Matrise!B23 -> 3. ELECTRICAL
B28: =Matrise!A24 -> 3.1 | C28: =Matrise!B24 -> Cables, glands, equipment etc. | F28: =Matrise!C24 -> 4.4.6.1
B29: =Matrise!A25 -> 3.2 | C29: =Matrise!B25 -> Insulation resistance - megger | F29: =Matrise!C25 -> 37107
B30: =Matrise!A26 -> 3.3 | C30: =Matrise!B26 -> Earthing (NB bonding of structure) | F30: =Matrise!C26 -> 4.4.6.3
B31: =Matrise!A27 -> 3.4 | C31: =Matrise!B27 -> All external installation Ex-proof | F31: =Matrise!C27 -> 4.5.1
C32: =Matrise!B30 -> 4. HOOK-UP TO INSTALLATION
B33: =Matrise!A31 -> 4.1 | C33: =Matrise!B31 -> Power supply (voltage, freq., plugs) | F33: =Matrise!C31 -> 4.7
B34: =Matrise!A34 -> 4.4 | C34: =Matrise!B34 -> Alarm signal to control room with plug | F34: =Matrise!C34 -> 4.7
B35: =Matrise!A35 -> 4.5 | C35: =Matrise!B35 -> Shutdown (ESD) from CCR (for battery system etc.) | F35: =Matrise!C35 -> 4.4.3
C36: =Matrise!B36 -> 5. EQUIPMENT
B37: =Matrise!A37 -> 5.1 | C37: =Matrise!B37 -> Manual emergency stop | F37: =Matrise!C37 -> 4.4.8
B38: =Matrise!A38 -> 5.2 | C38: =Matrise!B38 -> Manual shutdown of diesel supply | F38: =Matrise!C38 -> 4.3.1
B39: =Matrise!A39 -> 5.3 | C39: =Matrise!B39 -> Drip trays | F39: =Matrise!C39 -> 4.3.1
B40: =Matrise!A40 -> 5.4 | C40: =Matrise!B40 -> "Rig saver" in combustion air inlet | F40: =Matrise!C40 -> 4.3.1
B41: =Matrise!A41 -> 5.5 | C41: =Matrise!B41 -> Shutdown if loss of oil pressure | F41: =Matrise!C41 -> 4.3.1
B42: =Matrise!A42 -> 5.6 | C42: =Matrise!B42 -> Shutdown if high cooling water temperature | F42: =Matrise!C42 -> 4.3.1
B43: =Matrise!A43 -> 5.7 | C43: =Matrise!B43 -> Shutdown if overspeed | F43: =Matrise!C43 -> 4.3.1
B44: =Matrise!A44 -> 5.8 | C44: =Matrise!B44 -> Diesel engine approved for zone 2 | F44: =Matrise!C44 -> 4.3.1
B45: =Matrise!A45 -> 5.9 | C45: =Matrise!B45 -> Gas detector in combustion air inlet | F45: =Matrise!C45 -> 4.3.1
B46: =Matrise!A46 -> 5.1 | C46: =Matrise!B46 -> Flame arrester in exhaust pipe | F46: =Matrise!C46 -> 4.3.1
B47: =Matrise!A47 -> 5.11 | C47: =Matrise!B47 -> Spark arrester in exhaust pipe | F47: =Matrise!C47 -> 4.3.1
C48: =Matrise!B52 -> 6. DOCUMENTATION
B49: =Matrise!A53 -> 6.1 | C49: =Matrise!B53 -> Lifting certificate | F49: =Matrise!C53 -> 4.8
B50: =Matrise!A54 -> 6.2 | C50: =Matrise!B54 -> Other technical doc. (drawings, data.) | F50: =Matrise!C54 -> 4.8
B51: =Matrise!A55 -> 6.3 | C51: =Matrise!B55 -> Certificate for equip.with special requ. | F51: =Matrise!C55 -> 4.8
B52: =Matrise!A56 -> 6.4 | C52: =Matrise!B56 -> Maintenance programme | F52: =Matrise!C56 -> 4.8
B53: =Matrise!A57 -> 6.5 | C53: =Matrise!B57 -> Maintenance journal | F53: =Matrise!C57 -> 4.8
B54: =Matrise!A58 -> 6.6 | C54: =Matrise!B58 -> User manual | F54: =Matrise!C58 -> 4.8
A56: Supplier | D56: Supplier | H56: Company
A57: Competent person for lifting gir/mechanical devices | D57: Electrician | H57: Receiving control
A58: Date: | D58: Date: | H58: Date:
C60: Signature | E60: Signature | I60: Signature
C62: Name in capitals | E62: Name in capitals | I62: Name in capitals
B64: =Matrise!A88 -> 0

Sheet U02
A1: =Matrise!B3 -> NORSOK Z-015 CHECKLIST
B2: Equipment type : | D2: =Matrise!T2 -> U02 | E2: =Matrise!T3 -> Air compressors | H2: =Matrise!H63 -> ID no.:
B4: =Matrise!B65 -> Approved for location in zone:
B5: =Matrise!B66 -> Zone 1 □ , Zone 2 □, Non-hazardous area □
B6: =Matrise!B67 -> Supplier: | E6: =Matrise!E67 -> Contact person contractor/telephone:
B8: =Matrise!B69 -> Company/installation container intended for: | E8: =Matrise!E69 -> Contact person/requisitioner in the company:
B11: =Matrise!B72 -> Person in the company responsible for prior approval, see 4.8.3:
B13: =Matrise!B74 -> Name: | F13: =Matrise!F74 -> Telephone: | I13: =Matrise!I74 -> Date approval received:
A16: =Matrise!A3 -> Control point | C16: =Matrise!B77 -> Status: | F16: =Matrise!E77 -> Ref. | G16: =Matrise!F77 -> Status | H16: =Matrise!G77 -> Receiving control (company) | I16: =Matrise!H77 -> Remarks
C17: =Matrise!B78 -> OK=Approved, NA=Not Applicable, NC=Not Checked, D=Defective or missing | F17: =Matrise!E78 -> Z-015 | G17: =Matrise!F78 -> supplier
C18: =Matrise!B5 -> 1. MECHANICAL
B19: =Matrise!A6 -> 1.1. | C19: =Matrise!B6 -> Signs tagging/labelling | F19: =Matrise!C6 -> 4.6
B20: =Matrise!A7 -> 1.2 | C20: =Matrise!B7 -> Annual inspection (lifting equipment, cert.) | F20: =Matrise!C7 -> 4.4.1
B21: =Matrise!A8 -> 1.3 | C21: =Matrise!B8 -> Mech. Cond. (lifting eyes/points, structure) | F21: =Matrise!C8 -> 4.4.1
B22: =Matrise!A14 -> 1.9 | C22: =Matrise!B14 -> Noise measurement carried out (supplier) | F22: =Matrise!C14 -> 4.4.8
C23: =Matrise!B15 -> 2. FIRE, GAS AND SAFETY
B24: =Matrise!A16 -> 2.1 | C24: =Matrise!B16 -> Gas detector in air inlet | F24: =Matrise!C16 -> 4.4.3
B25: =Matrise!A17 -> 2.2 | C25: =Matrise!B17 -> Fire/smoke detector | F25: =Matrise!C17 -> 4.4.2
B26: =Matrise!A19 -> 2.4 | C26: =Matrise!B19 -> Extinguisher | F26: =Matrise!C19 -> 4.4.2
B27: =Matrise!A22 -> 2.7 | C27: =Matrise!B22 -> Romslukkingsanlegg | F27: =Matrise!C22 -> 4.4.2
C28: =Matrise!B23 -> 3. ELECTRICAL
B29: =Matrise!A24 -> 3.1 | C29: =Matrise!B24 -> Cables, glands, equipment etc. | F29: =Matrise!C24 -> 4.4.6.1
B30: =Matrise!A25 -> 3.2 | C30: =Matrise!B25 -> Insulation resistance - megger | F30: =Matrise!C25 -> 37107
B31: =Matrise!A26 -> 3.3 | C31: =Matrise!B26 -> Earthing (NB bonding of structure) | F31: =Matrise!C26 -> 4.4.6.3
B32: =Matrise!A27 -> 3.4 | C32: =Matrise!B27 -> All external installation Ex-proof | F32: =Matrise!C27 -> 4.5.1
C33: =Matrise!B30 -> 4. HOOK-UP TO INSTALLATION
B34: =Matrise!A31 -> 4.1 | C34: =Matrise!B31 -> Power supply (voltage, freq., plugs) | F34: =Matrise!C31 -> 4.7
B35: =Matrise!A34 -> 4.4 | C35: =Matrise!B34 -> Alarm signal to control room with plug | F35: =Matrise!C34 -> 4.7
C36: =Matrise!B36 -> 5. EQUIPMENT
B37: =Matrise!A37 -> 5.1 | C37: =Matrise!B37 -> Manual emergency stop | F37: =Matrise!C37 -> 4.4.8
B38: =Matrise!A38 -> 5.2 | C38: =Matrise!B38 -> Manual shutdown of diesel supply | F38: =Matrise!C38 -> 4.3.1
B39: =Matrise!A39 -> 5.3 | C39: =Matrise!B39 -> Drip trays | F39: =Matrise!C39 -> 4.3.1
B40: =Matrise!A40 -> 5.4 | C40: =Matrise!B40 -> "Rig saver" in combustion air inlet | F40: =Matrise!C40 -> 4.3.1
B41: =Matrise!A41 -> 5.5 | C41: =Matrise!B41 -> Shutdown if loss of oil pressure | F41: =Matrise!C41 -> 4.3.1
B42: =Matrise!A42 -> 5.6 | C42: =Matrise!B42 -> Shutdown if high cooling water temperature | F42: =Matrise!C42 -> 4.3.1
B43: =Matrise!A43 -> 5.7 | C43: =Matrise!B43 -> Shutdown if overspeed | F43: =Matrise!C43 -> 4.3.1
B44: =Matrise!A44 -> 5.8 | C44: =Matrise!B44 -> Diesel engine approved for zone 2 | F44: =Matrise!C44 -> 4.3.1
B45: =Matrise!A45 -> 5.9 | C45: =Matrise!B45 -> Gas detector in combustion air inlet | F45: =Matrise!C45 -> 4.3.1
B46: =Matrise!A46 -> 5.1 | C46: =Matrise!B46 -> Flame arrester in exhaust pipe | F46: =Matrise!C46 -> 4.3.1
B47: =Matrise!A47 -> 5.11 | C47: =Matrise!B47 -> Spark arrester in exhaust pipe | F47: =Matrise!C47 -> 4.3.1
B48: =Matrise!A48 -> 5.12 | C48: =Matrise!B48 -> Safety valve | F48: =Matrise!C48 -> 4.3.3
C49: =Matrise!B52 -> 6. DOCUMENTATION
B50: =Matrise!A53 -> 6.1 | C50: =Matrise!B53 -> Lifting certificate | F50: =Matrise!C53 -> 4.8
B51: =Matrise!A54 -> 6.2 | C51: =Matrise!B54 -> Other technical doc. (drawings, data.) | F51: =Matrise!C54 -> 4.8
B52: =Matrise!A55 -> 6.3 | C52: =Matrise!B55 -> Certificate for equip.with special requ. | F52: =Matrise!C55 -> 4.8
B53: =Matrise!A56 -> 6.4 | C53: =Matrise!B56 -> Maintenance programme | F53: =Matrise!C56 -> 4.8
B54: =Matrise!A57 -> 6.5 | C54: =Matrise!B57 -> Maintenance journal | F54: =Matrise!C57 -> 4.8
B55: =Matrise!A58 -> 6.6 | C55: =Matrise!B58 -> User manual | F55: =Matrise!C58 -> 4.8
A57: Supplier | D57: Supplier | H57: Company
A58: Competent person for lifting gir/mechanical devices | D58: Electrician | H58: Receiving control
A59: Date: | D59: Date: | H59: Date:
C61: Signature | E61: Signature | I61: Signature
C63: Name in capitals | E63: Name in capitals | I63: Name in capitals
B65: =Matrise!A88 -> 0

Sheet U03
A1: =Matrise!B3 -> NORSOK Z-015 CHECKLIST
B2: Equipment type : | D2: =Matrise!U2 -> U03 | E2: =Matrise!U3 -> Tanks | H2: =Matrise!H63 -> ID no.:
B4: =Matrise!B65 -> Approved for location in zone:
B5: =Matrise!B66 -> Zone 1 □ , Zone 2 □, Non-hazardous area □
B6: =Matrise!B67 -> Supplier: | E6: =Matrise!E67 -> Contact person contractor/telephone:
B8: =Matrise!B69 -> Company/installation container intended for: | E8: =Matrise!E69 -> Contact person/requisitioner in the company:
B11: =Matrise!B72 -> Person in the company responsible for prior approval, see 4.8.3:
B13: =Matrise!B74 -> Name: | F13: =Matrise!F74 -> Telephone: | I13: =Matrise!I74 -> Date approval received:
A16: =Matrise!A3 -> Control point | C16: =Matrise!B77 -> Status: | F16: =Matrise!E77 -> Ref. | G16: =Matrise!F77 -> Status | H16: =Matrise!G77 -> Receiving control (company) | I16: =Matrise!H77 -> Remarks
C17: =Matrise!B78 -> OK=Approved, NA=Not Applicable, NC=Not Checked, D=Defective or missing | F17: =Matrise!E78 -> Z-015 | G17: =Matrise!F78 -> supplier
C18: =Matrise!B5 -> 1. MECHANICAL
B19: =Matrise!A6 -> 1.1. | C19: =Matrise!B6 -> Signs tagging/labelling | F19: =Matrise!C6 -> 4.6
B20: =Matrise!A7 -> 1.2 | C20: =Matrise!B7 -> Annual inspection (lifting equipment, cert.) | F20: =Matrise!C7 -> 4.4.1
B21: =Matrise!A8 -> 1.3 | C21: =Matrise!B8 -> Mech. Cond. (lifting eyes/points, structure) | F21: =Matrise!C8 -> 4.4.1
C22: =Matrise!B23 -> 3. ELECTRICAL
B23: =Matrise!A24 -> 3.1 | C23: =Matrise!B24 -> Cables, glands, equipment etc. | F23: =Matrise!C24 -> 4.4.6.1
B24: =Matrise!A25 -> 3.2 | C24: =Matrise!B25 -> Insulation resistance - megger | F24: =Matrise!C25 -> 37107
B25: =Matrise!A26 -> 3.3 | C25: =Matrise!B26 -> Earthing (NB bonding of structure) | F25: =Matrise!C26 -> 4.4.6.3
B26: =Matrise!A27 -> 3.4 | C26: =Matrise!B27 -> All external installation Ex-proof | F26: =Matrise!C27 -> 4.5.1
C27: =Matrise!B30 -> 4. HOOK-UP TO INSTALLATION
B28: =Matrise!A31 -> 4.1 | C28: =Matrise!B31 -> Power supply (voltage, freq., plugs) | F28: =Matrise!C31 -> 4.7
C29: =Matrise!B36 -> 5. EQUIPMENT
B30: =Matrise!A48 -> 5.12 | C30: =Matrise!B48 -> Safety valve | F30: =Matrise!C48 -> 4.3.3
C31: =Matrise!B52 -> 6. DOCUMENTATION
B32: =Matrise!A53 -> 6.1 | C32: =Matrise!B53 -> Lifting certificate | F32: =Matrise!C53 -> 4.8
B33: =Matrise!A54 -> 6.2 | C33: =Matrise!B54 -> Other technical doc. (drawings, data.) | F33: =Matrise!C54 -> 4.8
B34: =Matrise!A55 -> 6.3 | C34: =Matrise!B55 -> Certificate for equip.with special requ. | F34: =Matrise!C55 -> 4.8
B35: =Matrise!A56 -> 6.4 | C35: =Matrise!B56 -> Maintenance programme | F35: =Matrise!C56 -> 4.8
B36: =Matrise!A57 -> 6.5 | C36: =Matrise!B57 -> Maintenance journal | F36: =Matrise!C57 -> 4.8
B37: =Matrise!A58 -> 6.6 | C37: =Matrise!B58 -> User manual | F37: =Matrise!C58 -> 4.8
A39: Supplier | D39: Supplier | H39: Company
A40: Competent person for lifting gir/mechanical devices | D40: Electrician | H40: Receiving control
A41: Date: | D41: Date: | H41: Date:
C43: Signature | E43: Signature | I43: Signature
C45: Name in capitals | E45: Name in capitals | I45: Name in capitals
B47: =Matrise!A88 -> 0

Sheet U04
A1: =Matrise!B3 -> NORSOK Z-015 CHECKLIST
B2: Equipment type : | D2: =Matrise!V2 -> U04 | E2: =Matrise!V3 -> High pressure cleaning equipment | H2: =Matrise!H63 -> ID no.:
B4: =Matrise!B65 -> Approved for location in zone:
B5: =Matrise!B66 -> Zone 1 □ , Zone 2 □, Non-hazardous area □
B6: =Matrise!B67 -> Supplier: | E6: =Matrise!E67 -> Contact person contractor/telephone:
B8: =Matrise!B69 -> Company/installation container intended for: | E8: =Matrise!E69 -> Contact person/requisitioner in the company:
B11: =Matrise!B72 -> Person in the company responsible for prior approval, see 4.8.3:
B13: =Matrise!B74 -> Name: | F13: =Matrise!F74 -> Telephone: | I13: =Matrise!I74 -> Date approval received:
A16: =Matrise!A3 -> Control point | C16: =Matrise!B77 -> Status: | F16: =Matrise!E77 -> Ref. | G16: =Matrise!F77 -> Status | H16: =Matrise!G77 -> Receiving control (company) | I16: =Matrise!H77 -> Remarks
C17: =Matrise!B78 -> OK=Approved, NA=Not Applicable, NC=Not Checked, D=Defective or missing | F17: =Matrise!E78 -> Z-015 | G17: =Matrise!F78 -> supplier
C18: =Matrise!B5 -> 1. MECHANICAL
B19: =Matrise!A6 -> 1.1. | C19: =Matrise!B6 -> Signs tagging/labelling | F19: =Matrise!C6 -> 4.6
B20: =Matrise!A7 -> 1.2 | C20: =Matrise!B7 -> Annual inspection (lifting equipment, cert.) | F20: =Matrise!C7 -> 4.4.1
B21: =Matrise!A8 -> 1.3 | C21: =Matrise!B8 -> Mech. Cond. (lifting eyes/points, structure) | F21: =Matrise!C8 -> 4.4.1
B22: =Matrise!A14 -> 1.9 | C22: =Matrise!B14 -> Noise measurement carried out (supplier) | F22: =Matrise!C14 -> 4.4.8
C23: =Matrise!B15 -> 2. FIRE, GAS AND SAFETY
B24: =Matrise!A16 -> 2.1 | C24: =Matrise!B16 -> Gas detector in air inlet | F24: =Matrise!C16 -> 4.4.3
B25: =Matrise!A17 -> 2.2 | C25: =Matrise!B17 -> Fire/smoke detector | F25: =Matrise!C17 -> 4.4.2
B26: =Matrise!A19 -> 2.4 | C26: =Matrise!B19 -> Extinguisher | F26: =Matrise!C19 -> 4.4.2
C27: =Matrise!B23 -> 3. ELECTRICAL
B28: =Matrise!A24 -> 3.1 | C28: =Matrise!B24 -> Cables, glands, equipment etc. | F28: =Matrise!C24 -> 4.4.6.1
B29: =Matrise!A25 -> 3.2 | C29: =Matrise!B25 -> Insulation resistance - megger | F29: =Matrise!C25 -> 37107
B30: =Matrise!A26 -> 3.3 | C30: =Matrise!B26 -> Earthing (NB bonding of structure) | F30: =Matrise!C26 -> 4.4.6.3
B31: =Matrise!A27 -> 3.4 | C31: =Matrise!B27 -> All external installation Ex-proof | F31: =Matrise!C27 -> 4.5.1
C32: =Matrise!B30 -> 4. HOOK-UP TO INSTALLATION
B33: =Matrise!A31 -> 4.1 | C33: =Matrise!B31 -> Power supply (voltage, freq., plugs) | F33: =Matrise!C31 -> 4.7
B34: =Matrise!A34 -> 4.4 | C34: =Matrise!B34 -> Alarm signal to control room with plug | F34: =Matrise!C34 -> 4.7
C35: =Matrise!B36 -> 5. EQUIPMENT
B36: =Matrise!A37 -> 5.1 | C36: =Matrise!B37 -> Manual emergency stop | F36: =Matrise!C37 -> 4.4.8
B37: =Matrise!A38 -> 5.2 | C37: =Matrise!B38 -> Manual shutdown of diesel supply | F37: =Matrise!C38 -> 4.3.1
B38: =Matrise!A39 -> 5.3 | C38: =Matrise!B39 -> Drip trays | F38: =Matrise!C39 -> 4.3.1
B39: =Matrise!A40 -> 5.4 | C39: =Matrise!B40 -> "Rig saver" in combustion air inlet | F39: =Matrise!C40 -> 4.3.1
B40: =Matrise!A41 -> 5.5 | C40: =Matrise!B41 -> Shutdown if loss of oil pressure | F40: =Matrise!C41 -> 4.3.1
B41: =Matrise!A42 -> 5.6 | C41: =Matrise!B42 -> Shutdown if high cooling water temperature | F41: =Matrise!C42 -> 4.3.1
B42: =Matrise!A43 -> 5.7 | C42: =Matrise!B43 -> Shutdown if overspeed | F42: =Matrise!C43 -> 4.3.1
B43: =Matrise!A44 -> 5.8 | C43: =Matrise!B44 -> Diesel engine approved for zone 2 | F43: =Matrise!C44 -> 4.3.1
B44: =Matrise!A45 -> 5.9 | C44: =Matrise!B45 -> Gas detector in combustion air inlet | F44: =Matrise!C45 -> 4.3.1
B45: =Matrise!A46 -> 5.1 | C45: =Matrise!B46 -> Flame arrester in exhaust pipe | F45: =Matrise!C46 -> 4.3.1
B46: =Matrise!A47 -> 5.11 | C46: =Matrise!B47 -> Spark arrester in exhaust pipe | F46: =Matrise!C47 -> 4.3.1
B47: =Matrise!A48 -> 5.12 | C47: =Matrise!B48 -> Safety valve | F47: =Matrise!C48 -> 4.3.3
C48: =Matrise!B52 -> 6. DOCUMENTATION
B49: =Matrise!A53 -> 6.1 | C49: =Matrise!B53 -> Lifting certificate | F49: =Matrise!C53 -> 4.8
B50: =Matrise!A54 -> 6.2 | C50: =Matrise!B54 -> Other technical doc. (drawings, data.) | F50: =Matrise!C54 -> 4.8
B51: =Matrise!A55 -> 6.3 | C51: =Matrise!B55 -> Certificate for equip.with special requ. | F51: =Matrise!C55 -> 4.8
B52: =Matrise!A56 -> 6.4 | C52: =Matrise!B56 -> Maintenance programme | F52: =Matrise!C56 -> 4.8
B53: =Matrise!A57 -> 6.5 | C53: =Matrise!B57 -> Maintenance journal | F53: =Matrise!C57 -> 4.8
B54: =Matrise!A58 -> 6.6 | C54: =Matrise!B58 -> User manual | F54: =Matrise!C58 -> 4.8
A56: Supplier | D56: Supplier | H56: Company
A57: Competent person for lifting gir/mechanical devices | D57: Electrician | H57: Receiving control
A58: Date: | D58: Date: | H58: Date:
C60: Signature | E60: Signature | I60: Signature
C62: Name in capitals | E62: Name in capitals | I62: Name in capitals
B64: =Matrise!A88 -> 0

Sheet U05
A1: =Matrise!B3 -> NORSOK Z-015 CHECKLIST
B2: Equipment type : | D2: =Matrise!W2 -> U05 | E2: =Matrise!W3 -> Steam generator | H2: =Matrise!H63 -> ID no.:
B4: =Matrise!B65 -> Approved for location in zone:
B5: =Matrise!B66 -> Zone 1 □ , Zone 2 □, Non-hazardous area □
B6: =Matrise!B67 -> Supplier: | E6: =Matrise!E67 -> Contact person contractor/telephone:
B8: =Matrise!B69 -> Company/installation container intended for: | E8: =Matrise!E69 -> Contact person/requisitioner in the company:
B11: =Matrise!B72 -> Person in the company responsible for prior approval, see 4.8.3:
B13: =Matrise!B74 -> Name: | F13: =Matrise!F74 -> Telephone: | I13: =Matrise!I74 -> Date approval received:
A16: =Matrise!A3 -> Control point | C16: =Matrise!B77 -> Status: | F16: =Matrise!E77 -> Ref. | G16: =Matrise!F77 -> Status | H16: =Matrise!G77 -> Receiving control (company) | I16: =Matrise!H77 -> Remarks
C17: =Matrise!B78 -> OK=Approved, NA=Not Applicable, NC=Not Checked, D=Defective or missing | F17: =Matrise!E78 -> Z-015 | G17: =Matrise!F78 -> supplier
C18: =Matrise!B5 -> 1. MECHANICAL
B19: =Matrise!A6 -> 1.1. | C19: =Matrise!B6 -> Signs tagging/labelling | F19: =Matrise!C6 -> 4.6
B20: =Matrise!A7 -> 1.2 | C20: =Matrise!B7 -> Annual inspection (lifting equipment, cert.) | F20: =Matrise!C7 -> 4.4.1
B21: =Matrise!A8 -> 1.3 | C21: =Matrise!B8 -> Mech. Cond. (lifting eyes/points, structure) | F21: =Matrise!C8 -> 4.4.1
B22: =Matrise!A9 -> 1.4 | C22: =Matrise!B9 -> Fire classification | F22: =Matrise!C9 -> 4.4.1
B23: =Matrise!A11 -> 1.6 | C23: =Matrise!B11 -> Self closing doors | F23: =Matrise!C11 -> 4.4.1
B24: =Matrise!A14 -> 1.9 | C24: =Matrise!B14 -> Noise measurement carried out (supplier) | F24: =Matrise!C14 -> 4.4.8
C25: =Matrise!B15 -> 2. FIRE, GAS AND SAFETY
B26: =Matrise!A16 -> 2.1 | C26: =Matrise!B16 -> Gas detector in air inlet | F26: =Matrise!C16 -> 4.4.3
B27: =Matrise!A17 -> 2.2 | C27: =Matrise!B17 -> Fire/smoke detector | F27: =Matrise!C17 -> 4.4.2
B28: =Matrise!A19 -> 2.4 | C28: =Matrise!B19 -> Extinguisher | F28: =Matrise!C19 -> 4.4.2
B29: =Matrise!A20 -> 2.5 | C29: =Matrise!B20 -> Fire dampers | F29: =Matrise!C20 -> 4.4.1
B30: =Matrise!A22 -> 2.7 | C30: =Matrise!B22 -> Romslukkingsanlegg | F30: =Matrise!C22 -> 4.4.2
C31: =Matrise!B23 -> 3. ELECTRICAL
B32: =Matrise!A24 -> 3.1 | C32: =Matrise!B24 -> Cables, glands, equipment etc. | F32: =Matrise!C24 -> 4.4.6.1
B33: =Matrise!A25 -> 3.2 | C33: =Matrise!B25 -> Insulation resistance - megger | F33: =Matrise!C25 -> 37107
B34: =Matrise!A26 -> 3.3 | C34: =Matrise!B26 -> Earthing (NB bonding of structure) | F34: =Matrise!C26 -> 4.4.6.3
B35: =Matrise!A27 -> 3.4 | C35: =Matrise!B27 -> All external installation Ex-proof | F35: =Matrise!C27 -> 4.5.1
B36: =Matrise!A28 -> 3.5 | C36: =Matrise!B28 -> All internal installation Ex-proof | F36: =Matrise!C28 -> 4.5.1
B37: =Matrise!A29 -> 3.6 | C37: =Matrise!B29 -> Emergency lighting | F37: =Matrise!C29 -> 4.4.6.2
C38: =Matrise!B30 -> 4. HOOK-UP TO INSTALLATION
B39: =Matrise!A31 -> 4.1 | C39: =Matrise!B31 -> Power supply (voltage, freq., plugs) | F39: =Matrise!C31 -> 4.7
B40: =Matrise!A34 -> 4.4 | C40: =Matrise!B34 -> Alarm signal to control room with plug | F40: =Matrise!C34 -> 4.7
C41: =Matrise!B36 -> 5. EQUIPMENT
B42: =Matrise!A37 -> 5.1 | C42: =Matrise!B37 -> Manual emergency stop | F42: =Matrise!C37 -> 4.4.8
B43: =Matrise!A38 -> 5.2 | C43: =Matrise!B38 -> Manual shutdown of diesel supply | F43: =Matrise!C38 -> 4.3.1
B44: =Matrise!A39 -> 5.3 | C44: =Matrise!B39 -> Drip trays | F44: =Matrise!C39 -> 4.3.1
B45: =Matrise!A40 -> 5.4 | C45: =Matrise!B40 -> "Rig saver" in combustion air inlet | F45: =Matrise!C40 -> 4.3.1
B46: =Matrise!A42 -> 5.6 | C46: =Matrise!B42 -> Shutdown if high cooling water temperature | F46: =Matrise!C42 -> 4.3.1
B47: =Matrise!A45 -> 5.9 | C47: =Matrise!B45 -> Gas detector in combustion air inlet | F47: =Matrise!C45 -> 4.3.1
B48: =Matrise!A46 -> 5.1 | C48: =Matrise!B46 -> Flame arrester in exhaust pipe | F48: =Matrise!C46 -> 4.3.1
B49: =Matrise!A47 -> 5.11 | C49: =Matrise!B47 -> Spark arrester in exhaust pipe | F49: =Matrise!C47 -> 4.3.1
B50: =Matrise!A48 -> 5.12 | C50: =Matrise!B48 -> Safety valve | F50: =Matrise!C48 -> 4.3.3
B51: =Matrise!A49 -> 5.13 | C51: =Matrise!B49 -> Flame guard | F51: =Matrise!C49 -> 4.3.5
B52: =Matrise!A50 -> 5.14 | C52: =Matrise!B50 -> Low water level alarm | F52: =Matrise!C50 -> 4.3.5
B53: =Matrise!A51 -> 5.15 | C53: =Matrise!B51 -> Check of limit switches | F53: =Matrise!C51 -> 4.3.6
C54: =Matrise!B52 -> 6. DOCUMENTATION
B55: =Matrise!A53 -> 6.1 | C55: =Matrise!B53 -> Lifting certificate | F55: =Matrise!C53 -> 4.8
B56: =Matrise!A54 -> 6.2 | C56: =Matrise!B54 -> Other technical doc. (drawings, data.) | F56: =Matrise!C54 -> 4.8
B57: =Matrise!A55 -> 6.3 | C57: =Matrise!B55 -> Certificate for equip.with special requ. | F57: =Matrise!C55 -> 4.8
B58: =Matrise!A56 -> 6.4 | C58: =Matrise!B56 -> Maintenance programme | F58: =Matrise!C56 -> 4.8
B59: =Matrise!A57 -> 6.5 | C59: =Matrise!B57 -> Maintenance journal | F59: =Matrise!C57 -> 4.8
B60: =Matrise!A58 -> 6.6 | C60: =Matrise!B58 -> User manual | F60: =Matrise!C58 -> 4.8
A62: Supplier | D62: Supplier | H62: Company
A63: Competent person for lifting gir/mechanical devices | D63: Electrician | H63: Receiving control
A64: Date: | D64: Date: | H64: Date:
C66: Signature | E66: Signature | I66: Signature
C68: Name in capitals | E68: Name in capitals | I68: Name in capitals
B70: =Matrise!A88 -> 0

Sheet U06
A1: =Matrise!B3 -> NORSOK Z-015 CHECKLIST
B2: Equipment type : | D2: =Matrise!X2 -> U06 | E2: =Matrise!X3 -> Mobile crane | H2: =Matrise!H63 -> ID no.:
B4: =Matrise!B65 -> Approved for location in zone:
B5: =Matrise!B66 -> Zone 1 □ , Zone 2 □, Non-hazardous area □
B6: =Matrise!B67 -> Supplier: | E6: =Matrise!E67 -> Contact person contractor/telephone:
B8: =Matrise!B69 -> Company/installation container intended for: | E8: =Matrise!E69 -> Contact person/requisitioner in the company:
B11: =Matrise!B72 -> Person in the company responsible for prior approval, see 4.8.3:
B13: =Matrise!B74 -> Name: | F13: =Matrise!F74 -> Telephone: | I13: =Matrise!I74 -> Date approval received:
A16: =Matrise!A3 -> Control point | C16: =Matrise!B77 -> Status: | F16: =Matrise!E77 -> Ref. | G16: =Matrise!F77 -> Status | H16: =Matrise!G77 -> Receiving control (company) | I16: =Matrise!H77 -> Remarks
C17: =Matrise!B78 -> OK=Approved, NA=Not Applicable, NC=Not Checked, D=Defective or missing | F17: =Matrise!E78 -> Z-015 | G17: =Matrise!F78 -> supplier
C18: =Matrise!B5 -> 1. MECHANICAL
B19: =Matrise!A6 -> 1.1. | C19: =Matrise!B6 -> Signs tagging/labelling | F19: =Matrise!C6 -> 4.6
B20: =Matrise!A7 -> 1.2 | C20: =Matrise!B7 -> Annual inspection (lifting equipment, cert.) | F20: =Matrise!C7 -> 4.4.1
B21: =Matrise!A8 -> 1.3 | C21: =Matrise!B8 -> Mech. Cond. (lifting eyes/points, structure) | F21: =Matrise!C8 -> 4.4.1
B22: =Matrise!A9 -> 1.4 | C22: =Matrise!B9 -> Fire classification | F22: =Matrise!C9 -> 4.4.1
B23: =Matrise!A10 -> 1.5 | C23: =Matrise!B10 -> Air lock | F23: =Matrise!C10 -> 4.4.1
B24: =Matrise!A11 -> 1.6 | C24: =Matrise!B11 -> Self closing doors | F24: =Matrise!C11 -> 4.4.1
B25: =Matrise!A12 -> 1.7 | C25: =Matrise!B12 -> Emergency exits | F25: =Matrise!C12 -> 4.4.1
B26: =Matrise!A13 -> 1.8 | C26: =Matrise!B13 -> Mechanical ventilation | F26: =Matrise!C13 -> 4.4.7
B27: =Matrise!A14 -> 1.9 | C27: =Matrise!B14 -> Noise measurement carried out (supplier) | F27: =Matrise!C14 -> 4.4.8
C28: =Matrise!B15 -> 2. FIRE, GAS AND SAFETY
B29: =Matrise!A16 -> 2.1 | C29: =Matrise!B16 -> Gas detector in air inlet | F29: =Matrise!C16 -> 4.4.3
B30: =Matrise!A17 -> 2.2 | C30: =Matrise!B17 -> Fire/smoke detector | F30: =Matrise!C17 -> 4.4.2
B31: =Matrise!A18 -> 2.3 | C31: =Matrise!B18 -> Portable fire extinguisher | F31: =Matrise!C18 -> 4.4.1
B32: =Matrise!A19 -> 2.4 | C32: =Matrise!B19 -> Extinguisher | F32: =Matrise!C19 -> 4.4.2
B33: =Matrise!A20 -> 2.5 | C33: =Matrise!B20 -> Fire dampers | F33: =Matrise!C20 -> 4.4.1
B34: =Matrise!A21 -> 2.6 | C34: =Matrise!B21 -> Alarm og nedst. v/tap av overtrykk/vent. | F34: =Matrise!C21 -> 4.4.7
B35: =Matrise!A22 -> 2.7 | C35: =Matrise!B22 -> Romslukkingsanlegg | F35: =Matrise!C22 -> 4.4.2
C36: =Matrise!B23 -> 3. ELECTRICAL
B37: =Matrise!A24 -> 3.1 | C37: =Matrise!B24 -> Cables, glands, equipment etc. | F37: =Matrise!C24 -> 4.4.6.1
B38: =Matrise!A25 -> 3.2 | C38: =Matrise!B25 -> Insulation resistance - megger | F38: =Matrise!C25 -> 37107
B39: =Matrise!A26 -> 3.3 | C39: =Matrise!B26 -> Earthing (NB bonding of structure) | F39: =Matrise!C26 -> 4.4.6.3
B40: =Matrise!A27 -> 3.4 | C40: =Matrise!B27 -> All external installation Ex-proof | F40: =Matrise!C27 -> 4.5.1
B41: =Matrise!A28 -> 3.5 | C41: =Matrise!B28 -> All internal installation Ex-proof | F41: =Matrise!C28 -> 4.5.1
B42: =Matrise!A29 -> 3.6 | C42: =Matrise!B29 -> Emergency lighting | F42: =Matrise!C29 -> 4.4.6.2
C43: =Matrise!B30 -> 4. HOOK-UP TO INSTALLATION
B44: =Matrise!A31 -> 4.1 | C44: =Matrise!B31 -> Power supply (voltage, freq., plugs) | F44: =Matrise!C31 -> 4.7
B45: =Matrise!A32 -> 4.2 | C45: =Matrise!B32 -> Telephone with plug | F45: =Matrise!C32 -> 4.7
B46: =Matrise!A33 -> 4.3 | C46: =Matrise!B33 -> PA with plug | F46: =Matrise!C33 -> 4.7
B47: =Matrise!A34 -> 4.4 | C47: =Matrise!B34 -> Alarm signal to control room with plug | F47: =Matrise!C34 -> 4.7
B48: =Matrise!A35 -> 4.5 | C48: =Matrise!B35 -> Shutdown (ESD) from CCR (for battery system etc.) | F48: =Matrise!C35 -> 4.4.3
C49: =Matrise!B36 -> 5. EQUIPMENT
B50: =Matrise!A37 -> 5.1 | C50: =Matrise!B37 -> Manual emergency stop | F50: =Matrise!C37 -> 4.4.8
B51: =Matrise!A38 -> 5.2 | C51: =Matrise!B38 -> Manual shutdown of diesel supply | F51: =Matrise!C38 -> 4.3.1
B52: =Matrise!A39 -> 5.3 | C52: =Matrise!B39 -> Drip trays | F52: =Matrise!C39 -> 4.3.1
B53: =Matrise!A40 -> 5.4 | C53: =Matrise!B40 -> "Rig saver" in combustion air inlet | F53: =Matrise!C40 -> 4.3.1
B54: =Matrise!A41 -> 5.5 | C54: =Matrise!B41 -> Shutdown if loss of oil pressure | F54: =Matrise!C41 -> 4.3.1
B55: =Matrise!A42 -> 5.6 | C55: =Matrise!B42 -> Shutdown if high cooling water temperature | F55: =Matrise!C42 -> 4.3.1
B56: =Matrise!A43 -> 5.7 | C56: =Matrise!B43 -> Shutdown if overspeed | F56: =Matrise!C43 -> 4.3.1
B57: =Matrise!A44 -> 5.8 | C57: =Matrise!B44 -> Diesel engine approved for zone 2 | F57: =Matrise!C44 -> 4.3.1
B58: =Matrise!A45 -> 5.9 | C58: =Matrise!B45 -> Gas detector in combustion air inlet | F58: =Matrise!C45 -> 4.3.1
B59: =Matrise!A46 -> 5.1 | C59: =Matrise!B46 -> Flame arrester in exhaust pipe | F59: =Matrise!C46 -> 4.3.1
B60: =Matrise!A47 -> 5.11 | C60: =Matrise!B47 -> Spark arrester in exhaust pipe | F60: =Matrise!C47 -> 4.3.1
B61: =Matrise!A48 -> 5.12 | C61: =Matrise!B48 -> Safety valve | F61: =Matrise!C48 -> 4.3.3
... B64: =Matrise!A51 -> 5.15 | C64: =Matrise!B51 -> Check of limit switches | F64: =Matrise!C51 -> 4.3.6
C65: =Matrise!B52 -> 6. DOCUMENTATION
B66: =Matrise!A53 -> 6.1 | C66: =Matrise!B53 -> Lifting certificate | F66: =Matrise!C53 -> 4.8
B67: =Matrise!A54 -> 6.2 | C67: =Matrise!B54 -> Other technical doc. (drawings, data.) | F67: =Matrise!C54 -> 4.8
B68: =Matrise!A55 -> 6.3 | C68: =Matrise!B55 -> Certificate for equip.with special requ. | F68: =Matrise!C55 -> 4.8
B69: =Matrise!A56 -> 6.4 | C69: =Matrise!B56 -> Maintenance programme | F69: =Matrise!C56 -> 4.8
B70: =Matrise!A57 -> 6.5 | C70: =Matrise!B57 -> Maintenance journal | F70: =Matrise!C57 -> 4.8
B71: =Matrise!A58 -> 6.6 | C71: =Matrise!B58 -> User manual | F71: =Matrise!C58 -> 4.8
A74: Supplier | D74: Supplier | H74: Company
A75: Competent person for lifting gir/mechanical devices | D75: Electrician | H75: Receiving control
A76: Date: | D76: Date: | H76: Date:
C78: Signature | E78: Signature | I78: Signature
C80: Name in capitals | E80: Name in capitals | I80: Name in capitals
B82: Generelle kommentarer:

Sheet U07
A1: =Matrise!B3 -> NORSOK Z-015 CHECKLIST
B2: Equipment type : | D2: =Matrise!Y2 -> U07 | E2: =Matrise!Y3 -> Well equip., wireline, logging, coiltubing | H2: =Matrise!H63 -> ID no.:
B4: =Matrise!B65 -> Approved for location in zone:
B5: =Matrise!B66 -> Zone 1 □ , Zone 2 □, Non-hazardous area □
B6: =Matrise!B67 -> Supplier: | E6: =Matrise!E67 -> Contact person contractor/telephone:
B8: =Matrise!B69 -> Company/installation container intended for: | E8: =Matrise!E69 -> Contact person/requisitioner in the company:
B11: =Matrise!B72 -> Person in the company responsible for prior approval, see 4.8.3:
B13: =Matrise!B74 -> Name: | F13: =Matrise!F74 -> Telephone: | I13: =Matrise!I74 -> Date approval received:
A16: =Matrise!A3 -> Control point | C16: =Matrise!B77 -> Status: | F16: =Matrise!E77 -> Ref. | G16: =Matrise!F77 -> Status | H16: =Matrise!G77 -> Receiving control (company) | I16: =Matrise!H77 -> Remarks
C17: =Matrise!B78 -> OK=Approved, NA=Not Applicable, NC=Not Checked, D=Defective or missing | F17: =Matrise!E78 -> Z-015 | G17: =Matrise!F78 -> supplier
C18: =Matrise!B5 -> 1. MECHANICAL
B19: =Matrise!A6 -> 1.1. | C19: =Matrise!B6 -> Signs tagging/labelling | F19: =Matrise!C6 -> 4.6
B20: =Matrise!A7 -> 1.2 | C20: =Matrise!B7 -> Annual inspection (lifting equipment, cert.) | F20: =Matrise!C7 -> 4.4.1
B21: =Matrise!A8 -> 1.3 | C21: =Matrise!B8 -> Mech. Cond. (lifting eyes/points, structure) | F21: =Matrise!C8 -> 4.4.1
B22: =Matrise!A14 -> 1.9 | C22: =Matrise!B14 -> Noise measurement carried out (supplier) | F22: =Matrise!C14 -> 4.4.8
C23: =Matrise!B15 -> 2. FIRE, GAS AND SAFETY
B24: =Matrise!A16 -> 2.1 | C24: =Matrise!B16 -> Gas detector in air inlet | F24: =Matrise!C16 -> 4.4.3
B25: =Matrise!A17 -> 2.2 | C25: =Matrise!B17 -> Fire/smoke detector | F25: =Matrise!C17 -> 4.4.2
B26: =Matrise!A19 -> 2.4 | C26: =Matrise!B19 -> Extinguisher | F26: =Matrise!C19 -> 4.4.2
B27: =Matrise!A22 -> 2.7 | C27: =Matrise!B22 -> Romslukkingsanlegg | F27: =Matrise!C22 -> 4.4.2
C28: =Matrise!B23 -> 3. ELECTRICAL
B29: =Matrise!A24 -> 3.1 | C29: =Matrise!B24 -> Cables, glands, equipment etc. | F29: =Matrise!C24 -> 4.4.6.1
B30: =Matrise!A25 -> 3.2 | C30: =Matrise!B25 -> Insulation resistance - megger | F30: =Matrise!C25 -> 37107
B31: =Matrise!A26 -> 3.3 | C31: =Matrise!B26 -> Earthing (NB bonding of structure) | F31: =Matrise!C26 -> 4.4.6.3
B32: =Matrise!A27 -> 3.4 | C32: =Matrise!B27 -> All external installation Ex-proof | F32: =Matrise!C27 -> 4.5.1
B33: =Matrise!A28 -> 3.5 | C33: =Matrise!B28 -> All internal installation Ex-proof | F33: =Matrise!C28 -> 4.5.1
B34: =Matrise!A29 -> 3.6 | C34: =Matrise!B29 -> Emergency lighting | F34: =Matrise!C29 -> 4.4.6.2
C35: =Matrise!B30 -> 4. HOOK-UP TO INSTALLATION
B36: =Matrise!A31 -> 4.1 | C36: =Matrise!B31 -> Power supply (voltage, freq., plugs) | F36: =Matrise!C31 -> 4.7
B37: =Matrise!A33 -> 4.3 | C37: =Matrise!B33 -> PA with plug | F37: =Matrise!C33 -> 4.7
B38: =Matrise!A34 -> 4.4 | C38: =Matrise!B34 -> Alarm signal to control room with plug | F38: =Matrise!C34 -> 4.7
B39: =Matrise!A35 -> 4.5 | C39: =Matrise!B35 -> Shutdown (ESD) from CCR (for battery system etc.) | F39: =Matrise!C35 -> 4.4.3
C40: =Matrise!B36 -> 5. EQUIPMENT
B41: =Matrise!A37 -> 5.1 | C41: =Matrise!B37 -> Manual emergency stop | F41: =Matrise!C37 -> 4.4.8
B42: =Matrise!A38 -> 5.2 | C42: =Matrise!B38 -> Manual shutdown of diesel supply | F42: =Matrise!C38 -> 4.3.1
B43: =Matrise!A39 -> 5.3 | C43: =Matrise!B39 -> Drip trays | F43: =Matrise!C39 -> 4.3.1
B44: =Matrise!A40 -> 5.4 | C44: =Matrise!B40 -> "Rig saver" in combustion air inlet | F44: =Matrise!C40 -> 4.3.1
B45: =Matrise!A41 -> 5.5 | C45: =Matrise!B41 -> Shutdown if loss of oil pressure | F45: =Matrise!C41 -> 4.3.1
B46: =Matrise!A42 -> 5.6 | C46: =Matrise!B42 -> Shutdown if high cooling water temperature | F46: =Matrise!C42 -> 4.3.1
B47: =Matrise!A43 -> 5.7 | C47: =Matrise!B43 -> Shutdown if overspeed | F47: =Matrise!C43 -> 4.3.1
B48: =Matrise!A44 -> 5.8 | C48: =Matrise!B44 -> Diesel engine approved for zone 2 | F48: =Matrise!C44 -> 4.3.1
B49: =Matrise!A45 -> 5.9 | C49: =Matrise!B45 -> Gas detector in combustion air inlet | F49: =Matrise!C45 -> 4.3.1
B50: =Matrise!A46 -> 5.1 | C50: =Matrise!B46 -> Flame arrester in exhaust pipe | F50: =Matrise!C46 -> 4.3.1
B51: =Matrise!A47 -> 5.11 | C51: =Matrise!B47 -> Spark arrester in exhaust pipe | F51: =Matrise!C47 -> 4.3.1
B52: =Matrise!A51 -> 5.15 | C52: =Matrise!B51 -> Check of limit switches | F52: =Matrise!C51 -> 4.3.6
C53: =Matrise!B52 -> 6. DOCUMENTATION
B54: =Matrise!A53 -> 6.1 | C54: =Matrise!B53 -> Lifting certificate | F54: =Matrise!C53 -> 4.8
B55: =Matrise!A54 -> 6.2 | C55: =Matrise!B54 -> Other technical doc. (drawings, data.) | F55: =Matrise!C54 -> 4.8
B56: =Matrise!A55 -> 6.3 | C56: =Matrise!B55 -> Certificate for equip.with special requ. | F56: =Matrise!C55 -> 4.8
B57: =Matrise!A56 -> 6.4 | C57: =Matrise!B56 -> Maintenance programme | F57: =Matrise!C56 -> 4.8
B58: =Matrise!A57 -> 6.5 | C58: =Matrise!B57 -> Maintenance journal | F58: =Matrise!C57 -> 4.8
B59: =Matrise!A58 -> 6.6 | C59: =Matrise!B58 -> User manual | F59: =Matrise!C58 -> 4.8
A61: Supplier | D61: Supplier | H61: Company
A62: Competent person for lifting gir/mechanical devices | D62: Electrician | H62: Receiving control
A63: Date: | D63: Date: | H63: Date:
C65: Signature | E65: Signature | I65: Signature
C67: Name in capitals | E67: Name in capitals | I67: Name in capitals
B69: =Matrise!A88 -> 0

Sheet U08
A1: =Matrise!B3 -> NORSOK Z-015 CHECKLIST
B2: Equipment type : | D2: =Matrise!Z2 -> U08 | E2: =Matrise!Z3 -> Habitat for hot work class A | H2: =Matrise!H63 -> ID no.:
B4: =Matrise!B65 -> Approved for location in zone:
B5: =Matrise!B66 -> Zone 1 □ , Zone 2 □, Non-hazardous area □
B6: =Matrise!B67 -> Supplier: | E6: =Matrise!E67 -> Contact person contractor/telephone:
B8: =Matrise!B69 -> Company/installation container intended for: | E8: =Matrise!E69 -> Contact person/requisitioner in the company:
B11: =Matrise!B72 -> Person in the company responsible for prior approval, see 4.8.3:
B13: =Matrise!B74 -> Name: | F13: =Matrise!F74 -> Telephone: | I13: =Matrise!I74 -> Date approval received:
A16: =Matrise!A3 -> Control point | C16: =Matrise!B77 -> Status: | F16: =Matrise!E77 -> Ref. | G16: =Matrise!F77 -> Status | H16: =Matrise!G77 -> Receiving control (company) | I16: =Matrise!H77 -> Remarks
C17: =Matrise!B78 -> OK=Approved, NA=Not Applicable, NC=Not Checked, D=Defective or missing | F17: =Matrise!E78 -> Z-015 | G17: =Matrise!F78 -> supplier
C18: =Matrise!B5 -> 1. MECHANICAL
B19: =Matrise!A6 -> 1.1. | C19: =Matrise!B6 -> Signs tagging/labelling | F19: =Matrise!C6 -> 4.6
B20: =Matrise!A7 -> 1.2 | C20: =Matrise!B7 -> Annual inspection (lifting equipment, cert.) | F20: =Matrise!C7 -> 4.4.1
B21: =Matrise!A8 -> 1.3 | C21: =Matrise!B8 -> Mech. Cond. (lifting eyes/points, structure) | F21: =Matrise!C8 -> 4.4.1
B22: =Matrise!A11 -> 1.6 | C22: =Matrise!B11 -> Self closing doors | F22: =Matrise!C11 -> 4.4.1
B23: =Matrise!A12 -> 1.7 | C23: =Matrise!B12 -> Emergency exits | F23: =Matrise!C12 -> 4.4.1
B24: =Matrise!A13 -> 1.8 | C24: =Matrise!B13 -> Mechanical ventilation | F24: =Matrise!C13 -> 4.4.7
C25: =Matrise!B15 -> 2. FIRE, GAS AND SAFETY
B26: =Matrise!A16 -> 2.1 | C26: =Matrise!B16 -> Gas detector in air inlet | F26: =Matrise!C16 -> 4.4.3
B27: =Matrise!A17 -> 2.2 | C27: =Matrise!B17 -> Fire/smoke detector | F27: =Matrise!C17 -> 4.4.2
B28: =Matrise!A19 -> 2.4 | C28: =Matrise!B19 -> Extinguisher | F28: =Matrise!C19 -> 4.4.2
B29: =Matrise!A21 -> 2.6 | C29: =Matrise!B21 -> Alarm og nedst. v/tap av overtrykk/vent. | F29: =Matrise!C21 -> 4.4.7
C30: =Matrise!B23 -> 3. ELECTRICAL
B31: =Matrise!A24 -> 3.1 | C31: =Matrise!B24 -> Cables, glands, equipment etc. | F31: =Matrise!C24 -> 4.4.6.1
B32: =Matrise!A25 -> 3.2 | C32: =Matrise!B25 -> Insulation resistance - megger | F32: =Matrise!C25 -> 37107
B33: =Matrise!A26 -> 3.3 | C33: =Matrise!B26 -> Earthing (NB bonding of structure) | F33: =Matrise!C26 -> 4.4.6.3
B34: =Matrise!A27 -> 3.4 | C34: =Matrise!B27 -> All external installation Ex-proof | F34: =Matrise!C27 -> 4.5.1
C35: =Matrise!B30 -> 4. HOOK-UP TO INSTALLATION
B36: =Matrise!A31 -> 4.1 | C36: =Matrise!B31 -> Power supply (voltage, freq., plugs) | F36: =Matrise!C31 -> 4.7
B37: =Matrise!A34 -> 4.4 | C37: =Matrise!B34 -> Alarm signal to control room with plug | F37: =Matrise!C34 -> 4.7
C38: =Matrise!B36 -> 5. EQUIPMENT
B39: =Matrise!A37 -> 5.1 | C39: =Matrise!B37 -> Manual emergency stop | F39: =Matrise!C37 -> 4.4.8
C40: =Matrise!B52 -> 6. DOCUMENTATION
B41: =Matrise!A53 -> 6.1 | C41: =Matrise!B53 -> Lifting certificate | F41: =Matrise!C53 -> 4.8
B42: =Matrise!A54 -> 6.2 | C42: =Matrise!B54 -> Other technical doc. (drawings, data.) | F42: =Matrise!C54 -> 4.8
B43: =Matrise!A55 -> 6.3 | C43: =Matrise!B55 -> Certificate for equip.with special requ. | F43: =Matrise!C55 -> 4.8
B44: =Matrise!A56 -> 6.4 | C44: =Matrise!B56 -> Maintenance programme | F44: =Matrise!C56 -> 4.8
B45: =Matrise!A57 -> 6.5 | C45: =Matrise!B57 -> Maintenance journal | F45: =Matrise!C57 -> 4.8
B46: =Matrise!A58 -> 6.6 | C46: =Matrise!B58 -> User manual | F46: =Matrise!C58 -> 4.8
A48: Supplier | D48: Supplier | H48: Company
A49: Competent person for lifting gir/mechanical devices | D49: Electrician | H49: Receiving control
A50: Date: | D50: Date: | H50: Date:
C52: Signature | E52: Signature | I52: Signature
C54: Name in capitals | E54: Name in capitals | I54: Name in capitals
B56: =Matrise!A88 -> 0

Sheet U09
A1: =Matrise!B3 -> NORSOK Z-015 CHECKLIST
B2: Equipment type : | D2: =Matrise!AA2 -> U09 | E2: =Matrise!AA3 -> Equipment for waste handling | H2: =Matrise!H63 -> ID no.:
B4: =Matrise!B65 -> Approved for location in zone:
B5: =Matrise!B66 -> Zone 1 □ , Zone 2 □, Non-hazardous area □
B6: =Matrise!B67 -> Supplier: | E6: =Matrise!E67 -> Contact person contractor/telephone:
B8: =Matrise!B69 -> Company/installation container intended for: | E8: =Matrise!E69 -> Contact person/requisitioner in the company:
B11: =Matrise!B72 -> Person in the company responsible for prior approval, see 4.8.3:
B13: =Matrise!B74 -> Name: | F13: =Matrise!F74 -> Telephone: | I13: =Matrise!I74 -> Date approval received:
A16: =Matrise!A3 -> Control point | C16: =Matrise!B77 -> Status: | F16: =Matrise!E77 -> Ref. | G16: =Matrise!F77 -> Status | H16: =Matrise!G77 -> Receiving control (company) | I16: =Matrise!H77 -> Remarks
C17: =Matrise!B78 -> OK=Approved, NA=Not Applicable, NC=Not Checked, D=Defective or missing | F17: =Matrise!E78 -> Z-015 | G17: =Matrise!F78 -> supplier
C18: =Matrise!B4 -> Skal ikke plasseres i eksplosjonsfarlig område | F18: =Matrise!C4 -> 0
C19: =Matrise!B5 -> 1. MECHANICAL
B20: =Matrise!A6 -> 1.1. | C20: =Matrise!B6 -> Signs tagging/labelling | F20: =Matrise!C6 -> 4.6
B21: =Matrise!A7 -> 1.2 | C21: =Matrise!B7 -> Annual inspection (lifting equipment, cert.) | F21: =Matrise!C7 -> 4.4.1
B22: =Matrise!A8 -> 1.3 | C22: =Matrise!B8 -> Mech. Cond. (lifting eyes/points, structure) | F22: =Matrise!C8 -> 4.4.1
B23: =Matrise!A14 -> 1.9 | C23: =Matrise!B14 -> Noise measurement carried out (supplier) | F23: =Matrise!C14 -> 4.4.8
C24: =Matrise!B23 -> 3. ELECTRICAL
B25: =Matrise!A24 -> 3.1 | C25: =Matrise!B24 -> Cables, glands, equipment etc. | F25: =Matrise!C24 -> 4.4.6.1
B26: =Matrise!A25 -> 3.2 | C26: =Matrise!B25 -> Insulation resistance - megger | F26: =Matrise!C25 -> 37107
B27: =Matrise!A26 -> 3.3 | C27: =Matrise!B26 -> Earthing (NB bonding of structure) | F27: =Matrise!C26 -> 4.4.6.3
B28: =Matrise!A27 -> 3.4 | C28: =Matrise!B27 -> All external installation Ex-proof | F28: =Matrise!C27 -> 4.5.1
C29: =Matrise!B30 -> 4. HOOK-UP TO INSTALLATION | F29: =Matrise!C30 -> 0
B30: =Matrise!A31 -> 4.1 | C30: =Matrise!B31 -> Power supply (voltage, freq., plugs) | F30: =Matrise!C31 -> 4.7
C31: =Matrise!B52 -> 6. DOCUMENTATION
B32: =Matrise!A53 -> 6.1 | C32: =Matrise!B53 -> Lifting certificate | F32: =Matrise!C53 -> 4.8
B33: =Matrise!A54 -> 6.2 | C33: =Matrise!B54 -> Other technical doc. (drawings, data.) | F33: =Matrise!C54 -> 4.8
B34: =Matrise!A55 -> 6.3 | C34: =Matrise!B55 -> Certificate for equip.with special requ. | F34: =Matrise!C55 -> 4.8
B35: =Matrise!A56 -> 6.4 | C35: =Matrise!B56 -> Maintenance programme | F35: =Matrise!C56 -> 4.8
B36: =Matrise!A57 -> 6.5 | C36: =Matrise!B57 -> Maintenance journal | F36: =Matrise!C57 -> 4.8
B37: =Matrise!A58 -> 6.6 | C37: =Matrise!B58 -> User manual | F37: =Matrise!C58 -> 4.8
A39: Supplier | D39: Supplier | H39: Company
A40: Competent person for lifting gir/mechanical devices | D40: Electrician | H40: Receiving control
A41: Date: | D41: Date: | H41: Date:
C43: Signature | E43: Signature | I43: Signature
C45: Name in capitals | E45: Name in capitals | I45: Name in capitals
B47: =Matrise!A88 -> 0

Sheet U10
A1: =Matrise!B3 -> NORSOK Z-015 CHECKLIST
B2: Equipment type : | D2: =Matrise!AB2 -> U10 | E2: =Matrise!AB3 -> Pneumatic / hydraulic pump equipment etc. | H2: =Matrise!H63 -> ID no.:
B4: =Matrise!B65 -> Approved for location in zone:
B5: =Matrise!B66 -> Zone 1 □ , Zone 2 □, Non-hazardous area □
B6: =Matrise!B67 -> Supplier: | E6: =Matrise!E67 -> Contact person contractor/telephone:
B8: =Matrise!B69 -> Company/installation container intended for: | E8: =Matrise!E69 -> Contact person/requisitioner in the company:
B11: =Matrise!B72 -> Person in the company responsible for prior approval, see 4.8.3:
B13: =Matrise!B74 -> Name: | F13: =Matrise!F74 -> Telephone: | I13: =Matrise!I74 -> Date approval received:
A16: =Matrise!A3 -> Control point | C16: =Matrise!B77 -> Status: | F16: =Matrise!E77 -> Ref. | G16: =Matrise!F77 -> Status | H16: =Matrise!G77 -> Receiving control (company) | I16: =Matrise!H77 -> Remarks
C17: =Matrise!B78 -> OK=Approved, NA=Not Applicable, NC=Not Checked, D=Defective or missing | F17: =Matrise!E78 -> Z-015 | G17: =Matrise!F78 -> supplier
C18: =Matrise!B5 -> 1. MECHANICAL
B19: =Matrise!A6 -> 1.1. | C19: =Matrise!B6 -> Signs tagging/labelling | F19: =Matrise!C6 -> 4.6
B20: =Matrise!A7 -> 1.2 | C20: =Matrise!B7 -> Annual inspection (lifting equipment, cert.) | F20: =Matrise!C7 -> 4.4.1
B21: =Matrise!A8 -> 1.3 | C21: =Matrise!B8 -> Mech. Cond. (lifting eyes/points, structure) | F21: =Matrise!C8 -> 4.4.1
B22: =Matrise!A14 -> 1.9 | C22: =Matrise!B14 -> Noise measurement carried out (supplier) | F22: =Matrise!C14 -> 4.4.8
C23: =Matrise!B23 -> 3. ELECTRICAL
B24: =Matrise!A24 -> 3.1 | C24: =Matrise!B24 -> Cables, glands, equipment etc. | F24: =Matrise!C24 -> 4.4.6.1
B25: =Matrise!A25 -> 3.2 | C25: =Matrise!B25 -> Insulation resistance - megger | F25: =Matrise!C25 -> 37107
B26: =Matrise!A26 -> 3.3 | C26: =Matrise!B26 -> Earthing (NB bonding of structure) | F26: =Matrise!C26 -> 4.4.6.3
B27: =Matrise!A27 -> 3.4 | C27: =Matrise!B27 -> All external installation Ex-proof | F27: =Matrise!C27 -> 4.5.1
C28: =Matrise!B30 -> 4. HOOK-UP TO INSTALLATION
B29: =Matrise!A31 -> 4.1 | C29: =Matrise!B31 -> Power supply (voltage, freq., plugs) | F29: =Matrise!C31 -> 4.7
B30: =Matrise!A35 -> 4.5 | C30: =Matrise!B35 -> Shutdown (ESD) from CCR (for battery system etc.) | F30: =Matrise!C35 -> 4.4.3
C31: =Matrise!B36 -> 5. EQUIPMENT
B32: =Matrise!A37 -> 5.1 | C32: =Matrise!B37 -> Manual emergency stop | F32: =Matrise!C37 -> 4.4.8
B33: =Matrise!A39 -> 5.3 | C33: =Matrise!B39 -> Drip trays | F33: =Matrise!C39 -> 4.3.1
C35: =Matrise!B52 -> 6. DOCUMENTATION
B36: =Matrise!A53 -> 6.1 | C36: =Matrise!B53 -> Lifting certificate | F36: =Matrise!C53 -> 4.8
B37: =Matrise!A54 -> 6.2 | C37: =Matrise!B54 -> Other technical doc. (drawings, data.) | F37: =Matrise!C54 -> 4.8
B38: =Matrise!A55 -> 6.3 | C38: =Matrise!B55 -> Certificate for equip.with special requ. | F38: =Matrise!C55 -> 4.8
B39: =Matrise!A56 -> 6.4 | C39: =Matrise!B56 -> Maintenance programme | F39: =Matrise!C56 -> 4.8
B40: =Matrise!A57 -> 6.5 | C40: =Matrise!B57 -> Maintenance journal | F40: =Matrise!C57 -> 4.8
B41: =Matrise!A58 -> 6.6 | C41: =Matrise!B58 -> User manual | F41: =Matrise!C58 -> 4.8
A43: Supplier | D43: Supplier | H43: Company
A44: Competent person for lifting gir/mechanical devices | D44: Electrician | H44: Receiving control
A45: Date: | D45: Date: | H45: Date:
C47: Signature | E47: Signature | I47: Signature
C49: Name in capitals | E49: Name in capitals | I49: Name in capitals
B51: =Matrise!A88 -> 0

Sheet U98
A1: =Matrise!B3 -> NORSOK Z-015 CHECKLIST
B2: Equipment type : | D2: =Matrise!AC2 -> U98 | E2: =Matrise!AC3 -> Non-Ex-proof equipment on skid | H2: =Matrise!H63 -> ID no.:
B4: =Matrise!B65 -> Approved for location in zone:
B5: =Matrise!B66 -> Zone 1 □ , Zone 2 □, Non-hazardous area □
B6: =Matrise!B67 -> Supplier: | E6: =Matrise!E67 -> Contact person contractor/telephone:
B8: =Matrise!B69 -> Company/installation container intended for: | E8: =Matrise!E69 -> Contact person/requisitioner in the company:
B11: =Matrise!B72 -> Person in the company responsible for prior approval, see 4.8.3:
B13: =Matrise!B74 -> Name: | F13: =Matrise!F74 -> Telephone: | I13: =Matrise!I74 -> Date approval received:
A16: =Matrise!A3 -> Control point | C16: =Matrise!B77 -> Status: | F16: =Matrise!E77 -> Ref. | G16: =Matrise!F77 -> Status | H16: =Matrise!G77 -> Receiving control (company) | I16: =Matrise!H77 -> Remarks
C17: =Matrise!B78 -> OK=Approved, NA=Not Applicable, NC=Not Checked, D=Defective or missing | F17: =Matrise!E78 -> Z-015 | G17: =Matrise!F78 -> supplier
C18: =Matrise!B4 -> Skal ikke plasseres i eksplosjonsfarlig område
C19: =Matrise!B5 -> 1. MECHANICAL
B20: =Matrise!A6 -> 1.1. | C20: =Matrise!B6 -> Signs tagging/labelling | F20: =Matrise!C6 -> 4.6
B21: =Matrise!A7 -> 1.2 | C21: =Matrise!B7 -> Annual inspection (lifting equipment, cert.) | F21: =Matrise!C7 -> 4.4.1
B22: =Matrise!A8 -> 1.3 | C22: =Matrise!B8 -> Mech. Cond. (lifting eyes/points, structure) | F22: =Matrise!C8 -> 4.4.1
C23: =Matrise!B23 -> 3. ELECTRICAL
B24: =Matrise!A24 -> 3.1 | C24: =Matrise!B24 -> Cables, glands, equipment etc. | F24: =Matrise!C24 -> 4.4.6.1
B25: =Matrise!A25 -> 3.2 | C25: =Matrise!B25 -> Insulation resistance - megger | F25: =Matrise!C25 -> 37107
B26: =Matrise!A26 -> 3.3 | C26: =Matrise!B26 -> Earthing (NB bonding of structure) | F26: =Matrise!C26 -> 4.4.6.3
B27: =Matrise!A27 -> 3.4 | C27: =Matrise!B27 -> All external installation Ex-proof | F27: =Matrise!C27 -> 4.5.1
C28: =Matrise!B30 -> 4. HOOK-UP TO INSTALLATION
B29: =Matrise!A31 -> 4.1 | C29: =Matrise!B31 -> Power supply (voltage, freq., plugs) | F29: =Matrise!C31 -> 4.7
B30: =Matrise!A34 -> 4.4 | C30: =Matrise!B34 -> Alarm signal to control room with plug | F30: =Matrise!C34 -> 4.7
C31: =Matrise!B52 -> 6. DOCUMENTATION
B32: =Matrise!A53 -> 6.1 | C32: =Matrise!B53 -> Lifting certificate | F32: =Matrise!C53 -> 4.8
B33: =Matrise!A54 -> 6.2 | C33: =Matrise!B54 -> Other technical doc. (drawings, data.) | F33: =Matrise!C54 -> 4.8
B34: =Matrise!A55 -> 6.3 | C34: =Matrise!B55 -> Certificate for equip.with special requ. | F34: =Matrise!C55 -> 4.8
B35: =Matrise!A56 -> 6.4 | C35: =Matrise!B56 -> Maintenance programme | F35: =Matrise!C56 -> 4.8
B36: =Matrise!A57 -> 6.5 | C36: =Matrise!B57 -> Maintenance journal | F36: =Matrise!C57 -> 4.8
B37: =Matrise!A58 -> 6.6 | C37: =Matrise!B58 -> User manual | F37: =Matrise!C58 -> 4.8
A39: Supplier | D39: Supplier | H39: Company
A40: Competent person for lifting gir/mechanical devices | D40: Electrician | H40: Receiving control
A41: Date: | D41: Date: | H41: Date:
C43: Signature | E43: Signature | I43: Signature
C45: Name in capitals | E45: Name in capitals | I45: Name in capitals
B47: =Matrise!A88 -> 0

Sheet U99
A1: =Matrise!B3 -> NORSOK Z-015 CHECKLIST
B2: Equipment type : | D2: =Matrise!AD2 -> U99 | E2: =Matrise!AD3 -> EX-proof equipment on skid | H2: =Matrise!H63 -> ID no.:
B4: =Matrise!B65 -> Approved for location in zone:
B5: =Matrise!B66 -> Zone 1 □ , Zone 2 □, Non-hazardous area □
B6: =Matrise!B67 -> Supplier: | E6: =Matrise!E67 -> Contact person contractor/telephone:
B8: =Matrise!B69 -> Company/installation container intended for: | E8: =Matrise!E69 -> Contact person/requisitioner in the company:
B11: =Matrise!B72 -> Person in the company responsible for prior approval, see 4.8.3:
B13: =Matrise!B74 -> Name: | F13: =Matrise!F74 -> Telephone: | I13: =Matrise!I74 -> Date approval received:
A16: =Matrise!A3 -> Control point | C16: =Matrise!B77 -> Status: | F16: =Matrise!E77 -> Ref. | G16: =Matrise!F77 -> Status | H16: =Matrise!G77 -> Receiving control (company) | I16: =Matrise!H77 -> Remarks
C17: =Matrise!B78 -> OK=Approved, NA=Not Applicable, NC=Not Checked, D=Defective or missing | F17: =Matrise!E78 -> Z-015 | G17: =Matrise!F78 -> supplier
C18: =Matrise!B5 -> 1. MECHANICAL
B19: =Matrise!A6 -> 1.1. | C19: =Matrise!B6 -> Signs tagging/labelling | F19: =Matrise!C6 -> 4.6
B20: =Matrise!A7 -> 1.2 | C20: =Matrise!B7 -> Annual inspection (lifting equipment, cert.) | F20: =Matrise!C7 -> 4.4.1
B21: =Matrise!A8 -> 1.3 | C21: =Matrise!B8 -> Mech. Cond. (lifting eyes/points, structure) | F21: =Matrise!C8 -> 4.4.1
C22: =Matrise!B15 -> 2. FIRE, GAS AND SAFETY
C24: =Matrise!B23 -> 3. ELECTRICAL
B25: =Matrise!A24 -> 3.1 | C25: =Matrise!B24 -> Cables, glands, equipment etc. | F25: =Matrise!C24 -> 4.4.6.1
B26: =Matrise!A25 -> 3.2 | C26: =Matrise!B25 -> Insulation resistance - megger | F26: =Matrise!C25 -> 37107
B27: =Matrise!A26 -> 3.3 | C27: =Matrise!B26 -> Earthing (NB bonding of structure) | F27: =Matrise!C26 -> 4.4.6.3
B28: =Matrise!A27 -> 3.4 | C28: =Matrise!B27 -> All external installation Ex-proof | F28: =Matrise!C27 -> 4.5.1
B29: =Matrise!A28 -> 3.5 | C29: =Matrise!B28 -> All internal installation Ex-proof | F29: =Matrise!C28 -> 4.5.1
C30: =Matrise!B30 -> 4. HOOK-UP TO INSTALLATION
B31: =Matrise!A31 -> 4.1 | C31: =Matrise!B31 -> Power supply (voltage, freq., plugs) | F31: =Matrise!C31 -> 4.7
B32: =Matrise!A34 -> 4.4 | C32: =Matrise!B34 -> Alarm signal to control room with plug | F32: =Matrise!C34 -> 4.7
C33: =Matrise!B36 -> 5. EQUIPMENT
B34: =Matrise!A37 -> 5.1 | C34: =Matrise!B37 -> Manual emergency stop | F34: =Matrise!C37 -> 4.4.8
B35: =Matrise!A48 -> 5.12 | C35: =Matrise!B48 -> Safety valve | F35: =Matrise!C48 -> 4.3.3
C36: =Matrise!B52 -> 6. DOCUMENTATION
B37: =Matrise!A53 -> 6.1 | C37: =Matrise!B53 -> Lifting certificate | F37: =Matrise!C53 -> 4.8
B38: =Matrise!A54 -> 6.2 | C38: =Matrise!B54 -> Other technical doc. (drawings, data.) | F38: =Matrise!C54 -> 4.8
B39: =Matrise!A55 -> 6.3 | C39: =Matrise!B55 -> Certificate for equip.with special requ. | F39: =Matrise!C55 -> 4.8
B40: =Matrise!A56 -> 6.4 | C40: =Matrise!B56 -> Maintenance programme | F40: =Matrise!C56 -> 4.8
B41: =Matrise!A57 -> 6.5 | C41: =Matrise!B57 -> Maintenance journal | F41: =Matrise!C57 -> 4.8
B42: =Matrise!A58 -> 6.6 | C42: =Matrise!B58 -> User manual | F42: =Matrise!C58 -> 4.8
A44: Supplier | D44: Supplier | H44: Company
A45: Competent person for lifting gir/mechanical devices | D45: Electrician | H45: Receiving control
A46: Date: | D46: Date: | H46: Date:
C48: Signature | E48: Signature | I48: Signature
C50: Name in capitals | E50: Name in capitals | I50: Name in capitals
B52: =Matrise!A88 -> 0

Sheet Ark30
